BEGIN:VCALENDAR
VERSION:2.0
PRODID:-//elblandwerker* - ECPv6.15.20//NONSGML v1.0//EN
CALSCALE:GREGORIAN
METHOD:PUBLISH
X-ORIGINAL-URL:https://elblandwerker.de
X-WR-CALDESC:Veranstaltungen für elblandwerker*
REFRESH-INTERVAL;VALUE=DURATION:PT1H
X-Robots-Tag:noindex
X-PUBLISHED-TTL:PT1H
BEGIN:VTIMEZONE
TZID:Europe/Berlin
BEGIN:DAYLIGHT
TZOFFSETFROM:+0100
TZOFFSETTO:+0200
TZNAME:CEST
DTSTART:20240331T010000
END:DAYLIGHT
BEGIN:STANDARD
TZOFFSETFROM:+0200
TZOFFSETTO:+0100
TZNAME:CET
DTSTART:20241027T010000
END:STANDARD
BEGIN:DAYLIGHT
TZOFFSETFROM:+0100
TZOFFSETTO:+0200
TZNAME:CEST
DTSTART:20250330T010000
END:DAYLIGHT
BEGIN:STANDARD
TZOFFSETFROM:+0200
TZOFFSETTO:+0100
TZNAME:CET
DTSTART:20251026T010000
END:STANDARD
BEGIN:DAYLIGHT
TZOFFSETFROM:+0100
TZOFFSETTO:+0200
TZNAME:CEST
DTSTART:20260329T010000
END:DAYLIGHT
BEGIN:STANDARD
TZOFFSETFROM:+0200
TZOFFSETTO:+0100
TZNAME:CET
DTSTART:20261025T010000
END:STANDARD
END:VTIMEZONE
BEGIN:VEVENT
DTSTART;TZID=Europe/Berlin:20250822T163000
DTEND;TZID=Europe/Berlin:20250822T180000
DTSTAMP:20260421T102756
CREATED:20250715T114457Z
LAST-MODIFIED:20250715T114458Z
UID:10004500-1755880200-1755885600@elblandwerker.de
SUMMARY:Von Spinnen und Menschen: Eine verwobene Beziehung - Lesung auf dem Solarboot Smüster Elw mit Jan Mohnhaupt
DESCRIPTION:🌟 Lesung auf dem Boot: “Von Spinnen und Menschen” 🌟 \nTauche ein in die faszinierende Welt der Spinnen! In seinem Buch “Von Spinnen und Menschen” zeigt Jan Mohnhaupt\, wie eng das Beziehungsgeflecht zwischen Mensch und Spinne ist. Egal\, ob bewundert für ihre kunstvollen Netze oder gefürchtet – Spinnen regen unsere Fantasie an und lösen oft unbegründete Ängste aus. \nWarum wurde Napoleon mit einer Spinne verglichen? Welche Rolle spielt die christliche Symbolik in unserer Abneigung? Und wieso haben Spinnen sogar einen Platz in Weltraummissionen? \n📚 Lesung und Diskussion auf dem Boot:\nLass dich von Jan Mohnhaupt in eine Welt entführen\, in der Spinnen mehr sind als nur Ekelobjekte. Erfahre\, welche kulturellen und geschichtlichen Aspekte uns mit diesen faszinierenden Geschöpfen verbinden. Während wir entspannt auf der Elbe dahingleiten\, hast du die Möglichkeit\, Fragen zu stellen und dich auszutauschen. \nAnmeldung bis 2 Werktage vorher erforderlich unter 038792 1221 oder info@burg-lenzen.de
URL:https://elblandwerker.de/veranstaltungen/von-spinnen-und-menschen-eine-verwobene-beziehung-lesung-auf-dem-solarboot-smuester-elw-mit-jan-mohnhaupt/
LOCATION:Lenzener Hafen\, Lenzener Hafen\, Lenzen\, 19309
CATEGORIES:Essen,Fest,Kinder,Musik,Natur,Sport,Theater,Unterhaltung,Workshop
ORGANIZER;CN="BUND-Besucherzentrum Burg Lenzen":MAILTO:info@burg-lenzen.de
END:VEVENT
BEGIN:VEVENT
DTSTART;TZID=Europe/Berlin:20250807T180000
DTEND;TZID=Europe/Berlin:20250807T193000
DTSTAMP:20260421T102756
CREATED:20250516T123342Z
LAST-MODIFIED:20250516T123342Z
UID:10003661-1754589600-1754595000@elblandwerker.de
SUMMARY:Atemfluss - Bootstour auf der Elbe mit Atemkurs
DESCRIPTION:Entdecke die Kraft von Körper\, Geist und Seele auf unserer einzigartigen Bootstour! 🚣‍♀️💖 \nBegleitet von der erfahrenen Atemtherapeutin Gertrud Rohloff-Hecker\, tauchst du in eine neue Art der Selbstentdeckung ein. Spüre die Stärke\, Offenheit und Gelassenheit\, die in dir schlummert. \nWährend wir mit unserem Solarboot “Smüster Elw” sanft über das Wasser gleiten\, lassen wir uns von der Weite der Landschaft und den beruhigenden Klängen der Natur verzaubern. Der Wind streicht über unsere Haut\, die Sonne wärmt uns und unser Atem fließt im Einklang mit der Natur. 🌞🍃 \nAnmeldung im BUND-Besucherzentrum Burg Lenzen bis 2 Tage vor der Veranstaltung erforderlich.
URL:https://elblandwerker.de/veranstaltungen/atemfluss-bootstour-auf-der-elbe-mit-atemkurs/2025-08-07/
LOCATION:Lenzener Hafen\, Lenzener Hafen\, Lenzen\, 19309
CATEGORIES:Natur
ATTACH;FMTTYPE=image/jpeg:https://elblandwerker.de/wp-content/uploads/2025/05/2025.06.12_Atemfluss_Dieter_Damschen_Elbe_Ufer-4-scaled.jpg
ORGANIZER;CN="BUND-Auenzentrum Burg Lenzen":MAILTO:info@burg-lenzen.de
END:VEVENT
BEGIN:VEVENT
DTSTART;TZID=Europe/Berlin:20250713T080000
DTEND;TZID=Europe/Berlin:20250713T170000
DTSTAMP:20260421T102756
CREATED:20250714T090538Z
LAST-MODIFIED:20250714T090538Z
UID:10004484-1752393600-1752426000@elblandwerker.de
SUMMARY:Der geregelte Fluss: Was machen Buhnen an der Elbe? - Bootstour auf der Elbe mit Dr. Meike Kleinwächter vom BUND-Auenzentrum
DESCRIPTION:Hast du dich schon mal gefragt\, welche Bedeutung die Steindämme im Fluss haben? Diese Buhnen schützen das Ufer und lenken das Wasser in die Mitte\, damit die Schifffahrt genügend Wassertiefen hat. Und was machen Sie mit der Elbe? Begleite Meike Kleinwächter vom BUND-Auenzentrum und erfahre\, warum auf fast jeder Buhne ein Angler steht und welche besonderen Lebensräume dazwischen entstehen. \nAnmeldung bis 2 Werktage vorher im BUND-Besucherzentrum erforderlich!
URL:https://elblandwerker.de/veranstaltungen/der-geregelte-fluss-was-machen-buhnen-an-der-elbe-bootstour-auf-der-elbe-mit-dr-meike-kleinwaechter-vom-bund-auenzentrum/
LOCATION:Lenzener Hafen\, Lenzener Hafen\, Lenzen\, 19309
CATEGORIES:Musik,Nachhaltigkeit,Natur,Sport,Workshop
ATTACH;FMTTYPE=image/jpeg:https://elblandwerker.de/wp-content/uploads/2025/07/2025.07.25_Buhnen_Annika-Badenhop-scaled.jpg
ORGANIZER;CN="BUND-Besucherzentrum Burg Lenzen":MAILTO:info@burg-lenzen.de
END:VEVENT
BEGIN:VEVENT
DTSTART;TZID=Europe/Berlin:20250710T180000
DTEND;TZID=Europe/Berlin:20250710T193000
DTSTAMP:20260421T102756
CREATED:20250516T123342Z
LAST-MODIFIED:20250516T123342Z
UID:10003660-1752170400-1752175800@elblandwerker.de
SUMMARY:Atemfluss - Bootstour auf der Elbe mit Atemkurs
DESCRIPTION:Entdecke die Kraft von Körper\, Geist und Seele auf unserer einzigartigen Bootstour! 🚣‍♀️💖 \nBegleitet von der erfahrenen Atemtherapeutin Gertrud Rohloff-Hecker\, tauchst du in eine neue Art der Selbstentdeckung ein. Spüre die Stärke\, Offenheit und Gelassenheit\, die in dir schlummert. \nWährend wir mit unserem Solarboot “Smüster Elw” sanft über das Wasser gleiten\, lassen wir uns von der Weite der Landschaft und den beruhigenden Klängen der Natur verzaubern. Der Wind streicht über unsere Haut\, die Sonne wärmt uns und unser Atem fließt im Einklang mit der Natur. 🌞🍃 \nAnmeldung im BUND-Besucherzentrum Burg Lenzen bis 2 Tage vor der Veranstaltung erforderlich.
URL:https://elblandwerker.de/veranstaltungen/atemfluss-bootstour-auf-der-elbe-mit-atemkurs/2025-07-10/
LOCATION:Lenzener Hafen\, Lenzener Hafen\, Lenzen\, 19309
CATEGORIES:Natur
ATTACH;FMTTYPE=image/jpeg:https://elblandwerker.de/wp-content/uploads/2025/05/2025.06.12_Atemfluss_Dieter_Damschen_Elbe_Ufer-4-scaled.jpg
ORGANIZER;CN="BUND-Auenzentrum Burg Lenzen":MAILTO:info@burg-lenzen.de
END:VEVENT
BEGIN:VEVENT
DTSTART;TZID=Europe/Berlin:20250628T150000
DTEND;TZID=Europe/Berlin:20250628T170000
DTSTAMP:20260421T102756
CREATED:20250619T151606Z
LAST-MODIFIED:20250619T151606Z
UID:10003697-1751122800-1751130000@elblandwerker.de
SUMMARY:Imkern um die Welt - Der SALON TIER zu Gast auf dem Solarboot Smüster Elw mit dem Kulturwissenschaftler Dr. Martin Gruber
DESCRIPTION:Am 28. Juni 2025 findet der SALON TIER auf dem Solarboot des BUND-Besucherzentrums Burg Lenzen statt. Als besonderen Gast begrüßen wir den Ethnologen Dr. Martin Gruber von der Universität Bremen\, der während einer Elbfahrt über traditionelle Imkerei in Japan und Kamerun berichten wird. Beginn ist um 15 Uhr am Lenzener Hafen. Eine Anmeldung im Besucherzentrum ist erforderlich. \nDer Bienenforscher Martin Gruber begleitet und befragt seit vielen Jahren Menschen\, die imkern\, Honig wildlebender Bienen sammeln oder mit Honig handeln. Dabei erforscht er die vielfältigen Beziehungen zwischen Menschen und Bienen in Kamerun\, Deutschland und Japan. Welche kulturelle Bedeutung haben Bienen in der jeweiligen Kultur? Und wie kann man Bienen besser schützen? In seiner Forschung verbindet er Wissenschaft und Kultur\, um das Verhältnis zwischen Mensch und Biene besser zu verstehen. \nSei dabei\, wenn sich unser Solarboot in einen modernen Salon verwandelt! Teile deine Erfahrungen und Gedanken zum Zusammenleben von Mensch und Tier. Ursprünglich waren Salons im 18. und 19. Jahrhundert Orte des Austauschs\, wo Künstler:innen\, Wissenschaftler:innen und Denker:innen wichtige gesellschaftliche Themen diskutierten. Heute öffnet sich der SALON TIER allen Interessierten – egal ob Fachleute oder Neugierige –\, um gemeinsam ins Gespräch zu kommen. Der SALON TIER ist Teil des Forschungsfeldes wohnen+/-ausstellen an der Universität Bremen und wird in Kooperation mit dem Mariann Steegmann Institut. Kunst & Gender veranstaltet. \nAnmeldung im Besucherzentrum Burg Lenzen bis 2 Werktage vorher erforderlich unter: info@burg-lenzen.de oder 038792 1221
URL:https://elblandwerker.de/veranstaltungen/imkern-um-die-welt-der-salon-tier-zu-gast-auf-dem-solarboot-smuester-elw-mit-dem-kulturwissenschaftler-dr-martin-gruber/
LOCATION:Lenzener Hafen\, Lenzener Hafen\, Lenzen\, 19309
CATEGORIES:Nachhaltigkeit,Natur
ATTACH;FMTTYPE=image/jpeg:https://elblandwerker.de/wp-content/uploads/2025/06/2025.06.28_Imkern_LukasHaeuser-scaled.jpg
ORGANIZER;CN="BUND-Besucherzentrum Burg Lenzen":MAILTO:info@burg-lenzen.de
END:VEVENT
BEGIN:VEVENT
DTSTART;TZID=Europe/Berlin:20250626T170000
DTEND;TZID=Europe/Berlin:20250626T190000
DTSTAMP:20260421T102756
CREATED:20250619T151630Z
LAST-MODIFIED:20250619T151630Z
UID:10003696-1750957200-1750964400@elblandwerker.de
SUMMARY:Kreativität im Fluss: Landschaft auf Papier zaubern - Workshop mit Gelplattendruck auf dem Solarboot Smüster Elw
DESCRIPTION:Bist du bereit\, die Schönheit der Flusslandschaft auf eine ganz neue Art und Weise einzufangen? Dann begleite uns auf einer inspirierenden Bootstour auf der Elbe mit unserem Solarboot Smüster Elw! \nKatja Chocholowicz wird dich in die Technik des Gelplattendrucks\, auch bekannt als Gelli Print\, einführen. So kannst du die faszinierenden Motive der Landschaft festhalten! Während die Smüster Elw sanft über das Wasser gleitet\, hast du die Möglichkeit\, die Umgebung zu beobachten und deine kreativen Ideen in beeindruckende Drucke umzusetzen. \nEgal\, ob du Anfänger/in oder erfahrene/r Künstler/in bist – jede/r ist herzlich willkommen! Lass deiner Kreativität freien Lauf und genieße die entspannende Atmosphäre der Natur! \nAlle benötigten Materialien werden für einen Unkostenbeitrag von 5 € zur Verfügung gestellt. Sei dabei und erlebe einen unvergesslichen Tag voller Kreativität und Inspiration! \nAnmeldung bis 2 Werktage im Besucherzentrum Burg Lenzen erforderlich unter: info@burg-lenzen.de oder 038792 1221
URL:https://elblandwerker.de/veranstaltungen/kreativitaet-im-fluss-landschaft-auf-papier-zaubern-workshop-mit-gelplattendruck-auf-dem-solarboot-smuester-elw/
LOCATION:Lenzener Hafen\, Lenzener Hafen\, Lenzen\, 19309
CATEGORIES:Natur,Workshop
ATTACH;FMTTYPE=image/jpeg:https://elblandwerker.de/wp-content/uploads/2025/06/2025.06.26_Kreativitaet-im-Fluss-Katja-scaled.jpg
ORGANIZER;CN="BUND-Besucherzentrum Burg Lenzen":MAILTO:info@burg-lenzen.de
END:VEVENT
BEGIN:VEVENT
DTSTART;TZID=Europe/Berlin:20250622T150000
DTEND;TZID=Europe/Berlin:20250622T170000
DTSTAMP:20260421T102756
CREATED:20250619T151635Z
LAST-MODIFIED:20250619T151635Z
UID:10003695-1750604400-1750611600@elblandwerker.de
SUMMARY:Mit Gummistiefel und Aktentasche: Hochwasser- und Naturschutz in einem Boot - Bootstour mit Maria Lindow (BUND-Auenzentrum) und Bernd Lindow (ehem. Leiter der Umweltbehörde des Landkreises Prignitz und langjähriger Fachberater Hochwasserschutz des Landrates)
DESCRIPTION:Das BUND-Besucherzentrum Burg Lenzen lädt am 22. Juni 2025 um 15:00 auf das Solarboot “Smüster Elw” ein\, um mit 2 Experten über Natur- und Hochwasserschutz an der Elbe ins Gespräch zu kommen.\nDie Veranstaltung bietet eine Gelegenheit\, tiefere Einblicke in die komplexen Zusammenhänge zwischen Naturschutz und Hochwasserschutz am Beispiel der Deichrückverlegung bei Lenzen zu gewinnen.\nMaria Lindow vom BUND-Auenzentrum und Bernd Lindow\, ehemaligen Leiter der Umweltbehörde des Landkreises Prignitz sowie langjährigem Fachberater für Hochwasserschutz\, werden die Teilnehmenden in die strategischen\nÜberlegungen zur Deichrückverlegung in Lenzen einführen. In einem lebendigen Austausch werden sowohl die Synergien als auch die Differenzen in der Planung\, Realisierung und den Wirkungen des bedeutenden Naturschutzgroßprojekts\nbeleuchtet. Während der Fahrt haben Sie die Möglichkeit\, aktiv mitzudiskutieren\, Fragen zu stellen und natürlich die sommerliche Elbatmosphäre zu genießen. \nAnmeldung im Besucherzentrum Burg Lenzen bis 2 Werktage vorher erforderlich unter: info@burg-lenzen.de oder 038792 1221
URL:https://elblandwerker.de/veranstaltungen/mit-gummistiefel-und-aktentasche-hochwasser-und-naturschutz-in-einem-boot-bootstour-mit-maria-lindow-bund-auenzentrum-und-bernd-lindow-ehem-leiter-der-umweltbehoerde-des-landkreises-prignitz-u/2025-06-22/2/
LOCATION:Lenzener Hafen\, Lenzener Hafen\, Lenzen\, 19309
CATEGORIES:Natur
ATTACH;FMTTYPE=image/jpeg:https://elblandwerker.de/wp-content/uploads/2025/06/2025.07.25_Buhnen_Annika-Badenhop-scaled.jpg
ORGANIZER;CN="BUND-Besucherzentrum Burg Lenzen":MAILTO:info@burg-lenzen.de
END:VEVENT
BEGIN:VEVENT
DTSTART;TZID=Europe/Berlin:20250622T080000
DTEND;TZID=Europe/Berlin:20250622T170000
DTSTAMP:20260421T102756
CREATED:20250619T151635Z
LAST-MODIFIED:20250619T151635Z
UID:10003694-1750579200-1750611600@elblandwerker.de
SUMMARY:Mit Gummistiefel und Aktentasche: Hochwasser- und Naturschutz in einem Boot - Bootstour mit Maria Lindow (BUND-Auenzentrum) und Bernd Lindow (ehem. Leiter der Umweltbehörde des Landkreises Prignitz und langjähriger Fachberater Hochwasserschutz des Landrates)
DESCRIPTION:Das BUND-Besucherzentrum Burg Lenzen lädt am 22. Juni 2025 um 15:00 auf das Solarboot “Smüster Elw” ein\, um mit 2 Experten über Natur- und Hochwasserschutz an der Elbe ins Gespräch zu kommen.\nDie Veranstaltung bietet eine Gelegenheit\, tiefere Einblicke in die komplexen Zusammenhänge zwischen Naturschutz und Hochwasserschutz am Beispiel der Deichrückverlegung bei Lenzen zu gewinnen.\nMaria Lindow vom BUND-Auenzentrum und Bernd Lindow\, ehemaligen Leiter der Umweltbehörde des Landkreises Prignitz sowie langjährigem Fachberater für Hochwasserschutz\, werden die Teilnehmenden in die strategischen\nÜberlegungen zur Deichrückverlegung in Lenzen einführen. In einem lebendigen Austausch werden sowohl die Synergien als auch die Differenzen in der Planung\, Realisierung und den Wirkungen des bedeutenden Naturschutzgroßprojekts\nbeleuchtet. Während der Fahrt haben Sie die Möglichkeit\, aktiv mitzudiskutieren\, Fragen zu stellen und natürlich die sommerliche Elbatmosphäre zu genießen. \nAnmeldung im Besucherzentrum Burg Lenzen bis 2 Werktage vorher erforderlich unter: info@burg-lenzen.de oder 038792 1221
URL:https://elblandwerker.de/veranstaltungen/mit-gummistiefel-und-aktentasche-hochwasser-und-naturschutz-in-einem-boot-bootstour-mit-maria-lindow-bund-auenzentrum-und-bernd-lindow-ehem-leiter-der-umweltbehoerde-des-landkreises-prignitz-u/2025-06-22/1/
LOCATION:Lenzener Hafen\, Lenzener Hafen\, Lenzen\, 19309
CATEGORIES:Natur
ATTACH;FMTTYPE=image/jpeg:https://elblandwerker.de/wp-content/uploads/2025/06/2025.07.25_Buhnen_Annika-Badenhop-scaled.jpg
ORGANIZER;CN="BUND-Besucherzentrum Burg Lenzen":MAILTO:info@burg-lenzen.de
END:VEVENT
BEGIN:VEVENT
DTSTART;TZID=Europe/Berlin:20250620T170000
DTEND;TZID=Europe/Berlin:20250620T183000
DTSTAMP:20260421T102756
CREATED:20250617T195617Z
LAST-MODIFIED:20250617T195617Z
UID:10003689-1750438800-1750444200@elblandwerker.de
SUMMARY:Yoga mit Klangreise auf der Elbe - Yoga und Handpan auf dem Solarboot Smüster Elw
DESCRIPTION:Yoga und Handpan auf dem Boot. Genieße eine einzigartige Sinnes- und Naturerfahrung auf der Elbe! Lass dich von den beruhigenden Klängen des Handpans verzaubern\, während du sanfte Yoga-Bewegungen inmitten einer atemberaubenden Naturkulisse erlebst. Diese Bootsfahrt mit der “Smüster Elw” ist einfach nur wunderbar! \nEine Yogamatte\, genügend zu trinken und eine Decke/Pullover nicht vergessen! \nAnmeldung im BUND-Besucherzentrum Burg Lenzen bis 2 Tage vor der Veranstaltung erforderlich unter: info@burg-lenzen.de oder 038792 1221
URL:https://elblandwerker.de/veranstaltungen/yoga-mit-klangreise-auf-der-elbe-yoga-und-handpan-auf-dem-solarboot-smuester-elw/
LOCATION:Lenzener Hafen\, Lenzener Hafen\, Lenzen\, 19309
CATEGORIES:Gesundheit,Musik,Natur,Sport
ATTACH;FMTTYPE=image/png:https://elblandwerker.de/wp-content/uploads/2025/06/2025.06.20_Yoga-mit-Klangreise_DieterDamschen.png
ORGANIZER;CN="BUND-Besucherzentrum Burg Lenzen":MAILTO:info@burg-lenzen.de
END:VEVENT
BEGIN:VEVENT
DTSTART;TZID=Europe/Berlin:20250619T080000
DTEND;TZID=Europe/Berlin:20250619T170000
DTSTAMP:20260421T102756
CREATED:20250619T151553Z
LAST-MODIFIED:20250619T151553Z
UID:10003699-1750320000-1750352400@elblandwerker.de
SUMMARY:Krimifahrt „Tödliches Geheimnis hinter dem Deich“ - Interaktives Spiel auf dem Solarboot Smüster Elw
DESCRIPTION:Steig ein und decke gemeinsam mit anderen Passagieren einen mysteriösen Kriminalfall auf! Während der Fahrt auf der Elbe erfährst du von einer entdeckten Leiche – und nun bist du gefragt! \nSchlüpfe in deine Rolle und rekonstruiere den Tathergang. Was geschah in der schicksalhaften Nacht? Welches Geheimnis verbirgt der Angler? Stecken die Bürgermeisterin und der Ornithologe unter einer Decke? \nDeine persönliche Rolle erhältst du einige Tage vor der Veranstaltung per E-Mail. Komm gerne passend zu deinem Charakter gekleidet! \nMelde dich jetzt an unter info@burg-lenzen.de und sei dabei! Wir freuen uns auf dich!
URL:https://elblandwerker.de/veranstaltungen/krimifahrt-toedliches-geheimnis-hinter-dem-deich-interaktives-spiel-auf-dem-solarboot-smuester-elw/
LOCATION:Lenzener Hafen\, Lenzener Hafen\, Lenzen\, 19309
CATEGORIES:Natur
ATTACH;FMTTYPE=image/png:https://elblandwerker.de/wp-content/uploads/2025/06/2025.07.02_Krimifahrt.png
ORGANIZER;CN="BUND-Besucherzentrum Burg Lenzen":MAILTO:info@burg-lenzen.de
END:VEVENT
BEGIN:VEVENT
DTSTART;TZID=Europe/Berlin:20250612T180000
DTEND;TZID=Europe/Berlin:20250612T193000
DTSTAMP:20260421T102756
CREATED:20250516T123342Z
LAST-MODIFIED:20250516T123342Z
UID:10003659-1749751200-1749756600@elblandwerker.de
SUMMARY:Atemfluss - Bootstour auf der Elbe mit Atemkurs
DESCRIPTION:Entdecke die Kraft von Körper\, Geist und Seele auf unserer einzigartigen Bootstour! 🚣‍♀️💖 \nBegleitet von der erfahrenen Atemtherapeutin Gertrud Rohloff-Hecker\, tauchst du in eine neue Art der Selbstentdeckung ein. Spüre die Stärke\, Offenheit und Gelassenheit\, die in dir schlummert. \nWährend wir mit unserem Solarboot “Smüster Elw” sanft über das Wasser gleiten\, lassen wir uns von der Weite der Landschaft und den beruhigenden Klängen der Natur verzaubern. Der Wind streicht über unsere Haut\, die Sonne wärmt uns und unser Atem fließt im Einklang mit der Natur. 🌞🍃 \nAnmeldung im BUND-Besucherzentrum Burg Lenzen bis 2 Tage vor der Veranstaltung erforderlich.
URL:https://elblandwerker.de/veranstaltungen/atemfluss-bootstour-auf-der-elbe-mit-atemkurs/2025-06-12/
LOCATION:Lenzener Hafen\, Lenzener Hafen\, Lenzen\, 19309
CATEGORIES:Natur
ATTACH;FMTTYPE=image/jpeg:https://elblandwerker.de/wp-content/uploads/2025/05/2025.06.12_Atemfluss_Dieter_Damschen_Elbe_Ufer-4-scaled.jpg
ORGANIZER;CN="BUND-Auenzentrum Burg Lenzen":MAILTO:info@burg-lenzen.de
END:VEVENT
BEGIN:VEVENT
DTSTART;TZID=Europe/Berlin:20250604T163000
DTEND;TZID=Europe/Berlin:20250604T183000
DTSTAMP:20260421T102756
CREATED:20250310T141350Z
LAST-MODIFIED:20250531T110422Z
UID:10003547-1749054600-1749061800@elblandwerker.de
SUMMARY:Bootstour auf der Elbe mit Infos zur Vogelwelt am ehemaligen Grenzstreifen
DESCRIPTION:Wusstest Du\, dass der ehemalige Grenzstreifen\, das „Grüne Band“\, ein Refugium für über 1.200 seltene und gefährdete Pflanzen- und Tierarten ist? Während sich die Landschaft andernorts durch Siedlungen und Landwirtschaft veränderte\, blieb dieser besondere Lebensraum entlang der Grenze erhalten.\nDieter Leupold vom BUND setzt sich seit vielen Jahren für den Erhalt dieser einzigartigen Natur ein. Bei unserer Bootstour mit dem Solarboot “Smüster Elw” auf der Elbe\, die hier Grenzfluss war\, erzählt er von seiner Arbeit und hält mit uns Ausschau nach Vögeln. Mit etwas Glück können wir sogar den majestätischen Seeadler beobachten\, der als König der Lüfte in der Elbtalaue zu Hause ist! \nAnmeldung bis zum 02.06. im Besucherzentrum Burg Lenzen erforderlich unter:\n038792 1221\, info@burg-lenzen.de oder www.burg-lenzen.de
URL:https://elblandwerker.de/veranstaltungen/birdwatching-am-gruenen-band-bootstour-auf-der-elbe-mit-infos-zur-vogelwelt-am-ehemaligen-grenzstreifen/
LOCATION:Lenzener Hafen\, Lenzener Hafen\, Lenzen\, 19309
CATEGORIES:Natur
ATTACH;FMTTYPE=image/jpeg:https://elblandwerker.de/wp-content/uploads/2025/03/Heiko-Boelk_fuer-alle-Bootstouren-1-scaled.jpg
ORGANIZER;CN="BUND-Besucherzentrum Burg Lenzen":MAILTO:info@burg-lenzen.de
END:VEVENT
BEGIN:VEVENT
DTSTART;TZID=Europe/Berlin:20250521T170000
DTEND;TZID=Europe/Berlin:20250521T183000
DTSTAMP:20260421T102756
CREATED:20250310T141528Z
LAST-MODIFIED:20250310T141528Z
UID:10003542-1747846800-1747852200@elblandwerker.de
SUMMARY:An-Smüstern up de Elw - Erste Tour auf der Elbe  mit dem Solarboot "Smüster Elw"
DESCRIPTION:Am 21. Mai 2025 um 17.00 Uhr heißt es: An-Smüstern auf der Elbe! Die Bootssaison beginnt und du bist herzlich eingeladen\, mit uns auf eine geführte Tour zu gehen. Lass dich von der einzigartigen Flusslandschaft verzaubern und genieße die sanfte Fahrt mit der Smüster Elw\, die fast geräuschlos über das Wasser gleitet. \nWährend der Tour erwarten dich spannende Einblicke in die faszinierende Vielfalt der Elbe. Halte Ausschau nach Graugänsen in den Buhnenfeldern und Kormoranen\, die mit ausgebreiteten Flügeln auf den alten Eichen sitzen. Wer weiß\, vielleicht kreist sogar ein majestätischer Seeadler über uns auf der Suche nach seiner nächsten Mahlzeit!\nOb allein\, mit Freunden oder der Familie – diese rund 2-stündige Flussfahrt ist die perfekte Auszeit für alle Naturbegeisterten. \nSichere dir deinen Platz und erlebe die Elbe hautnah! Wir freuen uns auf dich!\nAnmeldung bis 19.05. im Besucherzentrum Burg Lenzen erforderlich unter: 038792 1221\, info@burg-lenzen.de oder www.burg-lenzen.de
URL:https://elblandwerker.de/veranstaltungen/an-smuestern-up-de-elw-erste-tour-auf-der-elbe-mit-dem-solarboot-smuester-elw/
LOCATION:Lenzener Hafen\, Lenzener Hafen\, Lenzen\, 19309
CATEGORIES:Nachhaltigkeit,Natur
ATTACH;FMTTYPE=image/jpeg:https://elblandwerker.de/wp-content/uploads/2025/03/Heiko-Boelk_fuer-alle-Bootstouren-scaled.jpg
ORGANIZER;CN="BUND-Besucherzentrum Burg Lenzen":MAILTO:info@burg-lenzen.de
END:VEVENT
END:VCALENDAR