BEGIN:VCALENDAR
VERSION:2.0
PRODID:-//elblandwerker* - ECPv6.15.20//NONSGML v1.0//EN
CALSCALE:GREGORIAN
METHOD:PUBLISH
X-WR-CALNAME:elblandwerker*
X-ORIGINAL-URL:https://elblandwerker.de
X-WR-CALDESC:Veranstaltungen für elblandwerker*
REFRESH-INTERVAL;VALUE=DURATION:PT1H
X-Robots-Tag:noindex
X-PUBLISHED-TTL:PT1H
BEGIN:VTIMEZONE
TZID:Europe/Berlin
BEGIN:DAYLIGHT
TZOFFSETFROM:+0100
TZOFFSETTO:+0200
TZNAME:CEST
DTSTART:20230326T010000
END:DAYLIGHT
BEGIN:STANDARD
TZOFFSETFROM:+0200
TZOFFSETTO:+0100
TZNAME:CET
DTSTART:20231029T010000
END:STANDARD
BEGIN:DAYLIGHT
TZOFFSETFROM:+0100
TZOFFSETTO:+0200
TZNAME:CEST
DTSTART:20240331T010000
END:DAYLIGHT
BEGIN:STANDARD
TZOFFSETFROM:+0200
TZOFFSETTO:+0100
TZNAME:CET
DTSTART:20241027T010000
END:STANDARD
BEGIN:DAYLIGHT
TZOFFSETFROM:+0100
TZOFFSETTO:+0200
TZNAME:CEST
DTSTART:20250330T010000
END:DAYLIGHT
BEGIN:STANDARD
TZOFFSETFROM:+0200
TZOFFSETTO:+0100
TZNAME:CET
DTSTART:20251026T010000
END:STANDARD
END:VTIMEZONE
BEGIN:VEVENT
DTSTART;TZID=Europe/Berlin:20241220T180000
DTEND;TZID=Europe/Berlin:20241220T233000
DTSTAMP:20260421T223933
CREATED:20241018T163652Z
LAST-MODIFIED:20241028T171427Z
UID:10002947-1734717600-1734737400@elblandwerker.de
SUMMARY:CHEESY CHRISTMAS
DESCRIPTION:– unser winterliches Kulinarikkonzept auf der Insl \nab 1.11. – 20.12. immer freitags ab 18 Uhr: Heimeligkeit am Fonduetopf mit Seeblick \nPerfekt für dein Team als Weihnachtsfeier oder auch einen trauten Abend im Kreise deiner Lieblingsmenschen. \nBrandenburger Tapas zur Vorspeise mit geselligem Käsefondue als Hauptgang und abgerundet durch eine wunderhübsch süsse Schweinerei als Dessert sowie der Vodkarutsche – der perfekt kuschelig-kulinarische Abend im Insl Winterwonderland. Buch dir deine Plätze für deine Weihnachtsfeier im Team oder mit deinen besten Freund:innen. 59\,00€/p.P. \nSchreibt uns für mehr Informationen unter tischleindeckdich@insl.de!
URL:https://elblandwerker.de/veranstaltungen/cheesy-christmas/2024-12-20/
LOCATION:Insl Kyritz\, Seestraße 118\, Kyritz\, 16866
CATEGORIES:Community,Essen,Fest,Leben
ATTACH;FMTTYPE=image/png:https://elblandwerker.de/wp-content/uploads/2024/10/Datei-26.09.24-12-56-26.png
ORGANIZER;CN="INSL Kyritz":MAILTO:ahoi@insl.de
END:VEVENT
BEGIN:VEVENT
DTSTART;TZID=Europe/Berlin:20241215T120000
DTEND;TZID=Europe/Berlin:20241215T170000
DTSTAMP:20260421T223933
CREATED:20241016T172358Z
LAST-MODIFIED:20241016T172358Z
UID:10002957-1734264000-1734282000@elblandwerker.de
SUMMARY:BUSSI BURGER SUNDAYS
DESCRIPTION:Unsere kleine Foodtrucklegende Bussiburger vom letzten Jahr hat Fuß gefasst und wird diesen Winter nicht mehr auf Rädern euren Sonntag versüssen\, sondern in Form von den leckersten Burgern Brandenburgs auf der Insl. \nNovember + Dezember\, immer sonntags \nKommt rüber nach eurem Spaziergang und futtert euch glücklich. Ihr könnt auch vorbstellen und euch a la Drive in das große Burgerglück mit nach Hause nehmen. Die Hotline läuft jetzt schon heiss vor lauter Vorfreude. Wir merken das schon! Und freuen uns mit! \nUnser Motto: Täglich frisch gewolftes Glück. \nAm 3.11. gehts los!
URL:https://elblandwerker.de/veranstaltungen/bussi-burger-sundays/2024-12-15/
LOCATION:Insl Kyritz\, Seestraße 118\, Kyritz\, 16866
CATEGORIES:Community,Essen,Natur
ATTACH;FMTTYPE=image/png:https://elblandwerker.de/wp-content/uploads/2024/10/28.png
END:VEVENT
BEGIN:VEVENT
DTSTART;TZID=Europe/Berlin:20241215T100000
DTEND;TZID=Europe/Berlin:20241215T143000
DTSTAMP:20260421T223933
CREATED:20241018T163627Z
LAST-MODIFIED:20241018T163627Z
UID:10002949-1734256800-1734273000@elblandwerker.de
SUMMARY:ADVENTSBRUNCH
DESCRIPTION:Es wird weihnachtlich auf der Insl! \n1.12. + 15.12. 10.00 / 12.30 Uhr \nAn den zwei Adventssonntagen könnt ihr mit euren Liebsten zum Adventsbrunch auf die Insl kommen um euch bei einem vielfältigen Buffet gemeinsam auf Weihnachten einstimmen. Schlemmt euch bei wohligwarmer Atmosphäre durchs bunte Buffet. Auch für Vegetarier und Veganer ist ausreichend dabei. \nDa wir gemerkt haben\, dass so viele von euch Lust auf einen Insl-Adventsbrunch haben\, haben wir uns dazu entschieden zwei Brunch-Runden anzubieten. Die erste ist von 10 bis 12 Uhr und die zweite von 12.30 bis 14.30 Uhr. Gebt bei der Reservierung die Uhrzeit gern direkt mit an. \nIhr könnt danach natürlich gerne noch mit Glühwein über die Winterwonderland-Insl schlendern und euch am Lagerfeuer aufwärmen. \nSchreibt uns für weitere Informationen unter tischleindeckdich@insl.de!
URL:https://elblandwerker.de/veranstaltungen/adventsbrunch/2024-12-15/
LOCATION:Insl Kyritz\, Seestraße 118\, Kyritz\, 16866
CATEGORIES:Community,Essen,Leben
ATTACH;FMTTYPE=image/png:https://elblandwerker.de/wp-content/uploads/2024/10/24.png
ORGANIZER;CN="INSL Kyritz":MAILTO:ahoi@insl.de
END:VEVENT
BEGIN:VEVENT
DTSTART;TZID=Europe/Berlin:20241213T180000
DTEND;TZID=Europe/Berlin:20241213T233000
DTSTAMP:20260421T223933
CREATED:20241018T163652Z
LAST-MODIFIED:20241028T171427Z
UID:10002946-1734112800-1734132600@elblandwerker.de
SUMMARY:CHEESY CHRISTMAS
DESCRIPTION:– unser winterliches Kulinarikkonzept auf der Insl \nab 1.11. – 20.12. immer freitags ab 18 Uhr: Heimeligkeit am Fonduetopf mit Seeblick \nPerfekt für dein Team als Weihnachtsfeier oder auch einen trauten Abend im Kreise deiner Lieblingsmenschen. \nBrandenburger Tapas zur Vorspeise mit geselligem Käsefondue als Hauptgang und abgerundet durch eine wunderhübsch süsse Schweinerei als Dessert sowie der Vodkarutsche – der perfekt kuschelig-kulinarische Abend im Insl Winterwonderland. Buch dir deine Plätze für deine Weihnachtsfeier im Team oder mit deinen besten Freund:innen. 59\,00€/p.P. \nSchreibt uns für mehr Informationen unter tischleindeckdich@insl.de!
URL:https://elblandwerker.de/veranstaltungen/cheesy-christmas/2024-12-13/
LOCATION:Insl Kyritz\, Seestraße 118\, Kyritz\, 16866
CATEGORIES:Community,Essen,Fest,Leben
ATTACH;FMTTYPE=image/png:https://elblandwerker.de/wp-content/uploads/2024/10/Datei-26.09.24-12-56-26.png
ORGANIZER;CN="INSL Kyritz":MAILTO:ahoi@insl.de
END:VEVENT
BEGIN:VEVENT
DTSTART;TZID=Europe/Berlin:20241208T120000
DTEND;TZID=Europe/Berlin:20241208T170000
DTSTAMP:20260421T223933
CREATED:20241016T172358Z
LAST-MODIFIED:20241016T172358Z
UID:10002956-1733659200-1733677200@elblandwerker.de
SUMMARY:BUSSI BURGER SUNDAYS
DESCRIPTION:Unsere kleine Foodtrucklegende Bussiburger vom letzten Jahr hat Fuß gefasst und wird diesen Winter nicht mehr auf Rädern euren Sonntag versüssen\, sondern in Form von den leckersten Burgern Brandenburgs auf der Insl. \nNovember + Dezember\, immer sonntags \nKommt rüber nach eurem Spaziergang und futtert euch glücklich. Ihr könnt auch vorbstellen und euch a la Drive in das große Burgerglück mit nach Hause nehmen. Die Hotline läuft jetzt schon heiss vor lauter Vorfreude. Wir merken das schon! Und freuen uns mit! \nUnser Motto: Täglich frisch gewolftes Glück. \nAm 3.11. gehts los!
URL:https://elblandwerker.de/veranstaltungen/bussi-burger-sundays/2024-12-08/
LOCATION:Insl Kyritz\, Seestraße 118\, Kyritz\, 16866
CATEGORIES:Community,Essen,Natur
ATTACH;FMTTYPE=image/png:https://elblandwerker.de/wp-content/uploads/2024/10/28.png
END:VEVENT
BEGIN:VEVENT
DTSTART;TZID=Europe/Berlin:20241207T200000
DTEND;TZID=Europe/Berlin:20241207T233000
DTSTAMP:20260421T223933
CREATED:20241018T163807Z
LAST-MODIFIED:20241028T171742Z
UID:10002939-1733601600-1733614200@elblandwerker.de
SUMMARY:BUBBLE DISKO
DESCRIPTION:Alle Jahre wieder\, wenn der Sommer Adieu sagt\, holt DJ Housewart & Freunde seine Plattenteller aus den Koffern. Ab diesem Jahr heisst Barabend dann BUBBLE DISKO. Mehr Disko\, mehr Bubbles! \n15\,00€ Eintritt inkl. Fähre bei Voranmeldung unter tischleindeckdich@insl.de \n18\,00€ Abendkasse möglich \n07.12. \n20.00 – 03.00 Uhr
URL:https://elblandwerker.de/veranstaltungen/bubble-disko-2/
LOCATION:Insl Kyritz\, Seestraße 118\, Kyritz\, 16866
CATEGORIES:Community,Fest,Musik,Tanzen,Unterhaltung
ATTACH;FMTTYPE=image/png:https://elblandwerker.de/wp-content/uploads/2024/10/23-1.png
ORGANIZER;CN="INSL Kyritz":MAILTO:ahoi.insl.de
END:VEVENT
BEGIN:VEVENT
DTSTART;TZID=Europe/Berlin:20241206T180000
DTEND;TZID=Europe/Berlin:20241206T233000
DTSTAMP:20260421T223933
CREATED:20241018T163652Z
LAST-MODIFIED:20241028T171427Z
UID:10002945-1733508000-1733527800@elblandwerker.de
SUMMARY:CHEESY CHRISTMAS
DESCRIPTION:– unser winterliches Kulinarikkonzept auf der Insl \nab 1.11. – 20.12. immer freitags ab 18 Uhr: Heimeligkeit am Fonduetopf mit Seeblick \nPerfekt für dein Team als Weihnachtsfeier oder auch einen trauten Abend im Kreise deiner Lieblingsmenschen. \nBrandenburger Tapas zur Vorspeise mit geselligem Käsefondue als Hauptgang und abgerundet durch eine wunderhübsch süsse Schweinerei als Dessert sowie der Vodkarutsche – der perfekt kuschelig-kulinarische Abend im Insl Winterwonderland. Buch dir deine Plätze für deine Weihnachtsfeier im Team oder mit deinen besten Freund:innen. 59\,00€/p.P. \nSchreibt uns für mehr Informationen unter tischleindeckdich@insl.de!
URL:https://elblandwerker.de/veranstaltungen/cheesy-christmas/2024-12-06/
LOCATION:Insl Kyritz\, Seestraße 118\, Kyritz\, 16866
CATEGORIES:Community,Essen,Fest,Leben
ATTACH;FMTTYPE=image/png:https://elblandwerker.de/wp-content/uploads/2024/10/Datei-26.09.24-12-56-26.png
ORGANIZER;CN="INSL Kyritz":MAILTO:ahoi@insl.de
END:VEVENT
BEGIN:VEVENT
DTSTART;TZID=Europe/Berlin:20241201T120000
DTEND;TZID=Europe/Berlin:20241201T170000
DTSTAMP:20260421T223934
CREATED:20241016T172358Z
LAST-MODIFIED:20241016T172358Z
UID:10002955-1733054400-1733072400@elblandwerker.de
SUMMARY:BUSSI BURGER SUNDAYS
DESCRIPTION:Unsere kleine Foodtrucklegende Bussiburger vom letzten Jahr hat Fuß gefasst und wird diesen Winter nicht mehr auf Rädern euren Sonntag versüssen\, sondern in Form von den leckersten Burgern Brandenburgs auf der Insl. \nNovember + Dezember\, immer sonntags \nKommt rüber nach eurem Spaziergang und futtert euch glücklich. Ihr könnt auch vorbstellen und euch a la Drive in das große Burgerglück mit nach Hause nehmen. Die Hotline läuft jetzt schon heiss vor lauter Vorfreude. Wir merken das schon! Und freuen uns mit! \nUnser Motto: Täglich frisch gewolftes Glück. \nAm 3.11. gehts los!
URL:https://elblandwerker.de/veranstaltungen/bussi-burger-sundays/2024-12-01/
LOCATION:Insl Kyritz\, Seestraße 118\, Kyritz\, 16866
CATEGORIES:Community,Essen,Natur
ATTACH;FMTTYPE=image/png:https://elblandwerker.de/wp-content/uploads/2024/10/28.png
END:VEVENT
BEGIN:VEVENT
DTSTART;TZID=Europe/Berlin:20241201T100000
DTEND;TZID=Europe/Berlin:20241201T143000
DTSTAMP:20260421T223934
CREATED:20241018T163627Z
LAST-MODIFIED:20241018T163627Z
UID:10002948-1733047200-1733063400@elblandwerker.de
SUMMARY:ADVENTSBRUNCH
DESCRIPTION:Es wird weihnachtlich auf der Insl! \n1.12. + 15.12. 10.00 / 12.30 Uhr \nAn den zwei Adventssonntagen könnt ihr mit euren Liebsten zum Adventsbrunch auf die Insl kommen um euch bei einem vielfältigen Buffet gemeinsam auf Weihnachten einstimmen. Schlemmt euch bei wohligwarmer Atmosphäre durchs bunte Buffet. Auch für Vegetarier und Veganer ist ausreichend dabei. \nDa wir gemerkt haben\, dass so viele von euch Lust auf einen Insl-Adventsbrunch haben\, haben wir uns dazu entschieden zwei Brunch-Runden anzubieten. Die erste ist von 10 bis 12 Uhr und die zweite von 12.30 bis 14.30 Uhr. Gebt bei der Reservierung die Uhrzeit gern direkt mit an. \nIhr könnt danach natürlich gerne noch mit Glühwein über die Winterwonderland-Insl schlendern und euch am Lagerfeuer aufwärmen. \nSchreibt uns für weitere Informationen unter tischleindeckdich@insl.de!
URL:https://elblandwerker.de/veranstaltungen/adventsbrunch/2024-12-01/
LOCATION:Insl Kyritz\, Seestraße 118\, Kyritz\, 16866
CATEGORIES:Community,Essen,Leben
ATTACH;FMTTYPE=image/png:https://elblandwerker.de/wp-content/uploads/2024/10/24.png
ORGANIZER;CN="INSL Kyritz":MAILTO:ahoi@insl.de
END:VEVENT
BEGIN:VEVENT
DTSTART;TZID=Europe/Berlin:20241130T190000
DTEND;TZID=Europe/Berlin:20241130T233000
DTSTAMP:20260421T223934
CREATED:20241018T163602Z
LAST-MODIFIED:20241028T171626Z
UID:10002950-1732993200-1733009400@elblandwerker.de
SUMMARY:DINNERKLUB - WILDE SAU
DESCRIPTION:– eine Roadshow durch die Küchen Deutschlands zu Gast auf der Insl \nFremde werden zu Freunden. Eine lange Tafel. Ein Winterabend. Eine Insel inmitten eines verzauberten Sees irgendwo zwischen Hamburg und Berlin.\nWir laden kulinarische Künstler:innen aus der Ferne ein bei uns für euch zu kochen. Die leckersten Küchenteams übernehmen für einen Abend die Insl und zaubern euch ein Mehrgänge-Menü mit besonderer Handschrift.\nIhr trefft sie auf Brandenburgs schönster Insel zu einem Rendezvous der Köstlichkeiten. \n“Wilde Sau Dinner” – 30.11.24 – 19.00 Uhr – 180\,00€/p.P. \n– wildesophie.de \nTief im Wald gibt es kulinarisches Gold. Lass Dich überraschen von einzigartigen Geschmackskombinationen aus wild gesammelten Kräutern\, Blüten & Beeren\, fermentierten Spezialitäten\, lokalen Produkten und heimischem Wild\, begleitet  von edlen Tropfen mit alchimistisch verzauberter Ursprünglichkeit. Der Jagdrucksack mit ihren wilden Köstlichkeiten steht bereit und wartet ausgepackt zu werden. \nAnmeldung und weitere Informationen unter: tischleindeckdich@insl.de \n(c)photos: wildesophie
URL:https://elblandwerker.de/veranstaltungen/dinnerklub-wilde-sau/
LOCATION:Insl Kyritz\, Seestraße 118\, Kyritz\, 16866
CATEGORIES:Community,Essen,Leben,Natur
ATTACH;FMTTYPE=image/png:https://elblandwerker.de/wp-content/uploads/2024/10/27.png
ORGANIZER;CN="INSL Kyritz":MAILTO:ahoi@insl.de
END:VEVENT
BEGIN:VEVENT
DTSTART;TZID=Europe/Berlin:20241129T180000
DTEND;TZID=Europe/Berlin:20241129T233000
DTSTAMP:20260421T223934
CREATED:20241018T163652Z
LAST-MODIFIED:20241028T171427Z
UID:10002944-1732903200-1732923000@elblandwerker.de
SUMMARY:CHEESY CHRISTMAS
DESCRIPTION:– unser winterliches Kulinarikkonzept auf der Insl \nab 1.11. – 20.12. immer freitags ab 18 Uhr: Heimeligkeit am Fonduetopf mit Seeblick \nPerfekt für dein Team als Weihnachtsfeier oder auch einen trauten Abend im Kreise deiner Lieblingsmenschen. \nBrandenburger Tapas zur Vorspeise mit geselligem Käsefondue als Hauptgang und abgerundet durch eine wunderhübsch süsse Schweinerei als Dessert sowie der Vodkarutsche – der perfekt kuschelig-kulinarische Abend im Insl Winterwonderland. Buch dir deine Plätze für deine Weihnachtsfeier im Team oder mit deinen besten Freund:innen. 59\,00€/p.P. \nSchreibt uns für mehr Informationen unter tischleindeckdich@insl.de!
URL:https://elblandwerker.de/veranstaltungen/cheesy-christmas/2024-11-29/
LOCATION:Insl Kyritz\, Seestraße 118\, Kyritz\, 16866
CATEGORIES:Community,Essen,Fest,Leben
ATTACH;FMTTYPE=image/png:https://elblandwerker.de/wp-content/uploads/2024/10/Datei-26.09.24-12-56-26.png
ORGANIZER;CN="INSL Kyritz":MAILTO:ahoi@insl.de
END:VEVENT
BEGIN:VEVENT
DTSTART;TZID=Europe/Berlin:20241124T120000
DTEND;TZID=Europe/Berlin:20241124T170000
DTSTAMP:20260421T223934
CREATED:20241016T172358Z
LAST-MODIFIED:20241016T172358Z
UID:10002954-1732449600-1732467600@elblandwerker.de
SUMMARY:BUSSI BURGER SUNDAYS
DESCRIPTION:Unsere kleine Foodtrucklegende Bussiburger vom letzten Jahr hat Fuß gefasst und wird diesen Winter nicht mehr auf Rädern euren Sonntag versüssen\, sondern in Form von den leckersten Burgern Brandenburgs auf der Insl. \nNovember + Dezember\, immer sonntags \nKommt rüber nach eurem Spaziergang und futtert euch glücklich. Ihr könnt auch vorbstellen und euch a la Drive in das große Burgerglück mit nach Hause nehmen. Die Hotline läuft jetzt schon heiss vor lauter Vorfreude. Wir merken das schon! Und freuen uns mit! \nUnser Motto: Täglich frisch gewolftes Glück. \nAm 3.11. gehts los!
URL:https://elblandwerker.de/veranstaltungen/bussi-burger-sundays/2024-11-24/
LOCATION:Insl Kyritz\, Seestraße 118\, Kyritz\, 16866
CATEGORIES:Community,Essen,Natur
ATTACH;FMTTYPE=image/png:https://elblandwerker.de/wp-content/uploads/2024/10/28.png
END:VEVENT
BEGIN:VEVENT
DTSTART;TZID=Europe/Berlin:20241122T180000
DTEND;TZID=Europe/Berlin:20241122T233000
DTSTAMP:20260421T223934
CREATED:20241018T163652Z
LAST-MODIFIED:20241028T171427Z
UID:10002943-1732298400-1732318200@elblandwerker.de
SUMMARY:CHEESY CHRISTMAS
DESCRIPTION:– unser winterliches Kulinarikkonzept auf der Insl \nab 1.11. – 20.12. immer freitags ab 18 Uhr: Heimeligkeit am Fonduetopf mit Seeblick \nPerfekt für dein Team als Weihnachtsfeier oder auch einen trauten Abend im Kreise deiner Lieblingsmenschen. \nBrandenburger Tapas zur Vorspeise mit geselligem Käsefondue als Hauptgang und abgerundet durch eine wunderhübsch süsse Schweinerei als Dessert sowie der Vodkarutsche – der perfekt kuschelig-kulinarische Abend im Insl Winterwonderland. Buch dir deine Plätze für deine Weihnachtsfeier im Team oder mit deinen besten Freund:innen. 59\,00€/p.P. \nSchreibt uns für mehr Informationen unter tischleindeckdich@insl.de!
URL:https://elblandwerker.de/veranstaltungen/cheesy-christmas/2024-11-22/
LOCATION:Insl Kyritz\, Seestraße 118\, Kyritz\, 16866
CATEGORIES:Community,Essen,Fest,Leben
ATTACH;FMTTYPE=image/png:https://elblandwerker.de/wp-content/uploads/2024/10/Datei-26.09.24-12-56-26.png
ORGANIZER;CN="INSL Kyritz":MAILTO:ahoi@insl.de
END:VEVENT
BEGIN:VEVENT
DTSTART;TZID=Europe/Berlin:20241117T120000
DTEND;TZID=Europe/Berlin:20241117T170000
DTSTAMP:20260421T223934
CREATED:20241016T172358Z
LAST-MODIFIED:20241016T172358Z
UID:10002953-1731844800-1731862800@elblandwerker.de
SUMMARY:BUSSI BURGER SUNDAYS
DESCRIPTION:Unsere kleine Foodtrucklegende Bussiburger vom letzten Jahr hat Fuß gefasst und wird diesen Winter nicht mehr auf Rädern euren Sonntag versüssen\, sondern in Form von den leckersten Burgern Brandenburgs auf der Insl. \nNovember + Dezember\, immer sonntags \nKommt rüber nach eurem Spaziergang und futtert euch glücklich. Ihr könnt auch vorbstellen und euch a la Drive in das große Burgerglück mit nach Hause nehmen. Die Hotline läuft jetzt schon heiss vor lauter Vorfreude. Wir merken das schon! Und freuen uns mit! \nUnser Motto: Täglich frisch gewolftes Glück. \nAm 3.11. gehts los!
URL:https://elblandwerker.de/veranstaltungen/bussi-burger-sundays/2024-11-17/
LOCATION:Insl Kyritz\, Seestraße 118\, Kyritz\, 16866
CATEGORIES:Community,Essen,Natur
ATTACH;FMTTYPE=image/png:https://elblandwerker.de/wp-content/uploads/2024/10/28.png
END:VEVENT
BEGIN:VEVENT
DTSTART;TZID=Europe/Berlin:20241115T180000
DTEND;TZID=Europe/Berlin:20241115T233000
DTSTAMP:20260421T223934
CREATED:20241018T163652Z
LAST-MODIFIED:20241028T171427Z
UID:10002942-1731693600-1731713400@elblandwerker.de
SUMMARY:CHEESY CHRISTMAS
DESCRIPTION:– unser winterliches Kulinarikkonzept auf der Insl \nab 1.11. – 20.12. immer freitags ab 18 Uhr: Heimeligkeit am Fonduetopf mit Seeblick \nPerfekt für dein Team als Weihnachtsfeier oder auch einen trauten Abend im Kreise deiner Lieblingsmenschen. \nBrandenburger Tapas zur Vorspeise mit geselligem Käsefondue als Hauptgang und abgerundet durch eine wunderhübsch süsse Schweinerei als Dessert sowie der Vodkarutsche – der perfekt kuschelig-kulinarische Abend im Insl Winterwonderland. Buch dir deine Plätze für deine Weihnachtsfeier im Team oder mit deinen besten Freund:innen. 59\,00€/p.P. \nSchreibt uns für mehr Informationen unter tischleindeckdich@insl.de!
URL:https://elblandwerker.de/veranstaltungen/cheesy-christmas/2024-11-15/
LOCATION:Insl Kyritz\, Seestraße 118\, Kyritz\, 16866
CATEGORIES:Community,Essen,Fest,Leben
ATTACH;FMTTYPE=image/png:https://elblandwerker.de/wp-content/uploads/2024/10/Datei-26.09.24-12-56-26.png
ORGANIZER;CN="INSL Kyritz":MAILTO:ahoi@insl.de
END:VEVENT
BEGIN:VEVENT
DTSTART;TZID=Europe/Berlin:20241110T120000
DTEND;TZID=Europe/Berlin:20241110T170000
DTSTAMP:20260421T223934
CREATED:20241016T172358Z
LAST-MODIFIED:20241016T172358Z
UID:10002952-1731240000-1731258000@elblandwerker.de
SUMMARY:BUSSI BURGER SUNDAYS
DESCRIPTION:Unsere kleine Foodtrucklegende Bussiburger vom letzten Jahr hat Fuß gefasst und wird diesen Winter nicht mehr auf Rädern euren Sonntag versüssen\, sondern in Form von den leckersten Burgern Brandenburgs auf der Insl. \nNovember + Dezember\, immer sonntags \nKommt rüber nach eurem Spaziergang und futtert euch glücklich. Ihr könnt auch vorbstellen und euch a la Drive in das große Burgerglück mit nach Hause nehmen. Die Hotline läuft jetzt schon heiss vor lauter Vorfreude. Wir merken das schon! Und freuen uns mit! \nUnser Motto: Täglich frisch gewolftes Glück. \nAm 3.11. gehts los!
URL:https://elblandwerker.de/veranstaltungen/bussi-burger-sundays/2024-11-10/
LOCATION:Insl Kyritz\, Seestraße 118\, Kyritz\, 16866
CATEGORIES:Community,Essen,Natur
ATTACH;FMTTYPE=image/png:https://elblandwerker.de/wp-content/uploads/2024/10/28.png
END:VEVENT
BEGIN:VEVENT
DTSTART;TZID=Europe/Berlin:20241109T200000
DTEND;TZID=Europe/Berlin:20241109T233000
DTSTAMP:20260421T223934
CREATED:20241018T163748Z
LAST-MODIFIED:20241028T171603Z
UID:10002938-1731182400-1731195000@elblandwerker.de
SUMMARY:BUBBLE DISKO
DESCRIPTION:Alle Jahre wieder\, wenn der Sommer Adieu sagt\, holt DJ Housewart & Freunde seine Plattenteller aus den Koffern. Ab diesem Jahr heisst Barabend dann BUBBLE DISKO. Mehr Disko\, mehr Bubbles! \n15\,00€ Eintritt inkl. Fähre bei Voranmeldung unter tischleindeckdich@insl.de \n18\,00€ Abendkasse möglich \n9.11. – 20.00 – 03.00 Uhr
URL:https://elblandwerker.de/veranstaltungen/bubble-disko/
LOCATION:Insl Kyritz\, Seestraße 118\, Kyritz\, 16866
CATEGORIES:Community,Fest,Leben,Musik,Tanzen,Unterhaltung
ATTACH;FMTTYPE=image/png:https://elblandwerker.de/wp-content/uploads/2024/10/23.png
ORGANIZER;CN="INSL Kyritz":MAILTO:ahoi@insl.de
END:VEVENT
BEGIN:VEVENT
DTSTART;TZID=Europe/Berlin:20241108T180000
DTEND;TZID=Europe/Berlin:20241108T233000
DTSTAMP:20260421T223934
CREATED:20241018T163652Z
LAST-MODIFIED:20241028T171427Z
UID:10002941-1731088800-1731108600@elblandwerker.de
SUMMARY:CHEESY CHRISTMAS
DESCRIPTION:– unser winterliches Kulinarikkonzept auf der Insl \nab 1.11. – 20.12. immer freitags ab 18 Uhr: Heimeligkeit am Fonduetopf mit Seeblick \nPerfekt für dein Team als Weihnachtsfeier oder auch einen trauten Abend im Kreise deiner Lieblingsmenschen. \nBrandenburger Tapas zur Vorspeise mit geselligem Käsefondue als Hauptgang und abgerundet durch eine wunderhübsch süsse Schweinerei als Dessert sowie der Vodkarutsche – der perfekt kuschelig-kulinarische Abend im Insl Winterwonderland. Buch dir deine Plätze für deine Weihnachtsfeier im Team oder mit deinen besten Freund:innen. 59\,00€/p.P. \nSchreibt uns für mehr Informationen unter tischleindeckdich@insl.de!
URL:https://elblandwerker.de/veranstaltungen/cheesy-christmas/2024-11-08/
LOCATION:Insl Kyritz\, Seestraße 118\, Kyritz\, 16866
CATEGORIES:Community,Essen,Fest,Leben
ATTACH;FMTTYPE=image/png:https://elblandwerker.de/wp-content/uploads/2024/10/Datei-26.09.24-12-56-26.png
ORGANIZER;CN="INSL Kyritz":MAILTO:ahoi@insl.de
END:VEVENT
BEGIN:VEVENT
DTSTART;TZID=Europe/Berlin:20241103T120000
DTEND;TZID=Europe/Berlin:20241103T170000
DTSTAMP:20260421T223934
CREATED:20241016T172358Z
LAST-MODIFIED:20241016T172358Z
UID:10002951-1730635200-1730653200@elblandwerker.de
SUMMARY:BUSSI BURGER SUNDAYS
DESCRIPTION:Unsere kleine Foodtrucklegende Bussiburger vom letzten Jahr hat Fuß gefasst und wird diesen Winter nicht mehr auf Rädern euren Sonntag versüssen\, sondern in Form von den leckersten Burgern Brandenburgs auf der Insl. \nNovember + Dezember\, immer sonntags \nKommt rüber nach eurem Spaziergang und futtert euch glücklich. Ihr könnt auch vorbstellen und euch a la Drive in das große Burgerglück mit nach Hause nehmen. Die Hotline läuft jetzt schon heiss vor lauter Vorfreude. Wir merken das schon! Und freuen uns mit! \nUnser Motto: Täglich frisch gewolftes Glück. \nAm 3.11. gehts los!
URL:https://elblandwerker.de/veranstaltungen/bussi-burger-sundays/2024-11-03/
LOCATION:Insl Kyritz\, Seestraße 118\, Kyritz\, 16866
CATEGORIES:Community,Essen,Natur
ATTACH;FMTTYPE=image/png:https://elblandwerker.de/wp-content/uploads/2024/10/28.png
END:VEVENT
BEGIN:VEVENT
DTSTART;TZID=Europe/Berlin:20241101T180000
DTEND;TZID=Europe/Berlin:20241101T233000
DTSTAMP:20260421T223934
CREATED:20241018T163652Z
LAST-MODIFIED:20241028T171427Z
UID:10002940-1730484000-1730503800@elblandwerker.de
SUMMARY:CHEESY CHRISTMAS
DESCRIPTION:– unser winterliches Kulinarikkonzept auf der Insl \nab 1.11. – 20.12. immer freitags ab 18 Uhr: Heimeligkeit am Fonduetopf mit Seeblick \nPerfekt für dein Team als Weihnachtsfeier oder auch einen trauten Abend im Kreise deiner Lieblingsmenschen. \nBrandenburger Tapas zur Vorspeise mit geselligem Käsefondue als Hauptgang und abgerundet durch eine wunderhübsch süsse Schweinerei als Dessert sowie der Vodkarutsche – der perfekt kuschelig-kulinarische Abend im Insl Winterwonderland. Buch dir deine Plätze für deine Weihnachtsfeier im Team oder mit deinen besten Freund:innen. 59\,00€/p.P. \nSchreibt uns für mehr Informationen unter tischleindeckdich@insl.de!
URL:https://elblandwerker.de/veranstaltungen/cheesy-christmas/2024-11-01/
LOCATION:Insl Kyritz\, Seestraße 118\, Kyritz\, 16866
CATEGORIES:Community,Essen,Fest,Leben
ATTACH;FMTTYPE=image/png:https://elblandwerker.de/wp-content/uploads/2024/10/Datei-26.09.24-12-56-26.png
ORGANIZER;CN="INSL Kyritz":MAILTO:ahoi@insl.de
END:VEVENT
END:VCALENDAR