BEGIN:VCALENDAR
VERSION:2.0
PRODID:-//elblandwerker* - ECPv6.15.20//NONSGML v1.0//EN
CALSCALE:GREGORIAN
METHOD:PUBLISH
X-WR-CALNAME:elblandwerker*
X-ORIGINAL-URL:https://elblandwerker.de
X-WR-CALDESC:Veranstaltungen für elblandwerker*
REFRESH-INTERVAL;VALUE=DURATION:PT1H
X-Robots-Tag:noindex
X-PUBLISHED-TTL:PT1H
BEGIN:VTIMEZONE
TZID:Europe/Berlin
BEGIN:DAYLIGHT
TZOFFSETFROM:+0100
TZOFFSETTO:+0200
TZNAME:CEST
DTSTART:20250330T010000
END:DAYLIGHT
BEGIN:STANDARD
TZOFFSETFROM:+0200
TZOFFSETTO:+0100
TZNAME:CET
DTSTART:20251026T010000
END:STANDARD
BEGIN:DAYLIGHT
TZOFFSETFROM:+0100
TZOFFSETTO:+0200
TZNAME:CEST
DTSTART:20260329T010000
END:DAYLIGHT
BEGIN:STANDARD
TZOFFSETFROM:+0200
TZOFFSETTO:+0100
TZNAME:CET
DTSTART:20261025T010000
END:STANDARD
BEGIN:DAYLIGHT
TZOFFSETFROM:+0100
TZOFFSETTO:+0200
TZNAME:CEST
DTSTART:20270328T010000
END:DAYLIGHT
BEGIN:STANDARD
TZOFFSETFROM:+0200
TZOFFSETTO:+0100
TZNAME:CET
DTSTART:20271031T010000
END:STANDARD
END:VTIMEZONE
BEGIN:VEVENT
DTSTART;TZID=Europe/Berlin:20260511T150000
DTEND;TZID=Europe/Berlin:20260511T163000
DTSTAMP:20260422T133810
CREATED:20240410T105625Z
LAST-MODIFIED:20240410T105625Z
UID:10002432-1778511600-1778517000@elblandwerker.de
SUMMARY:Pritzwalker Sprachkreis
DESCRIPTION:Hier haben ukrainische Geflüchtete die Möglichkeit\, im lockeren Gespräch mit deutschen Muttersprachler:innen die eigenen Deutschkenntnisse zu festigen oder zu verbessern und neue Bekanntschaften zu machen. \nAlle\, die als deutsche Muttersprachler:innen den Pritzwalker Sprachkreis unterstützen möchten und Interesse am interkulturellen Austausch haben\, sind ebenso herzlich willkommen.
URL:https://elblandwerker.de/veranstaltungen/pritzwalker-sprachkreis/2026-05-11/
LOCATION:EKIDZ MiteinanderRaum\, Grünstraße 49\, Pritzwalk\, Brandenburg\, 16928\, Deutschland
CATEGORIES:Community,Engagement
ATTACH;FMTTYPE=image/jpeg:https://elblandwerker.de/wp-content/uploads/2024/04/deutsch-lernen-.jpg
ORGANIZER;CN="EKIDZ MiteinanderRaum":MAILTO:hallo@ekidz-miteinanderraum.de
END:VEVENT
BEGIN:VEVENT
DTSTART;TZID=Europe/Berlin:20260512T180000
DTEND;TZID=Europe/Berlin:20260512T220000
DTSTAMP:20260422T133810
CREATED:20240323T180024Z
LAST-MODIFIED:20251210T145857Z
UID:10000631-1778608800-1778623200@elblandwerker.de
SUMMARY:Dungeons & Dragons Wittenberge - Prignitz
DESCRIPTION:Bei Dungeons & Dragons (D&D 5. edition) handelt es sich um ein Gesellschaftsspiel\, bei dem ein Spielleiter die Welt beschreibt und die Spieler die Aktivitäten ihrer Spielfiguren festlegen. Es wird in mittelalterlichen Fantasy Welten\, mit Elfen\, Zwergen\, und natürlich Drachen gespielt. (DnD 5e) \nDie Teilnahme ist ab 18 Jahre\, kostenlos und es wird keinerlei Vorwissen oder Material benötigt.\nWir treffen uns alle 2 Wochen am Dienstag von 18-22 Uhr im Stadtsalon Safari in Wittenberge.\nBitte anmelden unter: dnd-prignitz@googlegroups.com \nPhoto by Clint Bustrillos on Unsplash
URL:https://elblandwerker.de/veranstaltungen/dungeons-dragons-wittenberge-prignitz-35-2-2/2026-05-12/
LOCATION:Stadtsalon Safari\, Bismarckpl. 6\, Wittenberge\, 19322\, Deutschland
CATEGORIES:Leben,Unterhaltung
ATTACH;FMTTYPE=image/jpeg:https://elblandwerker.de/wp-content/uploads/2022/09/gian-luca-riner-eubgK-4bzKA-unsplash-scaled.jpg
END:VEVENT
BEGIN:VEVENT
DTSTART;TZID=Europe/Berlin:20260512T183000
DTEND;TZID=Europe/Berlin:20260512T200000
DTSTAMP:20260422T133810
CREATED:20251221T175009Z
LAST-MODIFIED:20251221T175143Z
UID:10005259-1778610600-1778616000@elblandwerker.de
SUMMARY:Improtheater
DESCRIPTION:Liebe Freunde des Theaters und Spontanen\,\nwir wollen mit euch in die Welt des Improtheaters eintauchen. Von einfachen Aufwärmübungen hin zu längeren Szenen\, schlüpfen wir in verschiedene Rollen und finden uns in absurden Situationen wieder. Alles nach dem Motto: Impro ist auf eigene Gefahr! Egal ob ihr bereits Vorerfahrung habt oder blutige Anfänger*innen seid – wir freuen uns auf euch alle. \nWenn ihr uns in dieses Abenteuer begleiten wollt\, meldet euch gerne einmal unter bei impro@zweifeln.org
URL:https://elblandwerker.de/veranstaltungen/improtheater/2026-05-12/
LOCATION:Brandenburg
CATEGORIES:Leben,Theater,Workshop
ATTACH;FMTTYPE=image/jpeg:https://elblandwerker.de/wp-content/uploads/2025/12/Improtheater-safari-elblandwerker.jpg
END:VEVENT
BEGIN:VEVENT
DTSTART;TZID=Europe/Berlin:20260512T200000
DTEND;TZID=Europe/Berlin:20260512T223000
DTSTAMP:20260422T133810
CREATED:20260218T085752Z
LAST-MODIFIED:20260218T091856Z
UID:10006345-1778616000-1778625000@elblandwerker.de
SUMMARY:FRONTM3N - NOW AND TH3N - Tour 2025/2026
DESCRIPTION:Pete Lincoln\, Mick Wilson und Peter Howarth sind FRONTM3N! Die drei herausragenden Sänger kennt ihr unter anderem von Sweet\, 10cc\, The Hollies\, Sailor oder Smokie. \nEnde 2015 gegründet\, starteten FRONTM3N im Januar 2016 ihre ersten Konzerte in Deutschland. Zehn Jahre später kehren die charmanten Engländer auf ihrer Jubiläumstour „Now And Th3n“ genau dorthin zurück\, wo alles begann. \nLeider wird die Jubiläumstour auch die letzte größere Tour der Band in Deutschland sein – ein echtes Highlight also für alle Fans. \nFRONTM3N stehen für perfekten Harmoniegesang und Ohrwurm-Melodien – nicht umsonst gelten sie als die „britischen Eagles“. Nach ihren Alben „All For One“ (2016)\, „Up Close – Live 2020“ und „Enjoy The Ride“ (2021) erschien im Februar 2023 „The Collection“\, ein Best-Of mit 36 Songs. Im November 2024 folgte das neue Album „Guitars & Harmonies (The Live Studio Sessions)“\, und schon im Sommer 2025 soll das Jubiläumsalbum nachkommen. \nBei „An Exclusive Acoustic Night“ erlebt ihr ihre Hits und Eigenkompositionen neu und akustisch interpretiert. Jeder Song erzählt eine Geschichte aus der gemeinsamen musikalischen Reise der drei Musiker – und sicher gibt es auch die ein oder andere Überraschung. \nDie drei Briten sind eine Art Supergroup: Peter Howarth ist seit rund 20 Jahren Sänger der Hollies\, Pete Lincoln führte 13 Jahre lang Sweet als Leadsänger an und steht aktuell bei Smokie vorne\, Mick Wilson lieh 20 Jahre lang seine Stimme 10cc. Gemeinsam feiern sie nun mit euch „10 Jahre FRONTM3N“! \nFreut euch auf ein unplugged Konzert der Extraklasse – eine „Exclusive Acoustic Night“\, die ihr nicht verpassen solltet.
URL:https://elblandwerker.de/veranstaltungen/frontm3n-now-and-th3n-tour-2025-2026/
LOCATION:Kultur- & Festspielhaus Wittenberge\, Paul-Lincke-Platz 1\, Wittenberge\, 19322\, Deutschland
CATEGORIES:Konzert,Unterhaltung
ATTACH;FMTTYPE=image/jpeg:https://elblandwerker.de/wp-content/uploads/2026/02/Frontm3n_Live_Promo2025-scaled.jpg
ORGANIZER;CN="Kultur- und Festspielhaus Wittenberge":MAILTO:tickets@kulturhaus-wittenberge.de
END:VEVENT
BEGIN:VEVENT
DTSTART;TZID=Europe/Berlin:20260513T194500
DTEND;TZID=Europe/Berlin:20260513T211500
DTSTAMP:20260422T133810
CREATED:20251202T180057Z
LAST-MODIFIED:20260209T145149Z
UID:10005962-1778701500-1778706900@elblandwerker.de
SUMMARY:GesangsSafari
DESCRIPTION:Du singst gerne und möchtest das auch in Gemeinschaft tun? Wir auch! 🎶 \nWir experimentieren gerne mit Kanons und mehrstimmigen Arrangements und möchten gemeinsam unsere Stimmen erklingen lassen. \nWenn du Lust hast\, eigene Musikwünsche einzubringen oder einfach mitzumachen\, bist du herzlich willkommen!
URL:https://elblandwerker.de/veranstaltungen/gesangssafari-2/2026-05-13/
LOCATION:Stadtsalon Safari\, Bismarckpl. 6\, Wittenberge\, 19322\, Deutschland
CATEGORIES:Leben,Musik,Singen
ATTACH;FMTTYPE=image/jpeg:https://elblandwerker.de/wp-content/uploads/2025/12/gesangssafari-wir-singen.jpg
ORGANIZER;CN="Stadtsalon Safari e.V.":MAILTO:hallo@stadtsalon-safari.de
END:VEVENT
BEGIN:VEVENT
DTSTART;TZID=Europe/Berlin:20260514T150000
DTEND;TZID=Europe/Berlin:20260514T170000
DTSTAMP:20260422T133810
CREATED:20240409T114829Z
LAST-MODIFIED:20240409T114829Z
UID:10002172-1778770800-1778778000@elblandwerker.de
SUMMARY:Generationen-Café
DESCRIPTION:Miteinander guten (und fair gehandelten) Kaffee oder Tee genießen\, sich über dies und das unterhalten\, mit den Kindern oder auch anderen Erwachsenen spielen – kurz: miteinander einen entspannten Nachmittag verbringen. Donnerstags gibt es außerdem oft frisch gebackene Waffeln oder Kuchen aus der EKIDZ-Küche. \nFreiwillige für das EKIDZ-Café gesucht: Wer hat Lust\, im Café-Team mitzumachen und an einzelnen Nachmittagen für Gastlichkeit zu sorgen\, Menschen zu begrüßen\, Waffeln zu backen\, Kaffee oder Tee auszuschenken? Wer hat Gestaltungsideen für solch ein MiteinanderCafé? Melden Sie sich gern beim Team des EKIDZ MiteinanderRaums.
URL:https://elblandwerker.de/veranstaltungen/generationen-cafe/2026-05-14/
LOCATION:EKIDZ – MiteinanderRaum\, Grünstr. 49\, Pritzwalk
CATEGORIES:Community,Engagement,Essen
ATTACH;FMTTYPE=image/jpeg:https://elblandwerker.de/wp-content/uploads/2024/04/Waffelquatsch-am-Donnerstag-scaled-1.jpg
ORGANIZER;CN="EKIDZ MiteinanderRaum":MAILTO:hallo@ekidz-miteinanderraum.de
END:VEVENT
BEGIN:VEVENT
DTSTART;TZID=Europe/Berlin:20260514T190000
DTEND;TZID=Europe/Berlin:20260514T210000
DTSTAMP:20260422T133810
CREATED:20240430T125315Z
LAST-MODIFIED:20251210T150740Z
UID:10002673-1778785200-1778792400@elblandwerker.de
SUMMARY:Safari Jam Session
DESCRIPTION:Gemeinsam musizieren im Lagerfeuerstyle – unplugged\, akustisch\, unverstärkt und ohne viel Technikaufbau.\nKomm rum und spiel mit!\nWir entwickeln bekannte Songs weiter und erfinden neue Songs & Sounds.\nJeden 2. Donnerstag im Monat.
URL:https://elblandwerker.de/veranstaltungen/safari-jam-session-2-2-2/2026-05-14/
LOCATION:Stadtsalon Safari\, Bismarckpl. 6\, Wittenberge\, 19322\, Deutschland
CATEGORIES:Leben,Musik,Singen
ATTACH;FMTTYPE=image/jpeg:https://elblandwerker.de/wp-content/uploads/2024/01/elblandwerker-jam-session-safari.jpg
END:VEVENT
BEGIN:VEVENT
DTSTART;TZID=Europe/Berlin:20260515T150000
DTEND;TZID=Europe/Berlin:20260515T170000
DTSTAMP:20260422T133810
CREATED:20240409T112832Z
LAST-MODIFIED:20240409T112832Z
UID:10001911-1778857200-1778864400@elblandwerker.de
SUMMARY:Familien-Café
DESCRIPTION:Ein Café\, in dem sich die ganze Familie wohlfühlt: Während die Kinder sich im Spielbereich tummeln\, genießen die Erwachsenen eine leckere Tasse Kaffee oder Tee\, lernen andere Groß-/Eltern kennen\, kommen ins Gespräch und tauschen sich miteinander aus. \nFreiwillige für das EKIDZ-Café gesucht: Wer hat Lust\, im Café-Team mitzumachen und an einzelnen Nachmittagen für Gastlichkeit zu sorgen\, Menschen zu begrüßen\, Waffeln zu backen\, Kaffee oder Tee auszuschenken? Wer hat Gestaltungsideen für solch ein Familien-Café? Bitte beim beim Team des EKIDZ MiteinanderRaums melden.
URL:https://elblandwerker.de/veranstaltungen/familien-cafe/2026-05-15/
LOCATION:EKIDZ – MiteinanderRaum\, Grünstr. 49\, Pritzwalk
CATEGORIES:Community,Engagement,Essen
ATTACH;FMTTYPE=image/png:https://elblandwerker.de/wp-content/uploads/2024/04/Bild-Familien-Cafe-e1679056046155.png
ORGANIZER;CN="EKIDZ MiteinanderRaum":MAILTO:hallo@ekidz-miteinanderraum.de
END:VEVENT
BEGIN:VEVENT
DTSTART;TZID=Europe/Berlin:20260517T110000
DTEND;TZID=Europe/Berlin:20260517T140000
DTSTAMP:20260422T133810
CREATED:20240323T180241Z
LAST-MODIFIED:20240813T101529Z
UID:10001265-1779015600-1779026400@elblandwerker.de
SUMMARY:Veganer Mitbring-Brunch
DESCRIPTION:Ob verrückte Kreation oder Klassiker – beim veganen Brunch kann alles auf den Tisch was schmeckt und ohne tierische Inhaltstoffe hergestellt wurde. \nJeder bringt etwaas selbstgemachtes mit und teilt es mit den anderen – so entsteht ein besonderes Buffet. Für Brötchen\, Kaffee\, Tee und andere Getränke ist gesorgt. \nWir nutzen den Fairtraide-Kaffee aus dem frisch eröffneten Weltladen in Wittenberge! \nDie Veranstaltung ist auf Spendenbasis und wir bitten um Anmeldung bei Aline: aline.jacubeit@web.de.
URL:https://elblandwerker.de/veranstaltungen/veganer-mitbring-brunch-3-2-2-2-2/2026-05-17/
LOCATION:Stadtsalon Safari\, Bismarckpl. 6\, Wittenberge\, 19322\, Deutschland
CATEGORIES:Essen,Nachhaltigkeit,Veganismus
ATTACH;FMTTYPE=image/jpeg:https://elblandwerker.de/wp-content/uploads/2023/03/IMG_20230618_105323-scaled-e1687357667661.jpg
ORGANIZER;CN="Marion":MAILTO:prignitz_marion@yahoo.de
END:VEVENT
END:VCALENDAR