BEGIN:VCALENDAR
VERSION:2.0
PRODID:-//elblandwerker* - ECPv6.15.20//NONSGML v1.0//EN
CALSCALE:GREGORIAN
METHOD:PUBLISH
X-WR-CALNAME:elblandwerker*
X-ORIGINAL-URL:https://elblandwerker.de
X-WR-CALDESC:Veranstaltungen für elblandwerker*
REFRESH-INTERVAL;VALUE=DURATION:PT1H
X-Robots-Tag:noindex
X-PUBLISHED-TTL:PT1H
BEGIN:VTIMEZONE
TZID:Europe/Berlin
BEGIN:DAYLIGHT
TZOFFSETFROM:+0100
TZOFFSETTO:+0200
TZNAME:CEST
DTSTART:20250330T010000
END:DAYLIGHT
BEGIN:STANDARD
TZOFFSETFROM:+0200
TZOFFSETTO:+0100
TZNAME:CET
DTSTART:20251026T010000
END:STANDARD
BEGIN:DAYLIGHT
TZOFFSETFROM:+0100
TZOFFSETTO:+0200
TZNAME:CEST
DTSTART:20260329T010000
END:DAYLIGHT
BEGIN:STANDARD
TZOFFSETFROM:+0200
TZOFFSETTO:+0100
TZNAME:CET
DTSTART:20261025T010000
END:STANDARD
BEGIN:DAYLIGHT
TZOFFSETFROM:+0100
TZOFFSETTO:+0200
TZNAME:CEST
DTSTART:20270328T010000
END:DAYLIGHT
BEGIN:STANDARD
TZOFFSETFROM:+0200
TZOFFSETTO:+0100
TZNAME:CET
DTSTART:20271031T010000
END:STANDARD
END:VTIMEZONE
BEGIN:VEVENT
DTSTART;TZID=Europe/Berlin:20260504T150000
DTEND;TZID=Europe/Berlin:20260504T163000
DTSTAMP:20260424T143834
CREATED:20240410T105625Z
LAST-MODIFIED:20240410T105625Z
UID:10002431-1777906800-1777912200@elblandwerker.de
SUMMARY:Pritzwalker Sprachkreis
DESCRIPTION:Hier haben ukrainische Geflüchtete die Möglichkeit\, im lockeren Gespräch mit deutschen Muttersprachler:innen die eigenen Deutschkenntnisse zu festigen oder zu verbessern und neue Bekanntschaften zu machen. \nAlle\, die als deutsche Muttersprachler:innen den Pritzwalker Sprachkreis unterstützen möchten und Interesse am interkulturellen Austausch haben\, sind ebenso herzlich willkommen.
URL:https://elblandwerker.de/veranstaltungen/pritzwalker-sprachkreis/2026-05-04/
LOCATION:EKIDZ MiteinanderRaum\, Grünstraße 49\, Pritzwalk\, Brandenburg\, 16928\, Deutschland
CATEGORIES:Community,Engagement
ATTACH;FMTTYPE=image/jpeg:https://elblandwerker.de/wp-content/uploads/2024/04/deutsch-lernen-.jpg
ORGANIZER;CN="EKIDZ MiteinanderRaum":MAILTO:hallo@ekidz-miteinanderraum.de
END:VEVENT
BEGIN:VEVENT
DTSTART;TZID=Europe/Berlin:20260505T093000
DTEND;TZID=Europe/Berlin:20260505T123000
DTSTAMP:20260424T143834
CREATED:20260327T061707Z
LAST-MODIFIED:20260327T061707Z
UID:10006370-1777973400-1777984200@elblandwerker.de
SUMMARY:wenn`s brennt - handlungsfähig!
DESCRIPTION:Fortbildung für den Kreisjugendring Prignitz (offen für alle die mit Kindern oder Jugendlichen tätig sind\, beruflich wie ehrenamtlich). \nAngesichts von Gewalt\, verbaler oder körperlicher\, geraten wir leicht in Schock-Starre… Was können wir tun um in kritischen Situationen rasch wieder Zugang zu finden zu unserem Mittelpunkt und damit zu all unseren Möglichkeiten? \nAußerdem möchte ich gern mit Ihnen/ mit euch erkunden\, wie wir in solchen Fällen de-eskalierend wirken.
URL:https://elblandwerker.de/veranstaltungen/wenns-brennt-handlungsfaehig/
LOCATION:Freizeitzentrum der Stadt Perleberg\, Wittenberger Straße 91/92\, Perleberg
CATEGORIES:Bildung,Engagement,Kinder,Workshop
ATTACH;FMTTYPE=image/jpeg:https://elblandwerker.de/wp-content/uploads/2026/03/Lagune2.jpg
ORGANIZER;CN="Kreisjugendring Prignitz":MAILTO:info@kjr-prignitz.de
END:VEVENT
BEGIN:VEVENT
DTSTART;TZID=Europe/Berlin:20260505T160000
DTEND;TZID=Europe/Berlin:20260505T200000
DTSTAMP:20260424T143834
CREATED:20260326T204749Z
LAST-MODIFIED:20260326T204749Z
UID:10006371-1777996800-1778011200@elblandwerker.de
SUMMARY:Soziales Unternehmertum in der Prignitz
DESCRIPTION:Mit der Veranstaltung „Was sind Sozialunternehmen“ ist das Kompetenzzentrum für Soziales Unternehmertum des Landes Brandenburg\, unterstützt von InNoWest\, im Oktober 2025 auf ein sehr großes Interesse seitens der Prignitzer:innen gestoßen. Bei der Folgeveranstaltung am 5. Mai 2026 ab 16 Uhr in Perleberg sind nun alle Interessierten herzlich eingeladen\, dabei zu sein. Zu erwarten sind Inputs namhafter Vertreter wie der Wirtschaftsförderung Brandenburg\, ein Panel und eine Workshoprunde\, um das Soziale Unternehmertum und seine Potentiale für die Entwicklung der Prignitz tiefergehend zu begreifen.
URL:https://elblandwerker.de/veranstaltungen/soziales-unternehmertum-in-der-prignitz/
LOCATION:CJD Berlin-Brandenburg in Perleberg\, Reetzer Str. 73\, Perleberg\, Prignitz\, 19348\, Germany
CATEGORIES:Arbeit,Community,Engagement,Wandel,Workshop
ATTACH;FMTTYPE=image/png:https://elblandwerker.de/wp-content/uploads/2026/03/Banner_Einladung_Perleberg.png
END:VEVENT
BEGIN:VEVENT
DTSTART;TZID=Europe/Berlin:20260505T183000
DTEND;TZID=Europe/Berlin:20260505T220000
DTSTAMP:20260424T143834
CREATED:20241230T132314Z
LAST-MODIFIED:20241230T132534Z
UID:10000502-1778005800-1778018400@elblandwerker.de
SUMMARY:Spieleabend im Safari
DESCRIPTION:Dienstag ab 18:30 bis ca. 22 Uhr im Safari (alle 2 Wochen) \n\n\n\n\n\nDer Spieleabend ist eine gesellige Runde\, in der wir alle zusammen oder in mehreren Gruppen alle möglichen Spiele spielen. Je nach Bedarf in Deutsch oder Englisch. Von Klassikern wie Siedler von Catan\, Carcassone etc. zu neuen Spielen wie Palaeo\, Love Letter\, Coup und Variationen von Werwolf\, ist alles dabei. Bringt gerne auch eure eigenen Spiele mit\, je mehr desto besser. Ab sofort alle 2 Wochen\, immer Dienstag.
URL:https://elblandwerker.de/veranstaltungen/spieleabend-im-safari-36-2-2-2/2026-05-05/
LOCATION:Stadtsalon Safari\, Bismarckpl. 6\, Wittenberge\, 19322\, Deutschland
CATEGORIES:Leben,Unterhaltung
ATTACH;FMTTYPE=image/jpeg:https://elblandwerker.de/wp-content/uploads/2022/04/elblandwerker-events-spieleabend-e1654764240646.jpg
END:VEVENT
BEGIN:VEVENT
DTSTART;TZID=Europe/Berlin:20260506T180000
DTEND;TZID=Europe/Berlin:20260506T193000
DTSTAMP:20260424T143834
CREATED:20260410T085847Z
LAST-MODIFIED:20260410T085847Z
UID:10006379-1778090400-1778095800@elblandwerker.de
SUMMARY:LAGA-Infos zwischen Blumen und Buchseiten
DESCRIPTION:Die LAGA kommt in die Bibo! \nAm 15. April zw. 15-16.30 Uhr lädt die Landesgartenschau zu einer kleinen feinen Inforunde in die Stadtbibliothek Wittenberge. Es wird aktuelle Informationen zu den Pläne für 2027 geben sowie zu den Baustellen. Im Fokus der Veranstaltung steht das Ehrenamt. Interessierte können sich informieren\, welche Ehrenamts-Bereiche es gibt\, wie und wann sie sich einbringen können und welche Vorteile das Ehrenamt mit sich bringt. \nUm Anmeldung wird gebeten unter: (03877) 403881 oder stadtbibliothek@kfh-wbge.de
URL:https://elblandwerker.de/veranstaltungen/laga-infos-zwischen-blumen-und-buchseiten-2/
LOCATION:Stadtbibliothek Wittenberge\, Bernard-Remy-Str. 6\, Bernard-Remy-Str. 6\, Wittenberge\, 19322
ATTACH;FMTTYPE=image/jpeg:https://elblandwerker.de/wp-content/uploads/2026/04/LAGA-in-der-Bibo-1.jpg
ORGANIZER;CN="Landesgartenschau 2027 Wittenberge":MAILTO:mitmachen@laga-wittenberge.de
END:VEVENT
BEGIN:VEVENT
DTSTART;TZID=Europe/Berlin:20260506T194500
DTEND;TZID=Europe/Berlin:20260506T211500
DTSTAMP:20260424T143834
CREATED:20251202T180057Z
LAST-MODIFIED:20260209T145149Z
UID:10005961-1778096700-1778102100@elblandwerker.de
SUMMARY:GesangsSafari
DESCRIPTION:Du singst gerne und möchtest das auch in Gemeinschaft tun? Wir auch! 🎶 \nWir experimentieren gerne mit Kanons und mehrstimmigen Arrangements und möchten gemeinsam unsere Stimmen erklingen lassen. \nWenn du Lust hast\, eigene Musikwünsche einzubringen oder einfach mitzumachen\, bist du herzlich willkommen!
URL:https://elblandwerker.de/veranstaltungen/gesangssafari-2/2026-05-06/
LOCATION:Stadtsalon Safari\, Bismarckpl. 6\, Wittenberge\, 19322\, Deutschland
CATEGORIES:Leben,Musik,Singen
ATTACH;FMTTYPE=image/jpeg:https://elblandwerker.de/wp-content/uploads/2025/12/gesangssafari-wir-singen.jpg
ORGANIZER;CN="Stadtsalon Safari e.V.":MAILTO:hallo@stadtsalon-safari.de
END:VEVENT
BEGIN:VEVENT
DTSTART;TZID=Europe/Berlin:20260507T150000
DTEND;TZID=Europe/Berlin:20260507T170000
DTSTAMP:20260424T143834
CREATED:20240409T114829Z
LAST-MODIFIED:20240409T114829Z
UID:10002171-1778166000-1778173200@elblandwerker.de
SUMMARY:Generationen-Café
DESCRIPTION:Miteinander guten (und fair gehandelten) Kaffee oder Tee genießen\, sich über dies und das unterhalten\, mit den Kindern oder auch anderen Erwachsenen spielen – kurz: miteinander einen entspannten Nachmittag verbringen. Donnerstags gibt es außerdem oft frisch gebackene Waffeln oder Kuchen aus der EKIDZ-Küche. \nFreiwillige für das EKIDZ-Café gesucht: Wer hat Lust\, im Café-Team mitzumachen und an einzelnen Nachmittagen für Gastlichkeit zu sorgen\, Menschen zu begrüßen\, Waffeln zu backen\, Kaffee oder Tee auszuschenken? Wer hat Gestaltungsideen für solch ein MiteinanderCafé? Melden Sie sich gern beim Team des EKIDZ MiteinanderRaums.
URL:https://elblandwerker.de/veranstaltungen/generationen-cafe/2026-05-07/
LOCATION:EKIDZ – MiteinanderRaum\, Grünstr. 49\, Pritzwalk
CATEGORIES:Community,Engagement,Essen
ATTACH;FMTTYPE=image/jpeg:https://elblandwerker.de/wp-content/uploads/2024/04/Waffelquatsch-am-Donnerstag-scaled-1.jpg
ORGANIZER;CN="EKIDZ MiteinanderRaum":MAILTO:hallo@ekidz-miteinanderraum.de
END:VEVENT
BEGIN:VEVENT
DTSTART;TZID=Europe/Berlin:20260507T170000
DTEND;TZID=Europe/Berlin:20260507T180000
DTSTAMP:20260424T143834
CREATED:20260206T094816Z
LAST-MODIFIED:20260206T142938Z
UID:10005930-1778173200-1778176800@elblandwerker.de
SUMMARY:Sprechstunde "Ehrenamt bei der LAGA"
DESCRIPTION:Alle zwei Wochen donnerstags laden die Ehrenamtskoordinatorinnen Sabrina Klabuhn und Tina Vogel zu einer Sprechstunde ins Büro der Landesgartenschau ein. Sie können Ihre Fragen stellen\, sich über die Ehrenamtsbereiche oder Tätigkeiten informieren und persönlich besprechen\, wie Ihr Engagement bei der LAGA aussehen kann.\nBitte melden Sie sich dafür per E-Mail unter mitmachen@laga-wittenberge.de an.
URL:https://elblandwerker.de/veranstaltungen/sprechstunde-ehrenamt-bei-der-laga/2026-05-07/
LOCATION:LAGA-Geschäftsstelle\, Perleberger Str. 165\, Wittenberge\, 19322
CATEGORIES:Community,Engagement,Garten
ATTACH;FMTTYPE=image/jpeg:https://elblandwerker.de/wp-content/uploads/2026/02/Sabrina-Klabuhn-Tina-Vogel_klein.jpg
ORGANIZER;CN="Landesgartenschau 2027 Wittenberge":MAILTO:mitmachen@laga-wittenberge.de
END:VEVENT
BEGIN:VEVENT
DTSTART;TZID=Europe/Berlin:20260508T150000
DTEND;TZID=Europe/Berlin:20260508T170000
DTSTAMP:20260424T143834
CREATED:20240409T112832Z
LAST-MODIFIED:20240409T112832Z
UID:10001910-1778252400-1778259600@elblandwerker.de
SUMMARY:Familien-Café
DESCRIPTION:Ein Café\, in dem sich die ganze Familie wohlfühlt: Während die Kinder sich im Spielbereich tummeln\, genießen die Erwachsenen eine leckere Tasse Kaffee oder Tee\, lernen andere Groß-/Eltern kennen\, kommen ins Gespräch und tauschen sich miteinander aus. \nFreiwillige für das EKIDZ-Café gesucht: Wer hat Lust\, im Café-Team mitzumachen und an einzelnen Nachmittagen für Gastlichkeit zu sorgen\, Menschen zu begrüßen\, Waffeln zu backen\, Kaffee oder Tee auszuschenken? Wer hat Gestaltungsideen für solch ein Familien-Café? Bitte beim beim Team des EKIDZ MiteinanderRaums melden.
URL:https://elblandwerker.de/veranstaltungen/familien-cafe/2026-05-08/
LOCATION:EKIDZ – MiteinanderRaum\, Grünstr. 49\, Pritzwalk
CATEGORIES:Community,Engagement,Essen
ATTACH;FMTTYPE=image/png:https://elblandwerker.de/wp-content/uploads/2024/04/Bild-Familien-Cafe-e1679056046155.png
ORGANIZER;CN="EKIDZ MiteinanderRaum":MAILTO:hallo@ekidz-miteinanderraum.de
END:VEVENT
BEGIN:VEVENT
DTSTART;TZID=Europe/Berlin:20260508T200000
DTEND;TZID=Europe/Berlin:20260508T223000
DTSTAMP:20260424T143834
CREATED:20260218T091854Z
LAST-MODIFIED:20260218T091854Z
UID:10006346-1778270400-1778279400@elblandwerker.de
SUMMARY:Wahre Verbrechen und absurde Fälle - Faszinierende Einblicke in die Rechtsmedizin
DESCRIPTION:Der Berliner Rechtsmediziner Philipp Möller und True-Crime-Talker Dr. Tino Grosche kommen am 8. Mai ins Kultur- und Festspielhaus Wittenberge – und nehmen euch mit in die faszinierende Welt der Rechtsmedizin. \nOb erweiterter Suizid\, Mord aus Rache\, sadistische Gewalt oder der ungeklärte Tod eines Partners: Die Rechtsmedizin rekonstruiert Tathergänge und klärt\, woran Menschen wirklich gestorben sind. Welche Methoden dabei zum Einsatz kommen\, welche Details entscheidend sind und wie Spuren sichtbar werden\, selbst wenn es keine offensichtlichen Hinweise gibt – das zeigt euch Philipp Möller live. \nWann entscheiden medizinische Fakten über Schuld oder Unschuld vor Gericht? Wie erkennt man Gewalt ohne sichtbare Spuren? Ihr bekommt spannende Einblicke in den Alltag eines Forensikers – an der Schnittstelle von Medizin\, Recht und Polizeiarbeit. \nPhilipp Möller arbeitet seit über zehn Jahren in der Berliner Rechtsmedizin an der Seite von Michael Tsokos. Er war unter anderem am Fall der Ku’damm-Raser beteiligt und untersuchte spektakuläre Gewaltverbrechen. Dabei berichtet er von realen Fällen\, überraschenden Erkenntnissen und Situationen\, die oft unglaublicher sind als jede Fiktion. \nDr. Tino Grosche ergänzt den Abend mit seiner Perspektive aus der True-Crime-Welt: In Gesprächen mit Ermittlern\, Staatsanwälten\, Rechtsmedizinern\, Gefängnisärzten und Anstaltsleitern blickt er seit Jahren hinter die Kulissen realer Verbrechen – und ordnet die Fälle ein. \nWenn ihr True Crime mögt und euch für die Geschichten hinter den Schlagzeilen interessiert\, ist dieser Abend genau das Richtige für euch. Denn die Realität ist oft spannender als jeder Krimi.
URL:https://elblandwerker.de/veranstaltungen/wahre-verbrechen-und-absurde-faelle-faszinierende-einblicke-in-die-rechtsmedizin/
LOCATION:Kultur- & Festspielhaus Wittenberge\, Paul-Lincke-Platz 1\, Wittenberge\, 19322\, Deutschland
CATEGORIES:Leben,Unterhaltung
ATTACH;FMTTYPE=image/jpeg:https://elblandwerker.de/wp-content/uploads/2026/02/Collage-Moeller_und_Grosche_klein1.jpg
END:VEVENT
END:VCALENDAR