BEGIN:VCALENDAR
VERSION:2.0
PRODID:-//elblandwerker* - ECPv6.15.20//NONSGML v1.0//EN
CALSCALE:GREGORIAN
METHOD:PUBLISH
X-ORIGINAL-URL:https://elblandwerker.de
X-WR-CALDESC:Veranstaltungen für elblandwerker*
REFRESH-INTERVAL;VALUE=DURATION:PT1H
X-Robots-Tag:noindex
X-PUBLISHED-TTL:PT1H
BEGIN:VTIMEZONE
TZID:Europe/Berlin
BEGIN:DAYLIGHT
TZOFFSETFROM:+0100
TZOFFSETTO:+0200
TZNAME:CEST
DTSTART:20240331T010000
END:DAYLIGHT
BEGIN:STANDARD
TZOFFSETFROM:+0200
TZOFFSETTO:+0100
TZNAME:CET
DTSTART:20241027T010000
END:STANDARD
BEGIN:DAYLIGHT
TZOFFSETFROM:+0100
TZOFFSETTO:+0200
TZNAME:CEST
DTSTART:20250330T010000
END:DAYLIGHT
BEGIN:STANDARD
TZOFFSETFROM:+0200
TZOFFSETTO:+0100
TZNAME:CET
DTSTART:20251026T010000
END:STANDARD
BEGIN:DAYLIGHT
TZOFFSETFROM:+0100
TZOFFSETTO:+0200
TZNAME:CEST
DTSTART:20260329T010000
END:DAYLIGHT
BEGIN:STANDARD
TZOFFSETFROM:+0200
TZOFFSETTO:+0100
TZNAME:CET
DTSTART:20261025T010000
END:STANDARD
END:VTIMEZONE
BEGIN:VEVENT
DTSTART;TZID=Europe/Berlin:20251215T150000
DTEND;TZID=Europe/Berlin:20251215T163000
DTSTAMP:20260420T143940
CREATED:20240410T105625Z
LAST-MODIFIED:20240410T105625Z
UID:10002411-1765810800-1765816200@elblandwerker.de
SUMMARY:Pritzwalker Sprachkreis
DESCRIPTION:Hier haben ukrainische Geflüchtete die Möglichkeit\, im lockeren Gespräch mit deutschen Muttersprachler:innen die eigenen Deutschkenntnisse zu festigen oder zu verbessern und neue Bekanntschaften zu machen. \nAlle\, die als deutsche Muttersprachler:innen den Pritzwalker Sprachkreis unterstützen möchten und Interesse am interkulturellen Austausch haben\, sind ebenso herzlich willkommen.
URL:https://elblandwerker.de/veranstaltungen/pritzwalker-sprachkreis/2025-12-15/
LOCATION:EKIDZ MiteinanderRaum\, Grünstraße 49\, Pritzwalk\, Brandenburg\, 16928\, Deutschland
CATEGORIES:Community,Engagement
ATTACH;FMTTYPE=image/jpeg:https://elblandwerker.de/wp-content/uploads/2024/04/deutsch-lernen-.jpg
ORGANIZER;CN="EKIDZ MiteinanderRaum":MAILTO:hallo@ekidz-miteinanderraum.de
END:VEVENT
BEGIN:VEVENT
DTSTART;TZID=Europe/Berlin:20251216T183000
DTEND;TZID=Europe/Berlin:20251216T220000
DTSTAMP:20260420T143940
CREATED:20241230T132314Z
LAST-MODIFIED:20241230T132534Z
UID:10000492-1765909800-1765922400@elblandwerker.de
SUMMARY:Spieleabend im Safari
DESCRIPTION:Dienstag ab 18:30 bis ca. 22 Uhr im Safari (alle 2 Wochen) \n\n\n\n\n\nDer Spieleabend ist eine gesellige Runde\, in der wir alle zusammen oder in mehreren Gruppen alle möglichen Spiele spielen. Je nach Bedarf in Deutsch oder Englisch. Von Klassikern wie Siedler von Catan\, Carcassone etc. zu neuen Spielen wie Palaeo\, Love Letter\, Coup und Variationen von Werwolf\, ist alles dabei. Bringt gerne auch eure eigenen Spiele mit\, je mehr desto besser. Ab sofort alle 2 Wochen\, immer Dienstag.
URL:https://elblandwerker.de/veranstaltungen/spieleabend-im-safari-36-2-2-2/2025-12-16/
LOCATION:Stadtsalon Safari\, Bismarckpl. 6\, Wittenberge\, 19322\, Deutschland
CATEGORIES:Leben,Unterhaltung
ATTACH;FMTTYPE=image/jpeg:https://elblandwerker.de/wp-content/uploads/2022/04/elblandwerker-events-spieleabend-e1654764240646.jpg
END:VEVENT
BEGIN:VEVENT
DTSTART;TZID=Europe/Berlin:20251218T150000
DTEND;TZID=Europe/Berlin:20251218T170000
DTSTAMP:20260420T143940
CREATED:20240409T114829Z
LAST-MODIFIED:20240409T114829Z
UID:10002151-1766070000-1766077200@elblandwerker.de
SUMMARY:Generationen-Café
DESCRIPTION:Miteinander guten (und fair gehandelten) Kaffee oder Tee genießen\, sich über dies und das unterhalten\, mit den Kindern oder auch anderen Erwachsenen spielen – kurz: miteinander einen entspannten Nachmittag verbringen. Donnerstags gibt es außerdem oft frisch gebackene Waffeln oder Kuchen aus der EKIDZ-Küche. \nFreiwillige für das EKIDZ-Café gesucht: Wer hat Lust\, im Café-Team mitzumachen und an einzelnen Nachmittagen für Gastlichkeit zu sorgen\, Menschen zu begrüßen\, Waffeln zu backen\, Kaffee oder Tee auszuschenken? Wer hat Gestaltungsideen für solch ein MiteinanderCafé? Melden Sie sich gern beim Team des EKIDZ MiteinanderRaums.
URL:https://elblandwerker.de/veranstaltungen/generationen-cafe/2025-12-18/
LOCATION:EKIDZ – MiteinanderRaum\, Grünstr. 49\, Pritzwalk
CATEGORIES:Community,Engagement,Essen
ATTACH;FMTTYPE=image/jpeg:https://elblandwerker.de/wp-content/uploads/2024/04/Waffelquatsch-am-Donnerstag-scaled-1.jpg
ORGANIZER;CN="EKIDZ MiteinanderRaum":MAILTO:hallo@ekidz-miteinanderraum.de
END:VEVENT
BEGIN:VEVENT
DTSTART;TZID=Europe/Berlin:20251219T100000
DTEND;TZID=Europe/Berlin:20251219T140000
DTSTAMP:20260420T143940
CREATED:20251202T183100Z
LAST-MODIFIED:20251202T183100Z
UID:10004934-1766138400-1766152800@elblandwerker.de
SUMMARY:Fair zusammen kochen & essen
DESCRIPTION:Wenn ukrainische Weihnachtstraditionen auf deutsche Klassiker treffen\nAb 10 Uhr kochen wir gemeinsam einen Mittagstisch für alle\, es muss nichts mitgebracht werden. Anmeldung unter marthastisch@posteo.de oder unter 0175 4203611 oder persönlich bei uns während der Öffnungszeiten. \nFair zusammen genießen: Mittagstisch für alle ab 12 Uhr \nEin liebevoll gedecktes Buffet mit Speisen aus beiden Kulturen lädt dazu ein\, neue Geschmackswelten zu entdecken und gemeinsam die Vielfalt der Weihnachtsküche zu genießen.\nOhne Anmeldung
URL:https://elblandwerker.de/veranstaltungen/fair-zusammen-kochen-essen/
LOCATION:Marthas Tisch\, Bahnstrasse 34\, Wittenberge\, 19322\, Germany
CATEGORIES:Essen,Leben
ATTACH;FMTTYPE=image/jpeg:https://elblandwerker.de/wp-content/uploads/2025/12/fair-kochen.jpg
ORGANIZER;CN="Marthas Tisch":MAILTO:marthastisch@posteo.de
END:VEVENT
BEGIN:VEVENT
DTSTART;TZID=Europe/Berlin:20251219T150000
DTEND;TZID=Europe/Berlin:20251219T170000
DTSTAMP:20260420T143940
CREATED:20240409T112832Z
LAST-MODIFIED:20240409T112832Z
UID:10001890-1766156400-1766163600@elblandwerker.de
SUMMARY:Familien-Café
DESCRIPTION:Ein Café\, in dem sich die ganze Familie wohlfühlt: Während die Kinder sich im Spielbereich tummeln\, genießen die Erwachsenen eine leckere Tasse Kaffee oder Tee\, lernen andere Groß-/Eltern kennen\, kommen ins Gespräch und tauschen sich miteinander aus. \nFreiwillige für das EKIDZ-Café gesucht: Wer hat Lust\, im Café-Team mitzumachen und an einzelnen Nachmittagen für Gastlichkeit zu sorgen\, Menschen zu begrüßen\, Waffeln zu backen\, Kaffee oder Tee auszuschenken? Wer hat Gestaltungsideen für solch ein Familien-Café? Bitte beim beim Team des EKIDZ MiteinanderRaums melden.
URL:https://elblandwerker.de/veranstaltungen/familien-cafe/2025-12-19/
LOCATION:EKIDZ – MiteinanderRaum\, Grünstr. 49\, Pritzwalk
CATEGORIES:Community,Engagement,Essen
ATTACH;FMTTYPE=image/png:https://elblandwerker.de/wp-content/uploads/2024/04/Bild-Familien-Cafe-e1679056046155.png
ORGANIZER;CN="EKIDZ MiteinanderRaum":MAILTO:hallo@ekidz-miteinanderraum.de
END:VEVENT
BEGIN:VEVENT
DTSTART;TZID=Europe/Berlin:20251220T180000
DTEND;TZID=Europe/Berlin:20251220T210000
DTSTAMP:20260420T143940
CREATED:20251204T161723Z
LAST-MODIFIED:20251204T161723Z
UID:10004937-1766253600-1766264400@elblandwerker.de
SUMMARY:Anne Baumann "Einflugschneise BER" Realitätscheck digitaler Assistenzsysteme für Senior:innen
DESCRIPTION:Aufgrund der Covid-19-Pandemie und den damit verbundenen\, notwendigen Maßnahmen der Kontaktreduktion und räumlichen Distanzierung vereinsamt die Historikerin Dr. Linde in ihrem Haus in der Einflugschneise des Berliner Flughafens BER. Die sonst aktive Seniorin begegnet kaum noch Menschen\, ihr Grundstück verwildert\, da Hilfe ausbleibt\, und sie fühlt sich von der Gesellschaft weitestgehend ausgeschlossen.\nAls eine der wenigen verbleibenden Möglichkeiten\, um in dieser Situation weiter am gesellschaftlichen Leben teilnehmen zu können\, sieht sie die Digitalität\, mit der sie jedoch erhebliche Schwierigkeiten hat. Lernorte\, wie Volkshochschulen\, lokale Seniorenvereine oder kommerzielle Bildungsträger bieten keine Option. Aufgrund der Pandemie entfallen die Präsenzkurse. So sucht Dr. Linde eine Assistentin\, die ihr eine Einführung in den Umgang mit der neuen digitalen Technik geben soll; angepasst an ihr individuelles Lernvermögen und mithilfe seniorengerechter Geräte.\nBei ihrer Suche trifft sie auf die Künstlerin Anne Baumann. Beide Frauen vereint dasselbe gesellschaftliche Schicksal: ihr soziales bzw. berufliches Leben ist durch die Pandemie weitestgehend zum Stillstand gekommen. So einigen sich Dr. Linde und Anne Baumann auf eine Zusammenarbeit von einem halben Jahr. Einer Übersicht der Verbraucherzentrale zu digitalen Assistenzsystemen entnehmen sie konkrete Vorschläge\, welche digitalen Helfer Senior*innen ein selbstbestimmtes Leben in den eigenen 4 Wänden möglichst lange ermöglichen sollen. Einige dieser Vorschläge besprechen und testen Dr. Linde und AB im Frühjahr und Sommer 2021.\nDieses kunst-soziologische Experiment wurde mit der Kamera begleitet. Treibende Frage der entstandenen Videoarbeiten ist das Verhältnis zwischen dem Nutzen digitaler Anwendungen und ihrer Finanzierbarkeit\, ihrem Ressourcenverbrauch sowie der Möglichkeit einen Idealzustand künstlich zu erzeugen\, der dem menschlichen Leben nicht entspricht.\nDas Projekt wurde gefördert durch NEUSTART Kultur. \nDauer/Ablauf:\nAnne Baumann stellt das Projekt “EINFLUGSCHNEISE BER” Realitätscheck digitaler Assistenzsysteme für Senior*innen vor und führt in einer kurzen Einführung in den Zusammenhang der Filme ein. Dann werden die sechs kurzen Filme gezeigt. Danach gibt es eine Diskussion mit der Künstlerin zu ihren Erfahrungen und Erkenntnissen im Zusammenhang mit einer schrittweisen Digitalisierung\, die sie zusammen mit der Historikerin Frau Dr. Linde gemacht hat. Zum Schluss gibt es die Möglichkeit zum Gedankenaustausch bei einem anlassgerechten Abendessen.
URL:https://elblandwerker.de/veranstaltungen/anne-baumann-einflugschneise-ber-realitaetscheck-digitaler-assistenzsysteme-fuer-seniorinnen/
LOCATION:Old School ICA (OSICA)\, Schulstraße 3\, Havelberg\, Sachsen Anhalt\, 39539\, Deutschland
CATEGORIES:Kino,Kultur,Kunst,Leben
ATTACH;FMTTYPE=image/jpeg:https://elblandwerker.de/wp-content/uploads/2025/12/Vorderseite-1.jpg
ORGANIZER;CN="Old School ICA":MAILTO:email. wolfguenterthiel@gmail.com
END:VEVENT
BEGIN:VEVENT
DTSTART;TZID=Europe/Berlin:20251220T190000
DTEND;TZID=Europe/Berlin:20251220T230000
DTSTAMP:20260420T143940
CREATED:20251104T150613Z
LAST-MODIFIED:20251104T150810Z
UID:10004632-1766257200-1766271600@elblandwerker.de
SUMMARY:Open Stage Varieté
DESCRIPTION:Die Atelier-Bühne des Kulturkombinats öffnet sich für alle Talente der Kleinkunst in unserer Region. Die Abende werden organisiert und moderiert von unserem PerleBÄM!-Team\, die die Beiträge durch eigene Auftritte ergänzen. Zu jedem Open Stage Termin wird ein auswärtiger professioneller Show-Act engagiert\, der eine Überraschungsnummer präsentiert. \nFlankiert wirf der Abend durch unsere Kombinatseigene Combo\, “DIE BÄNT”\, die auch auf Wunsch musikalische Talente der Region begleitet. \nOb Jung oder Alt\, Anfänger oder Profi\, alle sind eingeladen ihre Talente zu zeigen. \nAnmeldungen unter: openstage.kuko@gmail.com oder +491639805350. \nKommt vorbei\, lasst Euch inspirieren und überraschen!
URL:https://elblandwerker.de/veranstaltungen/open-stage-variete-2/
LOCATION:Kulturkombinat Perleberg e.V.\, Am Hohen Ende 25\, Perleberg\, Brandenburg\, 19322\, Deutschland
END:VEVENT
BEGIN:VEVENT
DTSTART;TZID=Europe/Berlin:20251221T110000
DTEND;TZID=Europe/Berlin:20251221T140000
DTSTAMP:20260420T143940
CREATED:20240323T180241Z
LAST-MODIFIED:20240813T101529Z
UID:10001260-1766314800-1766325600@elblandwerker.de
SUMMARY:Veganer Mitbring-Brunch
DESCRIPTION:Ob verrückte Kreation oder Klassiker – beim veganen Brunch kann alles auf den Tisch was schmeckt und ohne tierische Inhaltstoffe hergestellt wurde. \nJeder bringt etwaas selbstgemachtes mit und teilt es mit den anderen – so entsteht ein besonderes Buffet. Für Brötchen\, Kaffee\, Tee und andere Getränke ist gesorgt. \nWir nutzen den Fairtraide-Kaffee aus dem frisch eröffneten Weltladen in Wittenberge! \nDie Veranstaltung ist auf Spendenbasis und wir bitten um Anmeldung bei Aline: aline.jacubeit@web.de.
URL:https://elblandwerker.de/veranstaltungen/veganer-mitbring-brunch-3-2-2-2-2/2025-12-21/
LOCATION:Stadtsalon Safari\, Bismarckpl. 6\, Wittenberge\, 19322\, Deutschland
CATEGORIES:Essen,Nachhaltigkeit,Veganismus
ATTACH;FMTTYPE=image/jpeg:https://elblandwerker.de/wp-content/uploads/2023/03/IMG_20230618_105323-scaled-e1687357667661.jpg
ORGANIZER;CN="Marion":MAILTO:prignitz_marion@yahoo.de
END:VEVENT
END:VCALENDAR