BEGIN:VCALENDAR
VERSION:2.0
PRODID:-//elblandwerker* - ECPv6.15.20//NONSGML v1.0//EN
CALSCALE:GREGORIAN
METHOD:PUBLISH
X-ORIGINAL-URL:https://elblandwerker.de
X-WR-CALDESC:Veranstaltungen für elblandwerker*
REFRESH-INTERVAL;VALUE=DURATION:PT1H
X-Robots-Tag:noindex
X-PUBLISHED-TTL:PT1H
BEGIN:VTIMEZONE
TZID:Europe/Berlin
BEGIN:DAYLIGHT
TZOFFSETFROM:+0100
TZOFFSETTO:+0200
TZNAME:CEST
DTSTART:20240331T010000
END:DAYLIGHT
BEGIN:STANDARD
TZOFFSETFROM:+0200
TZOFFSETTO:+0100
TZNAME:CET
DTSTART:20241027T010000
END:STANDARD
BEGIN:DAYLIGHT
TZOFFSETFROM:+0100
TZOFFSETTO:+0200
TZNAME:CEST
DTSTART:20250330T010000
END:DAYLIGHT
BEGIN:STANDARD
TZOFFSETFROM:+0200
TZOFFSETTO:+0100
TZNAME:CET
DTSTART:20251026T010000
END:STANDARD
BEGIN:DAYLIGHT
TZOFFSETFROM:+0100
TZOFFSETTO:+0200
TZNAME:CEST
DTSTART:20260329T010000
END:DAYLIGHT
BEGIN:STANDARD
TZOFFSETFROM:+0200
TZOFFSETTO:+0100
TZNAME:CET
DTSTART:20261025T010000
END:STANDARD
END:VTIMEZONE
BEGIN:VEVENT
DTSTART;TZID=Europe/Berlin:20250526T150000
DTEND;TZID=Europe/Berlin:20250526T163000
DTSTAMP:20260420T154344
CREATED:20240410T105625Z
LAST-MODIFIED:20240410T105625Z
UID:10002382-1748271600-1748277000@elblandwerker.de
SUMMARY:Pritzwalker Sprachkreis
DESCRIPTION:Hier haben ukrainische Geflüchtete die Möglichkeit\, im lockeren Gespräch mit deutschen Muttersprachler:innen die eigenen Deutschkenntnisse zu festigen oder zu verbessern und neue Bekanntschaften zu machen. \nAlle\, die als deutsche Muttersprachler:innen den Pritzwalker Sprachkreis unterstützen möchten und Interesse am interkulturellen Austausch haben\, sind ebenso herzlich willkommen.
URL:https://elblandwerker.de/veranstaltungen/pritzwalker-sprachkreis/2025-05-26/
LOCATION:EKIDZ MiteinanderRaum\, Grünstraße 49\, Pritzwalk\, Brandenburg\, 16928\, Deutschland
CATEGORIES:Community,Engagement
ATTACH;FMTTYPE=image/jpeg:https://elblandwerker.de/wp-content/uploads/2024/04/deutsch-lernen-.jpg
ORGANIZER;CN="EKIDZ MiteinanderRaum":MAILTO:hallo@ekidz-miteinanderraum.de
END:VEVENT
BEGIN:VEVENT
DTSTART;TZID=Europe/Berlin:20250527T180000
DTEND;TZID=Europe/Berlin:20250527T220000
DTSTAMP:20260420T154344
CREATED:20240323T180024Z
LAST-MODIFIED:20251210T145857Z
UID:10000606-1748368800-1748383200@elblandwerker.de
SUMMARY:Dungeons & Dragons Wittenberge - Prignitz
DESCRIPTION:Bei Dungeons & Dragons (D&D 5. edition) handelt es sich um ein Gesellschaftsspiel\, bei dem ein Spielleiter die Welt beschreibt und die Spieler die Aktivitäten ihrer Spielfiguren festlegen. Es wird in mittelalterlichen Fantasy Welten\, mit Elfen\, Zwergen\, und natürlich Drachen gespielt. (DnD 5e) \nDie Teilnahme ist ab 18 Jahre\, kostenlos und es wird keinerlei Vorwissen oder Material benötigt.\nWir treffen uns alle 2 Wochen am Dienstag von 18-22 Uhr im Stadtsalon Safari in Wittenberge.\nBitte anmelden unter: dnd-prignitz@googlegroups.com \nPhoto by Clint Bustrillos on Unsplash
URL:https://elblandwerker.de/veranstaltungen/dungeons-dragons-wittenberge-prignitz-35-2-2/2025-05-27/
LOCATION:Stadtsalon Safari\, Bismarckpl. 6\, Wittenberge\, 19322\, Deutschland
CATEGORIES:Leben,Unterhaltung
ATTACH;FMTTYPE=image/jpeg:https://elblandwerker.de/wp-content/uploads/2022/09/gian-luca-riner-eubgK-4bzKA-unsplash-scaled.jpg
END:VEVENT
BEGIN:VEVENT
DTSTART;TZID=Europe/Berlin:20250529T150000
DTEND;TZID=Europe/Berlin:20250529T170000
DTSTAMP:20260420T154344
CREATED:20240409T114829Z
LAST-MODIFIED:20240409T114829Z
UID:10002122-1748530800-1748538000@elblandwerker.de
SUMMARY:Generationen-Café
DESCRIPTION:Miteinander guten (und fair gehandelten) Kaffee oder Tee genießen\, sich über dies und das unterhalten\, mit den Kindern oder auch anderen Erwachsenen spielen – kurz: miteinander einen entspannten Nachmittag verbringen. Donnerstags gibt es außerdem oft frisch gebackene Waffeln oder Kuchen aus der EKIDZ-Küche. \nFreiwillige für das EKIDZ-Café gesucht: Wer hat Lust\, im Café-Team mitzumachen und an einzelnen Nachmittagen für Gastlichkeit zu sorgen\, Menschen zu begrüßen\, Waffeln zu backen\, Kaffee oder Tee auszuschenken? Wer hat Gestaltungsideen für solch ein MiteinanderCafé? Melden Sie sich gern beim Team des EKIDZ MiteinanderRaums.
URL:https://elblandwerker.de/veranstaltungen/generationen-cafe/2025-05-29/
LOCATION:EKIDZ – MiteinanderRaum\, Grünstr. 49\, Pritzwalk
CATEGORIES:Community,Engagement,Essen
ATTACH;FMTTYPE=image/jpeg:https://elblandwerker.de/wp-content/uploads/2024/04/Waffelquatsch-am-Donnerstag-scaled-1.jpg
ORGANIZER;CN="EKIDZ MiteinanderRaum":MAILTO:hallo@ekidz-miteinanderraum.de
END:VEVENT
BEGIN:VEVENT
DTSTART;TZID=Europe/Berlin:20250529T170000
DTEND;TZID=Europe/Berlin:20250529T200000
DTSTAMP:20260420T154344
CREATED:20250310T141416Z
LAST-MODIFIED:20250310T141416Z
UID:10003546-1748538000-1748548800@elblandwerker.de
SUMMARY:Wasser und Wein - Geführte Kanutour auf der Löcknitz mit anschließender Weinverkostung
DESCRIPTION:Erlebe eine genussvolle Reise an der Löcknitz: ein Paradies für Naturfreunde im Biosphärenreservat Flusslandschaft Elbe-Brandenburg.\nEntdecke während der entspannten Fahrt im Großkanadier bunte Libellen\, Spuren des Bibers an den Ufern und mit etwas Glück sogar den farbenfrohen Eisvogel\, der im Wasser nach Fischen jagt. Unser Guide wird Dich durch die Auenlandschaft begleiten und Spannendes aus dem Leben des wohl buntesten Brutvogels Deutschlands berichten. Anschließend erwartet Dich am Ufer der Löcknitz eine exklusive Weinverkostung mit hochwertigen Weinen\, zusammengestellt von Arend Wiesweg vom “Schabulös” Lenzen\, begleitet von einem kleinen Buffet mit Blick auf den Fluss. \nBitte denke an Sonnenschutz\, witterungsangepasste Kleidung und Getränke für unterwegs! \nAnmeldung bis zum 27.05. im BUND-Besucherzentrum Burg Lenzen erforderlich unter 038792 1221\, info@burg-lenzen.de oder www.burg-lenzen.de
URL:https://elblandwerker.de/veranstaltungen/wasser-und-wein-gefuehrte-kanutour-auf-der-loecknitz-mit-anschliessender-weinverkostung/
LOCATION:Burg Lenzen\, Burgstraße 3\, Lenzen\, 19309
CATEGORIES:Natur
ATTACH;FMTTYPE=image/jpeg:https://elblandwerker.de/wp-content/uploads/2025/03/2025.05.29_Wasser_Wein-scaled.jpg
ORGANIZER;CN="BUND-Besucherzentrum Burg Lenzen":MAILTO:info@burg-lenzen.de
END:VEVENT
BEGIN:VEVENT
DTSTART;TZID=Europe/Berlin:20250530T150000
DTEND;TZID=Europe/Berlin:20250530T170000
DTSTAMP:20260420T154344
CREATED:20240409T112832Z
LAST-MODIFIED:20240409T112832Z
UID:10001861-1748617200-1748624400@elblandwerker.de
SUMMARY:Familien-Café
DESCRIPTION:Ein Café\, in dem sich die ganze Familie wohlfühlt: Während die Kinder sich im Spielbereich tummeln\, genießen die Erwachsenen eine leckere Tasse Kaffee oder Tee\, lernen andere Groß-/Eltern kennen\, kommen ins Gespräch und tauschen sich miteinander aus. \nFreiwillige für das EKIDZ-Café gesucht: Wer hat Lust\, im Café-Team mitzumachen und an einzelnen Nachmittagen für Gastlichkeit zu sorgen\, Menschen zu begrüßen\, Waffeln zu backen\, Kaffee oder Tee auszuschenken? Wer hat Gestaltungsideen für solch ein Familien-Café? Bitte beim beim Team des EKIDZ MiteinanderRaums melden.
URL:https://elblandwerker.de/veranstaltungen/familien-cafe/2025-05-30/
LOCATION:EKIDZ – MiteinanderRaum\, Grünstr. 49\, Pritzwalk
CATEGORIES:Community,Engagement,Essen
ATTACH;FMTTYPE=image/png:https://elblandwerker.de/wp-content/uploads/2024/04/Bild-Familien-Cafe-e1679056046155.png
ORGANIZER;CN="EKIDZ MiteinanderRaum":MAILTO:hallo@ekidz-miteinanderraum.de
END:VEVENT
BEGIN:VEVENT
DTSTART;TZID=Europe/Berlin:20250530T190000
DTEND;TZID=Europe/Berlin:20250530T223000
DTSTAMP:20260420T154344
CREATED:20250513T182620Z
LAST-MODIFIED:20250513T182620Z
UID:10003655-1748631600-1748644200@elblandwerker.de
SUMMARY:Filmabend "Faltenrock"
DESCRIPTION:Dokumentarfilm „Faltenrock“- 83 Min\, DE 2019 – im Anschluss Filmgespräch mit der Regisseurin Leonie Kock – EINTRITT FREI \nWorum geht es: Was bedeutet Altern in einer Gesellschaft\, in der die Menschen immer länger leben? Mit der Kamera eines Freundes begleiten zwei junge Filmemacherinnen Stammgäste der Hamburger FALTENROCK Partyszene\, in der der Eintritt erst ab 60 Jahren erlaubt ist. Christian\, Mechthild\, Christiane und Volker fliegen nach China\, engagieren sich für Flüchtlinge\, suchen die Liebe und verschwinden dann doch für 3 Stunden auf Facebook. Die Auseinandersetzung mit dem eigenen Alter ist immer auch eine Auseinandersetzung mit den gesellschaftlichen Bildern davon. Der Dokumentarfilm FALTENROCK möchte sich zwischen diesen Bildern bewegen und uns mit den eigenen Vorstellungen vom Rentendasein konfrontieren. Wird es nicht vielleicht Zeit\, Alter neu zu definieren? \nSich in einzelne Lebenswelten hinein zu fühlen bedeutet auch zu erkennen: alles ist möglich. Nur eines ist gewiss. Ruhestand muss noch lange nicht Stillstand bedeuten.
URL:https://elblandwerker.de/veranstaltungen/filmabend-faltenrock/
LOCATION:Kulturkombinat Perleberg e.V.\, Am Hohen Ende 25\, Perleberg\, Brandenburg\, 19322\, Deutschland
CATEGORIES:Kino,Kultur
ATTACH;FMTTYPE=image/jpeg:https://elblandwerker.de/wp-content/uploads/2025/05/Fuer-A5-scaled.jpg
END:VEVENT
BEGIN:VEVENT
DTSTART;TZID=Europe/Berlin:20250530T190000
DTEND;TZID=Europe/Berlin:20250530T230000
DTSTAMP:20260420T154344
CREATED:20250328T082849Z
LAST-MODIFIED:20250328T082850Z
UID:10003307-1748631600-1748646000@elblandwerker.de
SUMMARY:Easy Friday
DESCRIPTION:Ihr habt Lust auf ein kühles Getränk und ein paar nette Gespräche zum Ende der Arbeitswoche? Der Stadtsalon Safari lädt an jedem Freitag von 19:00—23:00 zum Easy Friday ein! \nWie der Name schon sagt\, soll es ein zwangloses Zusammenkommen sein\, ganz ohne Dresscode oder sonstigen Schnickschnack. Es wird jedes Mal kühle Getränke gegen eine Spende geben\, hin und wieder wird auch etwas Musik aufgelegt\, eine fein kuratierte Playlist läuft aber mindestens.
URL:https://elblandwerker.de/veranstaltungen/easy-friday-20-2-2-2-4/2025-05-30/
LOCATION:Stadtsalon Safari\, Bismarckpl. 6\, Wittenberge\, 19322\, Deutschland
CATEGORIES:Community,Unterhaltung
ATTACH;FMTTYPE=image/jpeg:https://elblandwerker.de/wp-content/uploads/2023/02/WhatsApp-Image-2023-02-23-at-18.44.41-e1677530411729.jpeg
END:VEVENT
BEGIN:VEVENT
DTSTART;TZID=Europe/Berlin:20250530T190000
DTEND;TZID=Europe/Berlin:20250531T003000
DTSTAMP:20260420T154344
CREATED:20250511T123230Z
LAST-MODIFIED:20250511T123230Z
UID:10003653-1748631600-1748651400@elblandwerker.de
SUMMARY:Krankenschwester Rock(t)
DESCRIPTION:Das Festival in der selbsternannten Kulturhauptstadt Haaren findet zum 19. Mal statt. Headliner ist dieses Jahr MUTABOR. Die Band ist schon seit den 90er Jahren im Geschäft und bekannt für ihren einzigartigen Mix aus Punkrock\, Folk und Ska. Wichtig ist dem Verein Krankenschwester Rockt als Veranstalter\, dass auch lokale Bands und der Nachwuchs gefördert werden. Den Auftakt am Festivalabend macht daher die Band Teenage Dream von der Musikschule Perleberg\, die kreativ Rocksongs covern. Auftritte haben außerdem Circus Rhapsody\, Sinnfrei und Lottalärm. Außerdem gibt’s Bratwurst\, Burger und Bier. Auch die Jüngeren kommen mit Hüpfburg und einem jonglierenden Walking Act auf ihre Kosten.
URL:https://elblandwerker.de/veranstaltungen/krankenschwester-rockt-3/
LOCATION:Haaren\, Haaren 10\, Bad Wilsnack\, 19336
CATEGORIES:Musik
ATTACH;FMTTYPE=image/jpeg:https://elblandwerker.de/wp-content/uploads/2025/05/DSC4781-1.jpg
END:VEVENT
BEGIN:VEVENT
DTSTART;TZID=Europe/Berlin:20250601T150000
DTEND;TZID=Europe/Berlin:20250601T170000
DTSTAMP:20260420T154344
CREATED:20250507T145050Z
LAST-MODIFIED:20250521T093800Z
UID:10003649-1748790000-1748797200@elblandwerker.de
SUMMARY:Fair zusammen genießen: Kaffee\, Kuchen & Musik
DESCRIPTION:Wir lauschen gemeinsam akkustischen Klängen von Gitarre und Gesang und genießen dabei Kaffee und Kuchen. Ohne Anmeldung
URL:https://elblandwerker.de/veranstaltungen/fair-zusammen-geniessen-kaffee-kuchen-musik/2025-06-01/
LOCATION:Marthas Tisch\, Bahnstrasse 34\, Wittenberge\, 19322\, Germany
CATEGORIES:Community
ATTACH;FMTTYPE=image/jpeg:https://elblandwerker.de/wp-content/uploads/2025/05/elblandwerker-marthas-tisch-Fair-zusammen-geniessen.jpg
ORGANIZER;CN="Marthas Tisch":MAILTO:marthastisch@posteo.de
END:VEVENT
END:VCALENDAR