BEGIN:VCALENDAR
VERSION:2.0
PRODID:-//elblandwerker* - ECPv6.15.20//NONSGML v1.0//EN
CALSCALE:GREGORIAN
METHOD:PUBLISH
X-ORIGINAL-URL:https://elblandwerker.de
X-WR-CALDESC:Veranstaltungen für elblandwerker*
REFRESH-INTERVAL;VALUE=DURATION:PT1H
X-Robots-Tag:noindex
X-PUBLISHED-TTL:PT1H
BEGIN:VTIMEZONE
TZID:Europe/Berlin
BEGIN:DAYLIGHT
TZOFFSETFROM:+0100
TZOFFSETTO:+0200
TZNAME:CEST
DTSTART:20230326T010000
END:DAYLIGHT
BEGIN:STANDARD
TZOFFSETFROM:+0200
TZOFFSETTO:+0100
TZNAME:CET
DTSTART:20231029T010000
END:STANDARD
BEGIN:DAYLIGHT
TZOFFSETFROM:+0100
TZOFFSETTO:+0200
TZNAME:CEST
DTSTART:20240331T010000
END:DAYLIGHT
BEGIN:STANDARD
TZOFFSETFROM:+0200
TZOFFSETTO:+0100
TZNAME:CET
DTSTART:20241027T010000
END:STANDARD
BEGIN:DAYLIGHT
TZOFFSETFROM:+0100
TZOFFSETTO:+0200
TZNAME:CEST
DTSTART:20250330T010000
END:DAYLIGHT
BEGIN:STANDARD
TZOFFSETFROM:+0200
TZOFFSETTO:+0100
TZNAME:CET
DTSTART:20251026T010000
END:STANDARD
BEGIN:DAYLIGHT
TZOFFSETFROM:+0100
TZOFFSETTO:+0200
TZNAME:CEST
DTSTART:20260329T010000
END:DAYLIGHT
BEGIN:STANDARD
TZOFFSETFROM:+0200
TZOFFSETTO:+0100
TZNAME:CET
DTSTART:20261025T010000
END:STANDARD
BEGIN:DAYLIGHT
TZOFFSETFROM:+0100
TZOFFSETTO:+0200
TZNAME:CEST
DTSTART:20270328T010000
END:DAYLIGHT
BEGIN:STANDARD
TZOFFSETFROM:+0200
TZOFFSETTO:+0100
TZNAME:CET
DTSTART:20271031T010000
END:STANDARD
END:VTIMEZONE
BEGIN:VEVENT
DTSTART;TZID=Europe/Berlin:20260321T183000
DTEND;TZID=Europe/Berlin:20260322T150000
DTSTAMP:20260421T164040
CREATED:20260304T161601Z
LAST-MODIFIED:20260304T161601Z
UID:10006355-1774117800-1774191600@elblandwerker.de
SUMMARY:Eröffnung des YogaRaums
DESCRIPTION:Ich eröffne am 21.3.+22.3.26 meinen YogaRaum in der Bahnstr.92 in Wittenberge.\nAm 21.3.26 Eröffnungsfeier von 18.30-20.30 Uhr mit Vernissage der Pop-up Fotoausstellung mit dem Thema “Lieblingsplatz Wittenberge ”\nAm 22.3.26 von 13.30-15.00 Uhr Kaffee/Tee und Kuchen. Kommt gerne vorbei.
URL:https://elblandwerker.de/veranstaltungen/eroeffnung-des-yogaraums/
LOCATION:Bahnstraße 92 Wittenberge\, Bahnstr.92\, Wittenberge\, Brandenburg\, 19322\, Germany
CATEGORIES:Ausstellung,Community,Fest,Fotografie,Gesundheit
ATTACH;FMTTYPE=image/jpeg:https://elblandwerker.de/wp-content/uploads/2026/03/20260207_143453-1-scaled.jpg
END:VEVENT
BEGIN:VEVENT
DTSTART;TZID=Europe/Berlin:20260318T100000
DTEND;TZID=Europe/Berlin:20260318T143000
DTSTAMP:20260421T164040
CREATED:20260218T190843Z
LAST-MODIFIED:20260218T190843Z
UID:10006348-1773828000-1773844200@elblandwerker.de
SUMMARY:Fachforum in Wittenberge: Wissen bewahren - Fachkräfte binden!
DESCRIPTION:Wissenschaft trifft Praxis: Mit dem Fachforum bieten wir aus unserem Verbundprojekt InNoWest einen direkten Draht zu innovativen Ideen\, die die Prignitz voranbringen. Das Fachforum ist die Plattform für kurze Impulse aus der Wissenschaft\, intensiven Austausch mit Forschenden und die gemeinsame Entwicklung von praktischen Lösungen. \nThema des Fachforums: “Expert*innenwissen im Unternehmen sichern: Digitale Tools für die Praxis” \n18. März 2026 I 10 bis 14:30 Uhr I Transferort Wittenberge\, Am Bahnhof 3b \nReferenten: Tobias Schulze & Juliane Damian (Mittelstand-Digital Zentrum Zukunftskultur) \nWie bleibt wertvolles Expert*innenwissen im Betrieb\, wenn erfahrene Mitarbeitende gehen? Und wie lassen sich neue Fachkräfte schneller und fehlerfrei einarbeiten? Die Wirtschaftsförderung Land Brandenburg (WfBB) und das Mittelstand-Digital Zentrum laden Sie ein\, digitale Lösungen für diese Herausforderungen live zu erleben. \nDarum sollten Sie dabei sein: \nStatt grauer Theorie setzen wir auf den Praxis-Check. Wir zeigen Ihnen Werkzeuge\, die herstellerneutral sind und sofort – ohne eigene IT-Abteilung – in der Werkstatt oder Produktion genutzt werden können. Das Programm auf einen Blick: \n1. Experten-Impuls: Wie KI und digitale Schritt-für-Schritt-Anleitungen (AR) den Wissensfluss in Ihrem Betrieb sichern. \n2. Selbst-Test „easyARguide“: Erstellen Sie ohne Programmierkenntnisse eigene digitale Anleitungen für Ihr Team. \n3. Erfahrungsaustausch: Diskussion über aktuelle Veränderungsprojekte\, digitale Schulung und Fachkräftesicherung. \n4. Networking: Austausch beim Mittagsimbiss mit anderen Unternehmen der Region. \nDie Teilnahme ist kostenfrei. Vorkenntnisse sind nicht erforderlich. Die Plätze sind auf 20 Personen begrenzt. Wir bitten daher um eine verbindliche Voranmeldung. \nWir freuen uns darauf\, Sie in Wittenberge am Transferort der Hochschulen zu begrüßen.
URL:https://elblandwerker.de/veranstaltungen/fachforum-in-wittenberge-wissen-bewahren-fachkraefte-binden/
LOCATION:Bahnhof Wittenberge\, Goethestraße\, Wittenberge\, 19322
CATEGORIES:Arbeit,Bildung,Handwerk,Workshop
ATTACH;FMTTYPE=image/png:https://elblandwerker.de/wp-content/uploads/2026/02/Fachforum_Websitenbanner_allgemein-copy-1.png
ORGANIZER;CN="InNoWest Transferort":MAILTO:transferort@inowest-brandenburg.de
END:VEVENT
BEGIN:VEVENT
DTSTART;TZID=Europe/Berlin:20260307T100000
DTEND;TZID=Europe/Berlin:20260307T120000
DTSTAMP:20260421T164040
CREATED:20260227T201930Z
LAST-MODIFIED:20260302T101103Z
UID:10006352-1772877600-1772884800@elblandwerker.de
SUMMARY:Kleine Auszeit für dich\, deinen Körper\, deine Seele\, deinen Geist
DESCRIPTION:Ein harmonisches Zusammenspiel aus Wahrnehmen\, Kräftigen\, Loslassen und Auftanken\nVerbringe einen entspannten Vormittag nur für dich!\nAchtsamkeit\, Yoga\, Pilates\, körperbasierte Selbsterfahrung\nund ayurvedische Snacks zum Abschluss \nVerbindliche Anmeldung bei Mandy\n0152 01842505 oder mandylaskewitz@gmail.com
URL:https://elblandwerker.de/veranstaltungen/kleine-auszeit-fuer-dich-deinen-koerper-deine-seele-deinen-geist/
LOCATION:Yogastudio »man•dala«\, Bäckerstr. 33\, Wittenberge\, Brandenburg\, 19322\, Deutschland
CATEGORIES:Gesundheit,Sport,Workshop
ATTACH;FMTTYPE=image/jpeg:https://elblandwerker.de/wp-content/uploads/2026/02/photo_2026-02-27_16-39-59.jpg
ORGANIZER;CN="Alicia den Hoet":MAILTO:aliciadenhoet@gmail.com
END:VEVENT
BEGIN:VEVENT
DTSTART;TZID=Europe/Berlin:20251015T160000
DTEND;TZID=Europe/Berlin:20251015T190000
DTSTAMP:20260421T164040
CREATED:20250924T160526Z
LAST-MODIFIED:20251008T173740Z
UID:10004615-1760544000-1760554800@elblandwerker.de
SUMMARY:Was sind " Sozialunternehmen"? Alter Wein oder neuer Ansatz?
DESCRIPTION:Welchen Beitrag können Sozialunternehmen für die regionale Entwicklung leisten? \nZwischen den klassischen Vereinsstrukturen und den etablierten Unternehmensformen haben sich in den vergangenen Jahren vielfältige Zwischenformen etabliert\, die bislang wenig im öffentlichen Fokus standen. \nSozialunternehmen verbinden wirtschaftliches Handeln mit sozialen Innovationen und der Zielsetzung\, gesellschaftliche Herausforderungen auf neue Art zu bearbeiten – z. B. in Kultur\, Umwelt\, Mobilität\, Pflege\, Sozialer Arbeit\, Bildung\, Nachhaltigkeit und vielen anderen Bereichen regionaler Entwicklung. Besonderes in den ländlichen Räumen haben sie das Potenzial\, relevante Leerstellen zwischen Gemeinnützigkeit und Wirtschaftlichkeit zu füllen\, die durch klassische Einzelunternehmen und Vereine nicht (mehr) gedeckt werden. \nIm Rahmen unserer Veranstaltung möchten wir aufzeigen\, was Sozialunternehmen sind\, wie sie funktionieren und was sie leisten können – und weshalb sie für die Prignitz neben den etablierten Strukturen eine relevante Rolle spielen können. \nDatum: 15. Oktober 2025\nUhrzeit: 16-19 Uhr\nOrt: Stadtsalon Safari | Bismarckplatz 6 | 19322 Wittenberge\nVeranstalter: das Kompetenzzentrum für Soziales Unternehmertum in Brandenburg\, unterstützt von InNoWest\nAnmeldung: kostenlos unter https://pretix.eu/KompetenzzSozialesUnternehmertum/SozUnternPrignitz/ \nProgramm:\nIm ersten Teil der Veranstaltung erwarten Sie inhaltlich fundierte Programmpunkte\, die anhand konkreter Praxisbeispiele veranschaulichen: \n• wie Sozialunternehmen zwischen Verein und klassischem Unternehmen agieren\,\n• welche fachlichen Ansätze und welche Geschäftsmodelle es gibt\,\n• welches wirtschaftliche und gesellschaftliche Potenzial in diesen Strukturen steckt\,\n• und wie sie zur Lösung aktueller Herausforderungen in der Region beitragen können. \nExpertinnen und Experten sowie erfahrene Sozialunternehmen aus dem Land Brandenburg werden einen Einblick in ihre Praxis geben\, darunter das Kompetenzzentrum für Soziales Unternehmertum in Brandenburg\, die Wirtschaftsförderung des Landes Brandenburg (WFBB) und Sozialunternehmerinnen aus der Region. \nDialog:\nAnschließend möchten wir mit Ihnen darüber sprechen\, wo Sie konkrete Handlungsbedarfe in der Region zwischen Wirtschaftlichkeit und Gemeinnützigkeit sehen\, welche Ideen und Lösungsansätze es schon gibt und welche Unterstützung für die Umsetzung noch gebraucht wird. \nDabei stellt das Kompetenzzentrum für Soziales Unternehmertum in Brandenburg sein Angebot als zentrale Anlaufstelle für Informationen\, Beratung und Vernetzung vor. Dieses Angebot steht auch in der Prignitz zur Verfügung. \nIm Anschluss laden wir Sie bei Snacks und Getränken zu einem offenen Austausch untereinander und mit uns ein. \nAn wen sich die Veranstaltung richtet:\nHerzlich eingeladen sind sowohl erfahrene Akteurinnen und Akteure\, Unternehmer und Unternehmerinnen als auch interessierte Bürgerinnen und Bürger\, Vertreterinnen und Vertreter aus Zivilgesellschaft und Sozialwirtschaft\, Initiativen\, Vereinen\, Wirtschaft\, Politik und Verwaltung. \nWir freuen uns auf einen interessanten Austausch mit Ihnen! \nDas Kompetenzzentrum für Soziales Unternehmertum in Brandenburg wird aus Mitteln des Europäischen Sozialfonds Plus und des Landes Brandenburg gefördert und durch die Social Impact gGmbH umgesetzt. https://kompetenzzentrum-soziales-unternehmertum-brb.net/ \nDas Verbundprojekt „InNoWest“ der Hochschulen in Brandenburg an der Havel\, Eberswalde und Potsdam wird gefördert von der Bund-Länder-Initiative “Innovative Hochschule” des Bundesministeriums für Forschung\, Technologie und Raumfahrt und der Gemeinsamen Wissenschaftskonferenz der Länder. https://innowest-brandenburg.de
URL:https://elblandwerker.de/veranstaltungen/was-sind-sozialunternehmen-alter-wein-oder-neuer-ansatz/
LOCATION:Stadtsalon Safari\, Bismarckpl. 6\, Wittenberge\, 19322\, Deutschland
CATEGORIES:Arbeit,Bildung,Demokratie,Engagement,Leben,Nachhaltigkeit,Wandel,Workshop
ATTACH;FMTTYPE=image/png:https://elblandwerker.de/wp-content/uploads/2025/09/Bildschirmfoto-2025-10-08-um-16.45.48.png
ORGANIZER;CN="Kompetenzzentrum f%C3%BCr Soziales Unternehmertum in Brandenburg":MAILTO:kontakt@kompetenzzentrum-soziales-unternehmertum-brb.net
END:VEVENT
BEGIN:VEVENT
DTSTART;TZID=Europe/Berlin:20250924T190000
DTEND;TZID=Europe/Berlin:20250924T200000
DTSTAMP:20260421T164040
CREATED:20250906T080413Z
LAST-MODIFIED:20250906T080413Z
UID:10004596-1758740400-1758744000@elblandwerker.de
SUMMARY:Fair zusammen entdecken: Tabus und Träume – Ein Multivisionsvortrag über das Leben von Frauen in Nepal
DESCRIPTION:Dori Rindle nimmt das Publikum mit auf eine Reise in die Lebensrealität nepalesischer Frauen – zwischen Tradition und dem Wunsch nach Selbstbestimmung. Drei Kurzfilme geben bewegende Einblicke in Mut\, Kraft und Hoffnung auf ein unabhängiges Leben.\nOhne Anmeldung.
URL:https://elblandwerker.de/veranstaltungen/fair-zusammen-entdecken-tabus-und-traeume-ein-multivisionsvortrag-ueber-das-leben-von-frauen-in-nepal/
LOCATION:Marthas Tisch\, Bahnstrasse 34\, Wittenberge\, 19322\, Germany
CATEGORIES:Community,Coworking,Demokratie,Leben
ATTACH;FMTTYPE=image/jpeg:https://elblandwerker.de/wp-content/uploads/2025/09/24.09.2025-scaled.jpg
ORGANIZER;CN="Marthas Tisch":MAILTO:marthastisch@posteo.de
END:VEVENT
BEGIN:VEVENT
DTSTART;TZID=Europe/Berlin:20250613T100000
DTEND;TZID=Europe/Berlin:20250613T120000
DTSTAMP:20260421T164040
CREATED:20250507T145108Z
LAST-MODIFIED:20250521T093253Z
UID:10003647-1749808800-1749816000@elblandwerker.de
SUMMARY:Fair zusammen kochen: FairKocht!
DESCRIPTION:Wir kochen gemeinsam einen Mittagstisch für alle\, es muss nichts mitgebracht werden.\n📞 Anmeldung unter marthastisch@posteo.de oder unter 0175 4203611 oder persönlich bei uns während der Öffnungszeiten\nFair zusammen genießen: Mittagstisch für alle. Ohne Anmeldung
URL:https://elblandwerker.de/veranstaltungen/fair-zusammen-kochen-fairkocht/2025-06-13/
LOCATION:Marthas Tisch\, Bahnstrasse 34\, Wittenberge\, 19322\, Germany
CATEGORIES:Community
ATTACH;FMTTYPE=image/png:https://elblandwerker.de/wp-content/uploads/2023/01/marthas-tisch-fairkocht.png
ORGANIZER;CN="Marthas Tisch":MAILTO:marthastisch@posteo.de
END:VEVENT
BEGIN:VEVENT
DTSTART;TZID=Europe/Berlin:20250601T150000
DTEND;TZID=Europe/Berlin:20250601T170000
DTSTAMP:20260421T164040
CREATED:20250507T145050Z
LAST-MODIFIED:20250521T093800Z
UID:10003649-1748790000-1748797200@elblandwerker.de
SUMMARY:Fair zusammen genießen: Kaffee\, Kuchen & Musik
DESCRIPTION:Wir lauschen gemeinsam akkustischen Klängen von Gitarre und Gesang und genießen dabei Kaffee und Kuchen. Ohne Anmeldung
URL:https://elblandwerker.de/veranstaltungen/fair-zusammen-geniessen-kaffee-kuchen-musik/2025-06-01/
LOCATION:Marthas Tisch\, Bahnstrasse 34\, Wittenberge\, 19322\, Germany
CATEGORIES:Community
ATTACH;FMTTYPE=image/jpeg:https://elblandwerker.de/wp-content/uploads/2025/05/elblandwerker-marthas-tisch-Fair-zusammen-geniessen.jpg
ORGANIZER;CN="Marthas Tisch":MAILTO:marthastisch@posteo.de
END:VEVENT
BEGIN:VEVENT
DTSTART;TZID=Europe/Berlin:20250525T150000
DTEND;TZID=Europe/Berlin:20250525T170000
DTSTAMP:20260421T164040
CREATED:20250507T145050Z
LAST-MODIFIED:20250521T093800Z
UID:10003648-1748185200-1748192400@elblandwerker.de
SUMMARY:Fair zusammen genießen: Kaffee\, Kuchen & Musik
DESCRIPTION:Wir lauschen gemeinsam akkustischen Klängen von Gitarre und Gesang und genießen dabei Kaffee und Kuchen. Ohne Anmeldung
URL:https://elblandwerker.de/veranstaltungen/fair-zusammen-geniessen-kaffee-kuchen-musik/2025-05-25/
LOCATION:Marthas Tisch\, Bahnstrasse 34\, Wittenberge\, 19322\, Germany
CATEGORIES:Community
ATTACH;FMTTYPE=image/jpeg:https://elblandwerker.de/wp-content/uploads/2025/05/elblandwerker-marthas-tisch-Fair-zusammen-geniessen.jpg
ORGANIZER;CN="Marthas Tisch":MAILTO:marthastisch@posteo.de
END:VEVENT
BEGIN:VEVENT
DTSTART;TZID=Europe/Berlin:20250523T100000
DTEND;TZID=Europe/Berlin:20250523T120000
DTSTAMP:20260421T164040
CREATED:20250507T145108Z
LAST-MODIFIED:20250521T093253Z
UID:10003646-1747994400-1748001600@elblandwerker.de
SUMMARY:Fair zusammen kochen: FairKocht!
DESCRIPTION:Wir kochen gemeinsam einen Mittagstisch für alle\, es muss nichts mitgebracht werden.\n📞 Anmeldung unter marthastisch@posteo.de oder unter 0175 4203611 oder persönlich bei uns während der Öffnungszeiten\nFair zusammen genießen: Mittagstisch für alle. Ohne Anmeldung
URL:https://elblandwerker.de/veranstaltungen/fair-zusammen-kochen-fairkocht/2025-05-23/
LOCATION:Marthas Tisch\, Bahnstrasse 34\, Wittenberge\, 19322\, Germany
CATEGORIES:Community
ATTACH;FMTTYPE=image/png:https://elblandwerker.de/wp-content/uploads/2023/01/marthas-tisch-fairkocht.png
ORGANIZER;CN="Marthas Tisch":MAILTO:marthastisch@posteo.de
END:VEVENT
BEGIN:VEVENT
DTSTART;TZID=Europe/Berlin:20250522T150000
DTEND;TZID=Europe/Berlin:20250522T180000
DTSTAMP:20260421T164040
CREATED:20250507T145111Z
LAST-MODIFIED:20250507T145111Z
UID:10003645-1747926000-1747936800@elblandwerker.de
SUMMARY:Fair zusammen kreativ sein
DESCRIPTION:Die Kunst der Schmuckherstellung Gestalten Sie Ihr eigenes einzigartiges Schmuckstück unter professioneller Anleitung.\n📞 Anmeldung unter marthastisch@posteo.de oder unter 0175 4203611 oder persönlich bei uns während der Öffnungszeiten
URL:https://elblandwerker.de/veranstaltungen/fair-zusammen-kreativ-sein/
LOCATION:Marthas Tisch\, Bahnstrasse 34\, Wittenberge\, 19322\, Germany
CATEGORIES:Community
ATTACH;FMTTYPE=image/jpeg:https://elblandwerker.de/wp-content/uploads/2025/05/photo_2025-05-07-11.54.48.jpeg
ORGANIZER;CN="Marthas Tisch":MAILTO:marthastisch@posteo.de
END:VEVENT
BEGIN:VEVENT
DTSTART;TZID=Europe/Berlin:20250326T100000
DTEND;TZID=Europe/Berlin:20250326T140000
DTSTAMP:20260421T164040
CREATED:20250307T193357Z
LAST-MODIFIED:20250307T193357Z
UID:10003528-1742983200-1742997600@elblandwerker.de
SUMMARY:DEKRA Akademie - Tag der offenen Tür
DESCRIPTION:An diesem Tag möchten wir Ihnen unsere vielfältigen Weiterbildungsangebote vorstellen\, die unter anderem durch das Jobcenter und die Agentur für Arbeit gefördert werden können. \nSie haben die Möglichkeit\, mehr über die verschiedenen Programme zu erfahren\, die Ihnen helfen können\, Ihren beruflichen Fähigkeiten zu erweitern und neue Perspektiven zu entdecken. Unsere Experten stehen bereit\, um Ihre Fragen zu beantworten und Sie individuell zu beraten. \nWir laden Sie herzlich ein\, vorbeizukommen und sich inspirieren zu lassen! Wenn Sie weitere Informationen benötigen oder Fragen haben\, lassen Sie es mich gerne wissen. Wir freuen uns darauf\, Ihnen zu helfen!
URL:https://elblandwerker.de/veranstaltungen/dekra-akademie-tag-der-offenen-tuer/
LOCATION:DEKRA Akademie GmbH\, Am Bahnhof 3b\, Wittenberge\, 19322\, Germany
CATEGORIES:Bildung
ATTACH;FMTTYPE=image/jpeg:https://elblandwerker.de/wp-content/uploads/2025/03/Tag-der-offenen-Tuer-scaled.jpg
ORGANIZER;CN="DEKRA Akademie GmbH":MAILTO:nadine.remus@dekra.com
END:VEVENT
BEGIN:VEVENT
DTSTART;TZID=Europe/Berlin:20250215T200000
DTEND;TZID=Europe/Berlin:20250215T220000
DTSTAMP:20260421T164040
CREATED:20250107T125416Z
LAST-MODIFIED:20250107T125416Z
UID:10003230-1739649600-1739656800@elblandwerker.de
SUMMARY:Best of Poetry Slam
DESCRIPTION:Best of Poetry Slam ist der bestmögliche Poetry Slam. Punkt. Klingt schlicht\, ist aber alles andere als schlicht\, sondern ein opulentes Sprachspektakel mit ausufernden Gedanken und charmantem Humor mit einem Augenzwinkern zum Einrahmen. Es warten fünf eigene Stimmen auf euch\, von denen man sich wirklich einiges erzählen lassen würde. Natürlich könnte niemand entscheiden\, wer da am besten war – außer euch. Denn ihr bestimmt den Verlauf des Abends und sucht euch aus\, wer weiterkommt und in welche Richtung wir uns mit euch verlaufen sollen. Also ab ins Theater zu Best of Poetry Slam\, einem Subkulturformat\, das sich für euch rausgeputzt hat. Die ganz schönen Stimmen in den ganz schönen Locations. Ein Abend für diejenigen\, die schon sehr viel Slam gesehen haben\, oder für die\, die gleich ganz hoch einsteigen wollen. Freut euch auf ein Driftbattle für übermotorisierte Versmaschinen\, Texttiraden ohne Tempolimit\, verbales Eiskunstlaufen mit den scharfen Kanten der Sprache über das brennende Eis der Fantasie. Okay\, okay\, das war wirklich einer zu viel. Aber beim Best of Poetry Slam wird es eben “keinen zu viel” geben\, denn eines versprechen wir euch: Ihr werdet nicht nach Hause gehen wollen.
URL:https://elblandwerker.de/veranstaltungen/best-of-poetry-slam/
LOCATION:Kultur- & Festspielhaus Wittenberge\, Paul-Lincke-Platz 1\, Wittenberge\, 19322\, Deutschland
CATEGORIES:Kultur,Kunst,Theater
ATTACH;FMTTYPE=image/jpeg:https://elblandwerker.de/wp-content/uploads/2025/01/2024.09_Insta-Kacheln_Slambuehne_WITTENBERGE_a.jpg
ORGANIZER;CN="Kultur- und Festspielhaus Wittenberge":MAILTO:tickets@kulturhaus-wittenberge.de
END:VEVENT
BEGIN:VEVENT
DTSTART;TZID=Europe/Berlin:20241213T190000
DTEND;TZID=Europe/Berlin:20241213T230000
DTSTAMP:20260421T164040
CREATED:20241130T214439Z
LAST-MODIFIED:20241130T214439Z
UID:10002968-1734116400-1734130800@elblandwerker.de
SUMMARY:Easy Friday meets Last Quizmas… Quiz 'n Sing
DESCRIPTION:Der Quiz ‘n‘ Sing Abend geht in die zweite Runde! 🍻🤯☃️🎤\nErst werden die Gehirnzellen und dann die Stimmbänder angeregt.\nÀ la Pubquiz-Atmosphäre wird in Teams gequizt und Fragen aus den Bereichen Allgemeinwissen\, Popkultur und “das habe ich doch schon mal irgendwo gehört” beantwortet. Unsere Spezial-Kategorie an diesem Abend\, wie soll es anders sein\, „All I want for Quizmas“. \nIm Anschluss an die Sieger:innenehrung und den ersten Song des Abend “All I want for Christmas” können alle ihre Lieblingssongs beim Karaoke zum besten geben. \nEintritt frei\, Getränke auf Spende
URL:https://elblandwerker.de/veranstaltungen/easy-friday-meets-last-quizmas-quiz-n-sing/
LOCATION:Stadtsalon Safari\, Bismarckpl. 6\, Wittenberge\, 19322\, Deutschland
CATEGORIES:Community,Musik,Singen,Unterhaltung
ATTACH;FMTTYPE=image/jpeg:https://elblandwerker.de/wp-content/uploads/2024/11/Quiz-n-Sing.jpg
END:VEVENT
BEGIN:VEVENT
DTSTART;TZID=Europe/Berlin:20241102T110000
DTEND;TZID=Europe/Berlin:20241102T130000
DTSTAMP:20260421T164040
CREATED:20241029T182643Z
LAST-MODIFIED:20241029T182643Z
UID:10002963-1730545200-1730552400@elblandwerker.de
SUMMARY:Lesung "Pep Talks für die Seele: Wie Du Halt\, Klarheit und Vertrauen in Dir findest" im Café Anton
DESCRIPTION:Sicher kennst Du diese kritische innere Stimme\, die Dich ermahnt und ziemlich in Schach hält? \nDiese Stimme kannst Du in eine unterstützende und wertschätzende Stimme verwandeln. Wie das funktioniert erfährst Du in meiner Lesung zu meinem Buch “Pep Talks für die Seele”. Ich gebe Dir einfache Impulse mit\, Dich anzunehmen und für anstatt gegen Dich zu arbeiten. \nIch freue mich auf Dich\,\nDeine Susan \nPS: Für die bessere Planung melde Dich bitte zur Lesung an unter: +4915157018539 oder info@cafeanton.de
URL:https://elblandwerker.de/veranstaltungen/lesung-pep-talks-fuer-die-seele-wie-du-halt-klarheit-und-vertrauen-in-dir-findest-im-cafe-anton/
LOCATION:Cafe Anton\, Dr.-Gebauer-Straße 22\, Wittenberge\, 19322\, Germany
CATEGORIES:Kultur
ATTACH;FMTTYPE=image/png:https://elblandwerker.de/wp-content/uploads/2024/10/Lesung-am-02.11.24-um-11-Uhr-im-Cafe-Anton-Wittenberge.png
END:VEVENT
BEGIN:VEVENT
DTSTART;TZID=Europe/Berlin:20241019T200000
DTEND;TZID=Europe/Berlin:20241019T230000
DTSTAMP:20260421T164040
CREATED:20241014T181448Z
LAST-MODIFIED:20241014T181448Z
UID:10002935-1729368000-1729378800@elblandwerker.de
SUMMARY:Jazzduo Rudi Mahall & Michael Griener im Stadtsalon Safari
DESCRIPTION:Am 19.10.2024 um 20 Uhr lädt der Stadtsalon Safari zu einer besonderen Klangreise ein. Rudi Mahall und Michael Griener spielen zeitgenössischen Jazz in gemütlicher Wohnzimmeratmosphäre. \nMit der Konzertreihe “Jazzpreis” haben Rudi Mahall (Bassklarinette\, Klarinette\, Saxophon) und Michael Griener (Schlagzeug\, Vibraphon) bereits in den Sommermonaten an drei Standorten in der Prignitz gespielt. Im Stadtsalon wird vorerst das letzte Konzert in diesem Jahr in der Region stattfinden. Für alle\, die dies nicht verpassen wollen besteht also hier noch einmal die Möglichkeit sich auf ungewöhnliche\, zum Teil humorvolle Klänge einzulassen\, vor allem aber auch auf verdammt guten Jazz. \nKonzert “Jazzpreis”\nRudi Mahall (Bassklarinette\, Klarinette\, Saxophon)\nMichael Griener (Schlagzeug\, Vibraphon) \nOrt: Stadtsalon Safari\, Bismarckplatz 6\, 19322 Wittenberge\nZeit: 20 Uhr\nEintritt: frei\, Spenden willkommen.
URL:https://elblandwerker.de/veranstaltungen/jazzduo-rudi-mahall-michael-griener-im-stadtsalon-safari/
LOCATION:Stadtsalon Safari\, Bismarckpl. 6\, Wittenberge\, 19322\, Deutschland
CATEGORIES:Konzert,Kultur,Kunst,Musik
ATTACH;FMTTYPE=image/jpeg:https://elblandwerker.de/wp-content/uploads/2024/10/Jazzpreis-im-Safari-Mahall-Griener.jpg
ORGANIZER;CN="Stadtsalon Safari e.V.":MAILTO:hallo@stadtsalon-safari.de
END:VEVENT
END:VCALENDAR