BEGIN:VCALENDAR
VERSION:2.0
PRODID:-//elblandwerker* - ECPv6.15.20//NONSGML v1.0//EN
CALSCALE:GREGORIAN
METHOD:PUBLISH
X-ORIGINAL-URL:https://elblandwerker.de
X-WR-CALDESC:Veranstaltungen für elblandwerker*
REFRESH-INTERVAL;VALUE=DURATION:PT1H
X-Robots-Tag:noindex
X-PUBLISHED-TTL:PT1H
BEGIN:VTIMEZONE
TZID:Europe/Berlin
BEGIN:DAYLIGHT
TZOFFSETFROM:+0100
TZOFFSETTO:+0200
TZNAME:CEST
DTSTART:20250330T010000
END:DAYLIGHT
BEGIN:STANDARD
TZOFFSETFROM:+0200
TZOFFSETTO:+0100
TZNAME:CET
DTSTART:20251026T010000
END:STANDARD
BEGIN:DAYLIGHT
TZOFFSETFROM:+0100
TZOFFSETTO:+0200
TZNAME:CEST
DTSTART:20260329T010000
END:DAYLIGHT
BEGIN:STANDARD
TZOFFSETFROM:+0200
TZOFFSETTO:+0100
TZNAME:CET
DTSTART:20261025T010000
END:STANDARD
BEGIN:DAYLIGHT
TZOFFSETFROM:+0100
TZOFFSETTO:+0200
TZNAME:CEST
DTSTART:20270328T010000
END:DAYLIGHT
BEGIN:STANDARD
TZOFFSETFROM:+0200
TZOFFSETTO:+0100
TZNAME:CET
DTSTART:20271031T010000
END:STANDARD
END:VTIMEZONE
BEGIN:VEVENT
DTSTART;TZID=Europe/Berlin:20260505T160000
DTEND;TZID=Europe/Berlin:20260505T200000
DTSTAMP:20260425T154403
CREATED:20260326T204749Z
LAST-MODIFIED:20260326T204749Z
UID:10006371-1777996800-1778011200@elblandwerker.de
SUMMARY:Soziales Unternehmertum in der Prignitz
DESCRIPTION:Mit der Veranstaltung „Was sind Sozialunternehmen“ ist das Kompetenzzentrum für Soziales Unternehmertum des Landes Brandenburg\, unterstützt von InNoWest\, im Oktober 2025 auf ein sehr großes Interesse seitens der Prignitzer:innen gestoßen. Bei der Folgeveranstaltung am 5. Mai 2026 ab 16 Uhr in Perleberg sind nun alle Interessierten herzlich eingeladen\, dabei zu sein. Zu erwarten sind Inputs namhafter Vertreter wie der Wirtschaftsförderung Brandenburg\, ein Panel und eine Workshoprunde\, um das Soziale Unternehmertum und seine Potentiale für die Entwicklung der Prignitz tiefergehend zu begreifen.
URL:https://elblandwerker.de/veranstaltungen/soziales-unternehmertum-in-der-prignitz/
LOCATION:CJD Berlin-Brandenburg in Perleberg\, Reetzer Str. 73\, Perleberg\, Prignitz\, 19348\, Germany
CATEGORIES:Arbeit,Community,Engagement,Wandel,Workshop
ATTACH;FMTTYPE=image/png:https://elblandwerker.de/wp-content/uploads/2026/03/Banner_Einladung_Perleberg.png
END:VEVENT
END:VCALENDAR