BEGIN:VCALENDAR
VERSION:2.0
PRODID:-//elblandwerker* - ECPv6.15.20//NONSGML v1.0//EN
CALSCALE:GREGORIAN
METHOD:PUBLISH
X-ORIGINAL-URL:https://elblandwerker.de
X-WR-CALDESC:Veranstaltungen für elblandwerker*
REFRESH-INTERVAL;VALUE=DURATION:PT1H
X-Robots-Tag:noindex
X-PUBLISHED-TTL:PT1H
BEGIN:VTIMEZONE
TZID:Europe/Berlin
BEGIN:DAYLIGHT
TZOFFSETFROM:+0100
TZOFFSETTO:+0200
TZNAME:CEST
DTSTART:20230326T010000
END:DAYLIGHT
BEGIN:STANDARD
TZOFFSETFROM:+0200
TZOFFSETTO:+0100
TZNAME:CET
DTSTART:20231029T010000
END:STANDARD
BEGIN:DAYLIGHT
TZOFFSETFROM:+0100
TZOFFSETTO:+0200
TZNAME:CEST
DTSTART:20240331T010000
END:DAYLIGHT
BEGIN:STANDARD
TZOFFSETFROM:+0200
TZOFFSETTO:+0100
TZNAME:CET
DTSTART:20241027T010000
END:STANDARD
BEGIN:DAYLIGHT
TZOFFSETFROM:+0100
TZOFFSETTO:+0200
TZNAME:CEST
DTSTART:20250330T010000
END:DAYLIGHT
BEGIN:STANDARD
TZOFFSETFROM:+0200
TZOFFSETTO:+0100
TZNAME:CET
DTSTART:20251026T010000
END:STANDARD
BEGIN:DAYLIGHT
TZOFFSETFROM:+0100
TZOFFSETTO:+0200
TZNAME:CEST
DTSTART:20260329T010000
END:DAYLIGHT
BEGIN:STANDARD
TZOFFSETFROM:+0200
TZOFFSETTO:+0100
TZNAME:CET
DTSTART:20261025T010000
END:STANDARD
END:VTIMEZONE
BEGIN:VEVENT
DTSTART;TZID=Europe/Berlin:20241102T110000
DTEND;TZID=Europe/Berlin:20241102T130000
DTSTAMP:20260420T020459
CREATED:20241029T182643Z
LAST-MODIFIED:20241029T182643Z
UID:10002963-1730545200-1730552400@elblandwerker.de
SUMMARY:Lesung "Pep Talks für die Seele: Wie Du Halt\, Klarheit und Vertrauen in Dir findest" im Café Anton
DESCRIPTION:Sicher kennst Du diese kritische innere Stimme\, die Dich ermahnt und ziemlich in Schach hält? \nDiese Stimme kannst Du in eine unterstützende und wertschätzende Stimme verwandeln. Wie das funktioniert erfährst Du in meiner Lesung zu meinem Buch “Pep Talks für die Seele”. Ich gebe Dir einfache Impulse mit\, Dich anzunehmen und für anstatt gegen Dich zu arbeiten. \nIch freue mich auf Dich\,\nDeine Susan \nPS: Für die bessere Planung melde Dich bitte zur Lesung an unter: +4915157018539 oder info@cafeanton.de
URL:https://elblandwerker.de/veranstaltungen/lesung-pep-talks-fuer-die-seele-wie-du-halt-klarheit-und-vertrauen-in-dir-findest-im-cafe-anton/
LOCATION:Cafe Anton\, Dr.-Gebauer-Straße 22\, Wittenberge\, 19322\, Germany
CATEGORIES:Kultur
ATTACH;FMTTYPE=image/png:https://elblandwerker.de/wp-content/uploads/2024/10/Lesung-am-02.11.24-um-11-Uhr-im-Cafe-Anton-Wittenberge.png
END:VEVENT
BEGIN:VEVENT
DTSTART;TZID=Europe/Berlin:20241204T190000
DTEND;TZID=Europe/Berlin:20241204T200000
DTSTAMP:20260420T020459
CREATED:20241128T183335Z
LAST-MODIFIED:20241128T183634Z
UID:10002967-1733338800-1733342400@elblandwerker.de
SUMMARY:Lesung in Bad Wilsnack
DESCRIPTION:Sicher kennst Du diese kritische innere Stimme\, die Dich ermahnt und ziemlich in Schach hält? \nDiese Stimme kannst Du in eine unterstützende und wertschätzende Stimme verwandeln. \nWie das funktioniert erfährst Du in meiner Lesung zu meinem Buch “Pep Talks für die Seele”. \nIch gebe Dir einfache Impulse mit\, Dich anzunehmen und für anstatt gegen Dich zu arbeiten. \nIch freue mich auf Dich\, Deine Susan \n 
URL:https://elblandwerker.de/veranstaltungen/lesung-in-bad-wilsnack/
LOCATION:Stadtbibliothek Bad Wilsnack\, Am Markt 5\, Bad Wilsnack\, 19336
ATTACH;FMTTYPE=image/jpeg:https://elblandwerker.de/wp-content/uploads/2024/11/Foto-Lesung-scaled.jpg
END:VEVENT
BEGIN:VEVENT
DTSTART;TZID=Europe/Berlin:20250129T193000
DTEND;TZID=Europe/Berlin:20250129T203000
DTSTAMP:20260420T020459
CREATED:20250107T125333Z
LAST-MODIFIED:20250107T125333Z
UID:10003231-1738179000-1738182600@elblandwerker.de
SUMMARY:Verrücktes Blut - Talk-Lese-Tour mit Joe Bausch
DESCRIPTION:Talk & Lesung mit Deutschlands bekanntesten Knastarzt & Schauspieler\nJoe Bausch ist als Schauspieler aus dem Kölner Tatort gut bekannt. Dort spielt er den Rechtsmediziner Dr. Joseph Roth. Er arbeitete aber auch über 32 Jahre lang als Anstaltsarzt in Deutschlands größtem Hochsicherheitsgefängnis in Werl.\nNicht nur als Schauspieler und Arzt ist Joe Bausch erfolgreich\, auch als Autor. Seine Bücher „Knast”\, „Gangsterblues“ und „Maxima Culpa“ sind Spiegel-Bestseller. In seinem neuesten Buch „Verrücktes Blut“\, das am 30. Mai 2024 erschienen ist\, spricht er erstmals schonungslos ehrlich über die Zeit\, in der er tiefste Demütigung\, Gewalt und Übergriffe erleben musste.\nMit diesem Buch ist Joe Bausch am Mittwoch\, dem 29. Januar 2025 ab 19.30 Uhr gemeinsam mit Dr. Tino Grosche auf Talk-Lese-Tour im Wittenberger Kultur- und Festspielhaus.\nBausch spricht über sein Aufwachsen als Bauernsohn in der Nachkriegszeit und darüber\, wie die zum Teil traumatischen Erfahrungen seiner Kindheit und Jugend ihn prägten. Mit aller Härte\, die sein Vater für nötig hält und die ihm selbst widerfahren ist\, erzieht er den Sohn Anfang der 50er Jahre zum Hoferben. Doch der will kein Bauer werden und nichts wie weg aus dem Westerwald\, raus aus der Welt der Enge und Verlogenheit.\nNatürlich ist seine Geschichte auch geprägt und gespickt mit den Erlebnissen aus seinen über 30 Jahren als Knastarzt\, von denen er an dem Abend ebenfalls schonungslos berichten wird. \nFoto: Wolfgang Schmidt
URL:https://elblandwerker.de/veranstaltungen/verruecktes-blut-talk-lese-tour-mit-joe-bausch/
LOCATION:Kultur- & Festspielhaus Wittenberge\, Paul-Lincke-Platz 1\, Wittenberge\, 19322\, Deutschland
CATEGORIES:Bücherabend,Kultur,Unterhaltung
ATTACH;FMTTYPE=image/jpeg:https://elblandwerker.de/wp-content/uploads/2025/01/Joe-Bausch-Copyright-Wolfgang-Schmidt-min-scaled.jpg
END:VEVENT
BEGIN:VEVENT
DTSTART;TZID=Europe/Berlin:20250614T200000
DTEND;TZID=Europe/Berlin:20250614T220000
DTSTAMP:20260420T020459
CREATED:20250607T062354Z
LAST-MODIFIED:20250611T214304Z
UID:10003678-1749931200-1749938400@elblandwerker.de
SUMMARY:Die Linie  / / eine Kunst-Vortrag-Lesung-Performance-Veranstaltung von Frank Pieperhoff
DESCRIPTION:Frank Pieperhoff führt das Publikum in die Welt\nder Vorstellungskraft. Aus Linien entstehen imaginäre\nRaumkörper\, Zeichnungen beginnen zu\nsprechen und eine Art Anti-Held scheitert an den\nstarren Konventionen (nicht nur) der Kunst-Welt. \nMehr unter https://ekbo-termine.de/d-688079.
URL:https://elblandwerker.de/veranstaltungen/die-linie-eine-kunst-vortrag-lesung-performance-veranstaltung-von-frank-pieperhoff/
LOCATION:Ev. Kirche Tacken\, Dorfstraße\, Tacken\, Brandenburg\, 16928
CATEGORIES:Kunst
ATTACH;FMTTYPE=image/jpeg:https://elblandwerker.de/wp-content/uploads/2025/06/Die-Linie-erste-Auffuehrung-8.jpg
END:VEVENT
BEGIN:VEVENT
DTSTART;TZID=Europe/Berlin:20250822T163000
DTEND;TZID=Europe/Berlin:20250822T180000
DTSTAMP:20260420T020459
CREATED:20250715T114457Z
LAST-MODIFIED:20250715T114458Z
UID:10004500-1755880200-1755885600@elblandwerker.de
SUMMARY:Von Spinnen und Menschen: Eine verwobene Beziehung - Lesung auf dem Solarboot Smüster Elw mit Jan Mohnhaupt
DESCRIPTION:🌟 Lesung auf dem Boot: “Von Spinnen und Menschen” 🌟 \nTauche ein in die faszinierende Welt der Spinnen! In seinem Buch “Von Spinnen und Menschen” zeigt Jan Mohnhaupt\, wie eng das Beziehungsgeflecht zwischen Mensch und Spinne ist. Egal\, ob bewundert für ihre kunstvollen Netze oder gefürchtet – Spinnen regen unsere Fantasie an und lösen oft unbegründete Ängste aus. \nWarum wurde Napoleon mit einer Spinne verglichen? Welche Rolle spielt die christliche Symbolik in unserer Abneigung? Und wieso haben Spinnen sogar einen Platz in Weltraummissionen? \n📚 Lesung und Diskussion auf dem Boot:\nLass dich von Jan Mohnhaupt in eine Welt entführen\, in der Spinnen mehr sind als nur Ekelobjekte. Erfahre\, welche kulturellen und geschichtlichen Aspekte uns mit diesen faszinierenden Geschöpfen verbinden. Während wir entspannt auf der Elbe dahingleiten\, hast du die Möglichkeit\, Fragen zu stellen und dich auszutauschen. \nAnmeldung bis 2 Werktage vorher erforderlich unter 038792 1221 oder info@burg-lenzen.de
URL:https://elblandwerker.de/veranstaltungen/von-spinnen-und-menschen-eine-verwobene-beziehung-lesung-auf-dem-solarboot-smuester-elw-mit-jan-mohnhaupt/
LOCATION:Lenzener Hafen\, Lenzener Hafen\, Lenzen\, 19309
CATEGORIES:Essen,Fest,Kinder,Musik,Natur,Sport,Theater,Unterhaltung,Workshop
ORGANIZER;CN="BUND-Besucherzentrum Burg Lenzen":MAILTO:info@burg-lenzen.de
END:VEVENT
BEGIN:VEVENT
DTSTART;TZID=Europe/Berlin:20251011T103000
DTEND;TZID=Europe/Berlin:20251011T143000
DTSTAMP:20260420T020459
CREATED:20250818T083656Z
LAST-MODIFIED:20250818T083656Z
UID:10004542-1760178600-1760193000@elblandwerker.de
SUMMARY:Von Bäumen mit Köpfen und lebendigen Zäunen - Aktiveinsatz mit Weidenschnitt und Anlegen von Flechtzäunen
DESCRIPTION:Mach mit bei unserer Gemeinschaftsaktion: Von Bäumen mit Köpfen und lebendigen Zäunen! \nAm Samstag\, den 11. Oktober\, von 10:30 bis 16:30 Uhr im BUND-Besucherzentrum Burg Lenzen\, brauchen wir eure Unterstützung! \nHilf uns bei der Pflege der Kopfweiden entlang der Löcknitz. Gemeinsam schneiden wir die Weiden und verwenden die Äste\, um einen lebendigen Zaun auszubessern. Dabei erfährst du nicht nur Interessantes über den Wert dieser besonderen Bäume\, sondern wie das Schnittgut sinnvoll eingesetzt werden kann! \nNatürlich wird es auch eine gemeinsame Mittagspause geben\, in der wir uns austauschen und aufwärmen können. Am Ende des Tages dürft ihr Weidenruten mitnehmen\, um eure eigenen Kopfweiden zu ziehen! \nVergesst nicht\, witterungsangepasste Kleidung und eventuell eine Ast- oder Gartenschere mitzubringen! \nAnmeldung ist erforderlich unter: info@burg-lenzen.de oder 038792 1221\nWir freuen uns auf einen aktiven und spannenden Tag mit euch!
URL:https://elblandwerker.de/veranstaltungen/von-baeumen-mit-koepfen-und-lebendigen-zaeunen-aktiveinsatz-mit-weidenschnitt-und-anlegen-von-flechtzaeunen/
LOCATION:Burg Lenzen\, Burgstraße 3\, Lenzen\, 19309
CATEGORIES:Kinder,Natur
ATTACH;FMTTYPE=image/jpeg:https://elblandwerker.de/wp-content/uploads/2025/08/20220226_Mario-Herzog_Aktiveinsatz1_Burgpark-2.jpg
ORGANIZER;CN="BUND-Besucherzentrum Burg Lenzen":MAILTO:info@burg-lenzen.de
END:VEVENT
BEGIN:VEVENT
DTSTART;TZID=Europe/Berlin:20251015T160000
DTEND;TZID=Europe/Berlin:20251015T190000
DTSTAMP:20260420T020459
CREATED:20250924T160526Z
LAST-MODIFIED:20251008T173740Z
UID:10004615-1760544000-1760554800@elblandwerker.de
SUMMARY:Was sind " Sozialunternehmen"? Alter Wein oder neuer Ansatz?
DESCRIPTION:Welchen Beitrag können Sozialunternehmen für die regionale Entwicklung leisten? \nZwischen den klassischen Vereinsstrukturen und den etablierten Unternehmensformen haben sich in den vergangenen Jahren vielfältige Zwischenformen etabliert\, die bislang wenig im öffentlichen Fokus standen. \nSozialunternehmen verbinden wirtschaftliches Handeln mit sozialen Innovationen und der Zielsetzung\, gesellschaftliche Herausforderungen auf neue Art zu bearbeiten – z. B. in Kultur\, Umwelt\, Mobilität\, Pflege\, Sozialer Arbeit\, Bildung\, Nachhaltigkeit und vielen anderen Bereichen regionaler Entwicklung. Besonderes in den ländlichen Räumen haben sie das Potenzial\, relevante Leerstellen zwischen Gemeinnützigkeit und Wirtschaftlichkeit zu füllen\, die durch klassische Einzelunternehmen und Vereine nicht (mehr) gedeckt werden. \nIm Rahmen unserer Veranstaltung möchten wir aufzeigen\, was Sozialunternehmen sind\, wie sie funktionieren und was sie leisten können – und weshalb sie für die Prignitz neben den etablierten Strukturen eine relevante Rolle spielen können. \nDatum: 15. Oktober 2025\nUhrzeit: 16-19 Uhr\nOrt: Stadtsalon Safari | Bismarckplatz 6 | 19322 Wittenberge\nVeranstalter: das Kompetenzzentrum für Soziales Unternehmertum in Brandenburg\, unterstützt von InNoWest\nAnmeldung: kostenlos unter https://pretix.eu/KompetenzzSozialesUnternehmertum/SozUnternPrignitz/ \nProgramm:\nIm ersten Teil der Veranstaltung erwarten Sie inhaltlich fundierte Programmpunkte\, die anhand konkreter Praxisbeispiele veranschaulichen: \n• wie Sozialunternehmen zwischen Verein und klassischem Unternehmen agieren\,\n• welche fachlichen Ansätze und welche Geschäftsmodelle es gibt\,\n• welches wirtschaftliche und gesellschaftliche Potenzial in diesen Strukturen steckt\,\n• und wie sie zur Lösung aktueller Herausforderungen in der Region beitragen können. \nExpertinnen und Experten sowie erfahrene Sozialunternehmen aus dem Land Brandenburg werden einen Einblick in ihre Praxis geben\, darunter das Kompetenzzentrum für Soziales Unternehmertum in Brandenburg\, die Wirtschaftsförderung des Landes Brandenburg (WFBB) und Sozialunternehmerinnen aus der Region. \nDialog:\nAnschließend möchten wir mit Ihnen darüber sprechen\, wo Sie konkrete Handlungsbedarfe in der Region zwischen Wirtschaftlichkeit und Gemeinnützigkeit sehen\, welche Ideen und Lösungsansätze es schon gibt und welche Unterstützung für die Umsetzung noch gebraucht wird. \nDabei stellt das Kompetenzzentrum für Soziales Unternehmertum in Brandenburg sein Angebot als zentrale Anlaufstelle für Informationen\, Beratung und Vernetzung vor. Dieses Angebot steht auch in der Prignitz zur Verfügung. \nIm Anschluss laden wir Sie bei Snacks und Getränken zu einem offenen Austausch untereinander und mit uns ein. \nAn wen sich die Veranstaltung richtet:\nHerzlich eingeladen sind sowohl erfahrene Akteurinnen und Akteure\, Unternehmer und Unternehmerinnen als auch interessierte Bürgerinnen und Bürger\, Vertreterinnen und Vertreter aus Zivilgesellschaft und Sozialwirtschaft\, Initiativen\, Vereinen\, Wirtschaft\, Politik und Verwaltung. \nWir freuen uns auf einen interessanten Austausch mit Ihnen! \nDas Kompetenzzentrum für Soziales Unternehmertum in Brandenburg wird aus Mitteln des Europäischen Sozialfonds Plus und des Landes Brandenburg gefördert und durch die Social Impact gGmbH umgesetzt. https://kompetenzzentrum-soziales-unternehmertum-brb.net/ \nDas Verbundprojekt „InNoWest“ der Hochschulen in Brandenburg an der Havel\, Eberswalde und Potsdam wird gefördert von der Bund-Länder-Initiative “Innovative Hochschule” des Bundesministeriums für Forschung\, Technologie und Raumfahrt und der Gemeinsamen Wissenschaftskonferenz der Länder. https://innowest-brandenburg.de
URL:https://elblandwerker.de/veranstaltungen/was-sind-sozialunternehmen-alter-wein-oder-neuer-ansatz/
LOCATION:Stadtsalon Safari\, Bismarckpl. 6\, Wittenberge\, 19322\, Deutschland
CATEGORIES:Arbeit,Bildung,Demokratie,Engagement,Leben,Nachhaltigkeit,Wandel,Workshop
ATTACH;FMTTYPE=image/png:https://elblandwerker.de/wp-content/uploads/2025/09/Bildschirmfoto-2025-10-08-um-16.45.48.png
ORGANIZER;CN="Kompetenzzentrum f%C3%BCr Soziales Unternehmertum in Brandenburg":MAILTO:kontakt@kompetenzzentrum-soziales-unternehmertum-brb.net
END:VEVENT
BEGIN:VEVENT
DTSTART;TZID=Europe/Berlin:20251120T180000
DTEND;TZID=Europe/Berlin:20251120T193000
DTSTAMP:20260420T020459
CREATED:20251108T204900Z
LAST-MODIFIED:20251108T204900Z
UID:10004639-1763661600-1763667000@elblandwerker.de
SUMMARY:Enttäuschte Hoffnung? - 35 Jahre nach dem Fall der Mauer. Ines Geipel liest aus ihrem Buch „Fabelland“
DESCRIPTION:Der 9. November 1989. In Berlin fällt die Mauer. Es ist der glücklichste Moment in der deutschen Geschichte. Ines Geipel ist bereits im Sommer in den Westen abgehauen und erlebt den Zeitriss\, die Hoffnungen und Aufbrüche als Studentin in Darmstadt. 35 Jahre danach erinnert sie sich: Wie fühlte er sich an\, dieser historische Moment des Glücks? Wie erzählen wir uns heute Ost und West und die Vereinigung von DDR und BRD? Woher kommt der Zorn\, woher die Verleugnung\, wenn es um den aktuellen Zustand des Landes geht? Mit großer Klarheit und Offenheit geht Ines Geipel in ihrem Buch „Fabelland“ noch einmal zurück. Zurück in die politische Umbruchslandschaft nach 1989\, in die eigene Familie\, zurück in all die verstellten\, besetzten Räume der Erinnerung\, zurück zu den Verharmlosungen und Legenden\, die die Gegenwart vergiften. Ein Buch\, das auf die Frage zuläuft: Können die Deutschen ihr Glück auch verspielen?\nInes Geipel\, Jahrgang 1960\, ist ehemalige DDR-Spitzensportlerin und heute Professorin für deutsche Verskunst an der Hochschule für Schauspielkunst „Ernst Busch“ in Berlin. Sie liest aus ihrem im vergangenen Jahr erschienen Buch „Fabelland“. \n20. November 2025 Stadtbibliothek Rathenow Schleusenpl. 4\, 14712 Rathenow\nBeginn: 18 Uhr \nFoto: © Gaby Gerster 2024 \nDie Veranstaltung ist kostenlos.\nTickets unter: https://www.eventbrite.de/e/enttauschte-hoffnung-35-jahre-nach-dem-fall-der-mauer-tickets-1789586885549?aff=oddtdtcreator \nFörderer: Partnerschaft für Demokratie Westhavelland und Nauen\, Förderverein Bibliothek Rathenow\, Bibliothek Rathenow\, Brandenburgische Landeszentrale für politische Bildung
URL:https://elblandwerker.de/veranstaltungen/enttaeuschte-hoffnung-35-jahre-nach-dem-fall-der-mauer-ines-geipel-liest-aus-ihrem-buch-fabelland/
CATEGORIES:Bildung,Bücherabend,Community,Demokratie,Engagement,Kultur,Leben,Unterhaltung,Wandel
ATTACH;FMTTYPE=image/jpeg:https://elblandwerker.de/wp-content/uploads/2025/11/AF_InesGeipel_217_cGabyGerster.jpeg
END:VEVENT
END:VCALENDAR