BEGIN:VCALENDAR
VERSION:2.0
PRODID:-//elblandwerker* - ECPv6.15.20//NONSGML v1.0//EN
CALSCALE:GREGORIAN
METHOD:PUBLISH
X-WR-CALNAME:elblandwerker*
X-ORIGINAL-URL:https://elblandwerker.de
X-WR-CALDESC:Veranstaltungen für elblandwerker*
REFRESH-INTERVAL;VALUE=DURATION:PT1H
X-Robots-Tag:noindex
X-PUBLISHED-TTL:PT1H
BEGIN:VTIMEZONE
TZID:Europe/Berlin
BEGIN:DAYLIGHT
TZOFFSETFROM:+0100
TZOFFSETTO:+0200
TZNAME:CEST
DTSTART:20230326T010000
END:DAYLIGHT
BEGIN:STANDARD
TZOFFSETFROM:+0200
TZOFFSETTO:+0100
TZNAME:CET
DTSTART:20231029T010000
END:STANDARD
BEGIN:DAYLIGHT
TZOFFSETFROM:+0100
TZOFFSETTO:+0200
TZNAME:CEST
DTSTART:20240331T010000
END:DAYLIGHT
BEGIN:STANDARD
TZOFFSETFROM:+0200
TZOFFSETTO:+0100
TZNAME:CET
DTSTART:20241027T010000
END:STANDARD
BEGIN:DAYLIGHT
TZOFFSETFROM:+0100
TZOFFSETTO:+0200
TZNAME:CEST
DTSTART:20250330T010000
END:DAYLIGHT
BEGIN:STANDARD
TZOFFSETFROM:+0200
TZOFFSETTO:+0100
TZNAME:CET
DTSTART:20251026T010000
END:STANDARD
BEGIN:DAYLIGHT
TZOFFSETFROM:+0100
TZOFFSETTO:+0200
TZNAME:CEST
DTSTART:20260329T010000
END:DAYLIGHT
BEGIN:STANDARD
TZOFFSETFROM:+0200
TZOFFSETTO:+0100
TZNAME:CET
DTSTART:20261025T010000
END:STANDARD
END:VTIMEZONE
BEGIN:VEVENT
DTSTART;TZID=Europe/Berlin:20250829T140000
DTEND;TZID=Europe/Berlin:20250829T170000
DTSTAMP:20260424T105458
CREATED:20250717T094128Z
LAST-MODIFIED:20250717T094128Z
UID:10004508-1756476000-1756486800@elblandwerker.de
SUMMARY:Magerbeete nährstoffarm halten & pflegen - Aktiveinsatz im Burgpark zum Erhalt unserer Beete\, Ableger und Pflanzen zum Mitnehmen
DESCRIPTION:🌿 Aktiveinsatz im NaturPoesieGarten der Burg Lenzen 🌿 \nAm 29. August hast du die Gelegenheit\, die Besonderheiten von Magerbeeten kennenzulernen! Diese seltenen Standorte mit nährstoffarmen und trockenen Böden sind ein wahres Paradies für Wildbienen\, Schmetterlinge und Heuschrecken. \n🌼 Erhalte praktische Tipps\, wie du solche Flächen langfristig mager halten kannst und worauf du bei der Auswahl von Pflanzen achten solltest. Während der gemeinsamen Beetpflege kannst du dein Wissen vertiefen und aktiv mithelfen. \nEs gibt auch wieder Ableger und Pflanzen zum Mitnehmen! 🌱 Bitte anmelden bis zum 27.08. unter info@burg-lenzen.de od. 038791/1221
URL:https://elblandwerker.de/veranstaltungen/magerbeete-naehrstoffarm-halten-pflegen-aktiveinsatz-im-burgpark-zum-erhalt-unserer-beete-ableger-und-pflanzen-zum-mitnehmen/
LOCATION:Burg Lenzen\, Burgstraße 3\, Lenzen\, 19309
CATEGORIES:Natur,Workshop
ATTACH;FMTTYPE=image/jpeg:https://elblandwerker.de/wp-content/uploads/2025/07/2025.07.11_Aktiv-Sommerpflege_prignitzliebe_Anja_Moeller_Burg_Pferde-48.jpg
ORGANIZER;CN="BUND-Besucherzentrum Burg Lenzen":MAILTO:info@burg-lenzen.de
END:VEVENT
BEGIN:VEVENT
DTSTART;VALUE=DATE:20250821
DTEND;VALUE=DATE:20250822
DTSTAMP:20260424T105458
CREATED:20250822T162337Z
LAST-MODIFIED:20250822T162337Z
UID:10004545-1755734400-1755820799@elblandwerker.de
SUMMARY:Modelle des Auskommens: Kibbuz (Hachschara) und Solidarische Landwirtschaft (SoLawi)
DESCRIPTION:Mit dem Projekt wollen wir die historische und konzeptionelle Verbindung zwischen der Hachschara/Kibbuz-Bewegung und modernen SoLawi Modellen sowie deren transformative Bedeutung für Überlebens- und Zukunftskonzepte von Ernährung\, Gesundheit und Sinngebung aufzeigen. Ausgehend von unserer langjährigen Zusammenarbeit in sozialen und kulturellen Projekten auf den Gebieten Bildung und Ernährung haben Hayati e.V. und Old School ICA die Idee gemeinsam entwickelt\, um Möglichkeiten der kulturellen und sozialen Transformation sowie utopische Perspektiven zu thematisieren. Im Zentrum stehen solidarische Wirtschaftsformen und der Aufbau von Netzwerken lokaler\, regionaler und internationaler Partner. \nAm 31. August\, als Teil der diesjährigen UTOPIENALE IV\, wird es ein Kolloquium mit nationalen und internationalen Hachschara/Kibbuz- und SoLawi-Experten sowie Künstlern und Aktivisten\, einen Cooking/Baking Slam mit lokalen Produkten regionaler SoLawis und Pflanzaktionen bei Old School ICA Havelberg geben\, um den transformativen Charakter solidarischer Landwirtschaft und kultureller Kollektive zu demonstrieren. Die Veranstaltung wird kuratiert von Anke Leonhardt und Gerald Walter.
URL:https://elblandwerker.de/veranstaltungen/modelle-des-auskommens-kibbuz-hachschara-und-solidarische-landwirtschaft-solawi/
LOCATION:Old School ICA (OSICA)\, Schulstraße 3\, Havelberg\, Sachsen Anhalt\, 39539\, Deutschland
CATEGORIES:Arbeit,Bildung,Community,Demokratie,Essen,Gesundheit
ATTACH;FMTTYPE=image/jpeg:https://elblandwerker.de/wp-content/uploads/2025/08/SoLawi_Bild_2_©_Karl_Giesecke_Allmende_Taucha_eV-P1000712-scaled.jpg
END:VEVENT
BEGIN:VEVENT
DTSTART;TZID=Europe/Berlin:20250621T140000
DTEND;TZID=Europe/Berlin:20250621T180000
DTSTAMP:20260424T105458
CREATED:20250612T064622Z
LAST-MODIFIED:20250612T064622Z
UID:10003681-1750514400-1750528800@elblandwerker.de
SUMMARY:Yoga mit Alpakas am Welt-Yoga-Tag
DESCRIPTION:Feier mit uns den Welt-Yoga-Tag – mit flauschiger Begleitung! \nAm 21. Juni 2025 – zum Welt-Yoga-Tag – laden Schirin vom Alpakahof und Sabrina von Yoga for Athletes dich herzlich zu einem ganz besonderen Event ein: Yoga\, Meditation und Gemeinschaft – mitten in der Natur und mit Alpakas an unserer Seite. Das Event ist offen für alle – egal\, ob du regelmäßig Yoga übst oder einfach neugierig bist. 🧘🦙
URL:https://elblandwerker.de/veranstaltungen/yoga-mit-alpakas-am-welt-yoga-tag/
LOCATION:Der Alpakahof\, 19339 Plattenburg\, OT Rambow\, Rambower Hauptstraße 7\, Rambow\, Brandenburg\, 19339\, Germany
CATEGORIES:Community,Essen,Fest,Gesundheit,Kultur,Kunst,Natur,Sport,Unterhaltung
ATTACH;FMTTYPE=image/png:https://elblandwerker.de/wp-content/uploads/2025/06/2024.09-2-1.png
ORGANIZER;CN="Yoga for Athletes":MAILTO:sj@yoga-for-athletes.de
END:VEVENT
BEGIN:VEVENT
DTSTART;TZID=Europe/Berlin:20250511T130000
DTEND;TZID=Europe/Berlin:20250511T160000
DTSTAMP:20260424T105458
CREATED:20250310T141612Z
LAST-MODIFIED:20250505T151210Z
UID:10003539-1746968400-1746979200@elblandwerker.de
SUMMARY:Pflanzentauschbörse - Jungpflanzen tauschen und erwerben\, Kontakte knüpfen
DESCRIPTION:Hast du zu viele Jungpflanzen oder ein Überangebot an einer Sorte? Suchst du nach einer speziellen Paprikapflanze? Dann komm zur Pflanzentauschbörse nach Lenzen! \nTausche oder verschenke deine überschüssigen Jungpflanzen! Auch Stauden und Kräuter\, die sich in deinem Garten ausbreiten\, freuen sich über einen neuen grünen Daumen.\nWir bereiten auf dem Burghof einige Tische für deine Pflanzen vor. Bring einfach deine überschüssigen Pflanzen mit! Um es den neuen Besitzer:innen leichter zu machen\, schreibe bitte den Namen der Sorte und eine kurze Pflegeanleitung dazu.\nLass uns gemeinsam das Gärtnern feiern und neue Pflanzenfreunde finden!
URL:https://elblandwerker.de/veranstaltungen/pflanzentauschboerse-jungpflanzen-tauschen-und-erwerben-kontakte-knuepfen/
LOCATION:Burg Lenzen\, Burgstraße 3\, Lenzen\, 19309
CATEGORIES:Natur
ATTACH;FMTTYPE=image/jpeg:https://elblandwerker.de/wp-content/uploads/2025/03/2025.05.11_Pflanzentauschboerse-2-scaled.jpg
ORGANIZER;CN="BUND-Besucherzentrum Burg Lenzen":MAILTO:info@burg-lenzen.de
END:VEVENT
BEGIN:VEVENT
DTSTART;TZID=Europe/Berlin:20250504T160000
DTEND;TZID=Europe/Berlin:20250504T173000
DTSTAMP:20260424T105458
CREATED:20250310T141741Z
LAST-MODIFIED:20250310T141741Z
UID:10003536-1746374400-1746379800@elblandwerker.de
SUMMARY:Natur trifft Poesie - Führung im Dialog zu den Kunstwerken im NaturPoesieGarten
DESCRIPTION:In unserem Burgpark verbinden sich Natur\, Kunst und Philosophie auf ganz besondere Weise: zu einem NaturPoesieGarten. Von der Ostterrasse der Burg gelangt man über zwei Treppen in den historischen Barockgarten. Im Froschbrunnen thront Fauna\, „Das badende Mädchen“\, umgeben von historischen Rosen mit wohlklingenden Namen wie Reine de Centfeulles oder Orpheline de Juillet. Am Wegesrand laden Notenständer zum Eintauchen in die barocke Lyrik ein – Ausgangspunkt für die neun Kunstobjekte des NaturPoesieGartens. Zwischen historischen Rosen\, blühenden Wildkräuterwiesen und Staudenbeeten geben neun Kunstwerke\, versehen mit einem naturphilosophischen Zitat\, Denkanstöße zum Verhältnis von Mensch und Natur. Wer sich gern zu einem Dialog über die kunstvoll inszenierten Installationen im Burgpark treffen möchte\, den laden wir zu einem Spaziergang am Sonntag\, d. 04.05.\, 16.00 Uhr ein.\nAnmeldung bis zum 02.05. im BUND-Besucherzentrum Burg Lenzen erforderlich unter: 038792 1221\, info@burg-lenzen.de oder www.burg-lenzen.de
URL:https://elblandwerker.de/veranstaltungen/natur-trifft-poesie-fuehrung-im-dialog-zu-den-kunstwerken-im-naturpoesiegarten/
LOCATION:Burg Lenzen\, Burgstraße 3\, Lenzen\, 19309
CATEGORIES:Kunst,Natur
ATTACH;FMTTYPE=image/jpeg:https://elblandwerker.de/wp-content/uploads/2025/03/2025.05.04._Natur_Poesie-scaled.jpg
ORGANIZER;CN="BUND-Besucherzentrum Burg Lenzen":MAILTO:info@burg-lenzen.de
END:VEVENT
BEGIN:VEVENT
DTSTART;TZID=Europe/Berlin:20250503T100000
DTEND;TZID=Europe/Berlin:20250503T160000
DTSTAMP:20260424T105458
CREATED:20250427T210829Z
LAST-MODIFIED:20250427T210829Z
UID:10003640-1746266400-1746288000@elblandwerker.de
SUMMARY:Jungpflanzentauschbörse
DESCRIPTION:Haben sie die ganze Fensterbank voller vorgezogener Jungpflanzen oder ganz vergessen Pflanzen für den Garten vorzuziehen? Tauschen Sie Ihre Tomaten-\, Zucchini-\, Kürbis- oder Gurkenpflanzen mit anderen Gartenfreunden oder holen Sie sich Jungpflanzen gegen eine kleine Spende ab. Ein wunderbarer Anlass\, um die Vielfalt an heimischen Gartenpflanzen zu erweitern und neue Sorten zu entdecken oder auch Alte wieder zu entdecken! \nNeben dem direkten Tausch von Jungpflanzen können Sie auch Setzlinge alter und samenfester Sorten gegen eine Spende erwerben\, solange der Vorrat reicht. Die Veranstaltung dient nicht nur dem praktischen Austausch von Pflanzen\, sondern auch dem Wissenstransfer zwischen Gartenfreund*innen und der Erhaltung alter\, heimischer Sorten. \nFür Kinder gibt es ein kreatives Mitmach-Angebot: Sie können ihren eigenen Kressekopf basteln\, mit nach Hause nehmen und das schnelle Wachstum der Pflanzen beobachten – ein spielerischer Einstieg in die Welt des Gärtnerns.
URL:https://elblandwerker.de/veranstaltungen/jungpflanzentauschboerse/
LOCATION:Besucherzentrum Rühstädt\, Neuhaus 9\, Rühstädt\, 19322
CATEGORIES:Natur
ATTACH;FMTTYPE=image/jpeg:https://elblandwerker.de/wp-content/uploads/2025/04/Jungpflanzenboerse_DSC5541-scaled.jpg
ORGANIZER;CN="NABU R%C3%BChst%C3%A4dt":MAILTO:info@nabu-ruehstaedt.de
END:VEVENT
BEGIN:VEVENT
DTSTART;TZID=Europe/Berlin:20250426T110000
DTEND;TZID=Europe/Berlin:20250426T140000
DTSTAMP:20260424T105458
CREATED:20250307T192952Z
LAST-MODIFIED:20250307T192952Z
UID:10003535-1745665200-1745676000@elblandwerker.de
SUMMARY:Würziges vom Wegesrand – Kräuterwanderung rund um Burg Lenzen\, Verarbeitung und Verkostung
DESCRIPTION:Wusstest du\, dass zahlreiche wildwachsende Pflanzen am Wegesrand nicht nur würzig sind\, sondern auch eine gesunde und schmackhafte Abwechslung in deiner Küche bieten? Von würzigen Blättern über duftende Blüten bis hin zu aromatischen Früchten und Wurzeln – diese Pflanzen sind echte Küchenhelden! \nDie jungen Blätter des Spitzwegerichs verfeinern noch heute viele Kräutersuppen\, während die Blüten und Blätter des Gänseblümchens nicht nur schön aussehen\, sondern auch lecker im Salat schmecken. Und wusstest du\, dass die Wurzel der Wegwarte als köstlicher Kaffeeersatz dienen kann\, wenn sie getrocknet und geröstet wird? ☕️ \nBegleite die Kräuterkennerin Gabriele Clasen auf einem spannenden Spaziergang rund um Burg Lenzen und entdecke die vielfältigen Möglichkeiten der heimischen Wildpflanzen. Du wirst wertvolle Tipps zur Ernte\, Verarbeitung und Verwendung in deiner eigenen Küche erhalten. \n9 € zzgl. kleinem Obolus für weitere Zutaten\nAnmeldung im BUND-Besucherzentrum Burg Lenzen bis 2 Werktage im Vorfeld der Veranstaltung erforderlich.
URL:https://elblandwerker.de/veranstaltungen/wuerziges-vom-wegesrand-kraeuterwanderung-rund-um-burg-lenzen-verarbeitung-und-verkostung/
LOCATION:Burg Lenzen\, Burgstraße 3\, Lenzen\, 19309
CATEGORIES:Nachhaltigkeit,Natur
ATTACH;FMTTYPE=image/jpeg:https://elblandwerker.de/wp-content/uploads/2025/03/2025.04.26_SF_Kraeuterwanderung-scaled.jpg
ORGANIZER;CN="BUND-Besucherzentrum Burg Lenzen":MAILTO:info@burg-lenzen.de
END:VEVENT
BEGIN:VEVENT
DTSTART;TZID=Europe/Berlin:20250405T100000
DTEND;TZID=Europe/Berlin:20250405T130000
DTSTAMP:20260424T105458
CREATED:20250306T130918Z
LAST-MODIFIED:20250306T131842Z
UID:10003527-1743847200-1743858000@elblandwerker.de
SUMMARY:Natur und Struktur - Aktiveinsatz im Burgpark
DESCRIPTION:Lust auf einen gemeinsamen Tag im historischen Parterregarten? Komm vorbei und erhalte wertvolle Tipps zur Strukturierung deines eigenen Gartens! Entdecke\, wie du ein ausgewogenes Verhältnis zwischen bepflanzten und freien Flächen schaffen kannst und Vielfalt förderst – ohne das harmonische Gesamtbild aus den Augen zu verlieren. \nZusätzlich geben wir dir hilfreiche Hinweise zum naturnahen Gärtnern\, bei dem du Kreisläufe nutzen und Geld sparen kannst. Erlebe\, wie du deinen Garten in ein kleines Paradies für Insekten\, Vögel und andere Tiere verwandelst! \nBitte bringe wetterangepasste Kleidung und festes Schuhwerk mit!
URL:https://elblandwerker.de/veranstaltungen/natur-und-struktur-aktiveinsatz-im-burgpark/
LOCATION:Burg Lenzen\, Burgstraße 3\, Lenzen\, 19309
CATEGORIES:Engagement,Nachhaltigkeit,Natur
ATTACH;FMTTYPE=image/jpeg:https://elblandwerker.de/wp-content/uploads/2025/03/2025.04.05_Aktiv_Natur-und-Struktur.jpg
ORGANIZER;CN="BUND-Besucherzentrum Burg Lenzen":MAILTO:info@burg-lenzen.de
END:VEVENT
BEGIN:VEVENT
DTSTART;TZID=Europe/Berlin:20250322T140000
DTEND;TZID=Europe/Berlin:20250322T170000
DTSTAMP:20260424T105458
CREATED:20250307T193413Z
LAST-MODIFIED:20250307T193413Z
UID:10003529-1742652000-1742662800@elblandwerker.de
SUMMARY:Hitzehelden: Wie Blühflächen erhalten werden - Aktiveinsatz im Burgpark
DESCRIPTION:An einem sonnigen Hang neben dem Wintergarten der Burg Lenzen erwartet Sie eine faszinierende Szenerie. Statt einer trockenen Grasfläche erblüht hier im Sommer eine prächtige Vielfalt heimischer Pflanzen. \nDiese natürliche Schönheit bedarf keiner aufwendigen Bewässerung und wird nur einmal im Jahr gepflegt.\nErfahren Sie am 5. April ab 14 Uhr\, welche Bedingungen dafür erfüllt sein müssen und welche Pflanzen sich an diesem Standort wohlfühlen. Lernen Sie verschiedene Pflanzen zu erkennen und wie Sie ein farbenfrohes Blütenmeer langfristig erhalten. \nNach dem Aktiveinsatz laden wir Sie ein in gemütlicher Runde offene Fragen loszuwerden und sich auszutauschen. Mitzubringen sind angepasste Kleidung\, ggf. Gartenhandschuhe und gute Laune. \nWir bitten um eine Anmeldung beim BUND-Besucherzentrum bis zum 20.03 unter:\n038792/1221\, info@burg-lenzen.de\, www.burg-lenzen.de
URL:https://elblandwerker.de/veranstaltungen/hitzehelden-wie-bluehflaechen-erhalten-werden-aktiveinsatz-im-burgpark/
LOCATION:Burg Lenzen\, Burgstraße 3\, Lenzen\, 19309
CATEGORIES:Engagement,Nachhaltigkeit,Natur
ATTACH;FMTTYPE=image/png:https://elblandwerker.de/wp-content/uploads/2025/03/25_03_22_Hitzehelden_Annika_Badenhop.png
ORGANIZER;CN="BUND-Besucherzentrum Burg Lenzen":MAILTO:info@burg-lenzen.de
END:VEVENT
BEGIN:VEVENT
DTSTART;TZID=Europe/Berlin:20250222T140000
DTEND;TZID=Europe/Berlin:20250222T170000
DTSTAMP:20260424T105458
CREATED:20250211T081509Z
LAST-MODIFIED:20250211T081509Z
UID:10003501-1740232800-1740243600@elblandwerker.de
SUMMARY:6. Saatguttauschbörse - alte und rare Sorten für den Garten
DESCRIPTION:Von Kraut bis Rübe – 6. Saatgutauschbörse im BUND-Besucherzentrum Burg Lenzen! \nMöchtet ihr Saatgut tauschen oder verschenken? Oder seid ihr neugierig neue Sorten kennenzulernen? Dann kommt am 22. Februar von 14 bis 17 Uhr zur Saatgutauschbörse auf die Burg Lenzen! Bringt euer eigenes samenfestes Saatgut mit oder besucht uns auch ohne Saatgut – alle sind willkommen!\nFreut euch auf verschiedene Stände mit alten und raren Sorten des Erhaltungsvereins VERN e.V.\, tollen Produkte von der Keimzelle aus Vichel und Kartoffeln von der Kartoffelzucht Jacobs aus Mellen. Gemeinsam feiern wir die Gemüsevielfalt!\nDie Veranstaltung findet im Tagungsraum des ahead-Burghotels statt.
URL:https://elblandwerker.de/veranstaltungen/6-saatguttauschboerse-alte-und-rare-sorten-fuer-den-garten/
LOCATION:Burg Lenzen\, Burgstraße 3\, Lenzen\, 19309
CATEGORIES:Nachhaltigkeit,Natur
ATTACH;FMTTYPE=image/jpeg:https://elblandwerker.de/wp-content/uploads/2025/02/20240224_Heiko_Boelk_Saatguttauschboerse-12-scaled.jpg
ORGANIZER;CN="BUND-Besucherzentrum Burg Lenzen":MAILTO:info@burg-lenzen.de
END:VEVENT
BEGIN:VEVENT
DTSTART;TZID=Europe/Berlin:20250215T123000
DTEND;TZID=Europe/Berlin:20250215T153000
DTSTAMP:20260424T105458
CREATED:20250210T091304Z
LAST-MODIFIED:20250210T091304Z
UID:10003498-1739622600-1739633400@elblandwerker.de
SUMMARY:Kein Baum ist überflüssig - Aktiveinsatz im Burgpark
DESCRIPTION:Baumrettungsaktion im Burgpark – Mach mit!  \nIn unserem schönen Burgpark sprießen viele heimische Gehölze\, die sich von ganz alleine vermehren. Doch manchmal wachsen sie an ungeeigneten Plätzen oder stehen zu dicht zusammen. Wir möchten diesen kleinen Baumnachwuchs retten und an neuen Stellen ein neues Zuhause geben!  \nUnd das Beste: Du kannst auch Gehölze für deinen eigenen Garten „adoptieren“!  \nHilf uns die kleinen Bäumchen zu retten und dabei  auch noch Spaß zu haben! \nWann? 15.02.2025\, 12:30 Uhr\nWo? Burgpark – Treffpunkt: am Besucherzentrum / Museumsshop\nWas mitbringen? Witterungsangepasste Kleidung\, Gartenhandschuhe und viel gute Laune!  \nWir freuen uns auf deine Unterstützung und darauf\, gemeinsam etwas Gutes für die Natur zu tun. Mach mit! Anmeldung bis zum 12.02.2025 unter info@burg-lenzen.de oder 038792-1221
URL:https://elblandwerker.de/veranstaltungen/kein-baum-ist-ueberfluessig-aktiveinsatz-im-burgpark/
LOCATION:Burg Lenzen\, Burgstraße 3\, Lenzen\, 19309
CATEGORIES:Nachhaltigkeit,Natur
ATTACH;FMTTYPE=image/jpeg:https://elblandwerker.de/wp-content/uploads/2025/02/20220326_Annika_Badenhop_Aktiveinsatz3-17-scaled.jpg
END:VEVENT
BEGIN:VEVENT
DTSTART;TZID=Europe/Berlin:20250215T100000
DTEND;TZID=Europe/Berlin:20250215T160000
DTSTAMP:20260424T105458
CREATED:20250211T155307Z
LAST-MODIFIED:20250211T155307Z
UID:10003511-1739613600-1739635200@elblandwerker.de
SUMMARY:Saatguttauschbörse
DESCRIPTION:Am 15. Februar 2025 von 10 bis 16 Uhr lädt das NABU-Besucherzentrum Rühstädt zur Saatguttauschbörse ein – ein Event für die ganze Familie! Tauschen Sie Ihr Saatgut mit anderen Gartenfreunden oder entdecken Sie regional angepasstes\, samenfestes Saatgut von VERN\, dem Verein zur Erhaltung und Rekultivierung von Nutzpflanzen\, für Ihren Garten. Der Tag bietet auch spannende Aktivitäten: Basteln Sie gemeinsam mit Ihren Kindern Saatgutpralinen\, die Sie später im eigenen Garten einpflanzen können.\nNeben dem Tausch von Saatgut erhalten Sie wertvolle Tipps zu nachhaltigem Gärtnern und zur Auswahl von regional geeigneten Pflanzen. Ein besonderes Highlight ist der Vortrag von Lara Sittel von der Solidarischen Landwirtschaft “Gemüslichkeit” aus Groß Linde. Um 14 Uhr gibt sie spannende Einblicke in die Welt der Wildbienen und zeigt\, wie du deinen Garten zum summenden Paradies machst. Für alle\, die sich für den Erhalt von traditionellen Pflanzenarten und einer vielfältigen Gartenkultur interessieren\, ist diese Veranstaltung ein Muss!\nKommen Sie vorbei\, tauschen Sie sich mit anderen Gärtnern aus und nehmen Sie kreative Ideen für den eigenen Garten mit nach Hause.
URL:https://elblandwerker.de/veranstaltungen/saatguttauschboerse-2/
LOCATION:Besucherzentrum Rühstädt\, Neuhaus 9\, Rühstädt\, 19322
CATEGORIES:Nachhaltigkeit,Natur
ATTACH;FMTTYPE=image/jpeg:https://elblandwerker.de/wp-content/uploads/2025/02/2025_02_15_Saatguttausch_AFronia-scaled.jpg
ORGANIZER;CN="NABU R%C3%BChst%C3%A4dt":MAILTO:info@nabu-ruehstaedt.de
END:VEVENT
BEGIN:VEVENT
DTSTART;TZID=Europe/Berlin:20241116T100000
DTEND;TZID=Europe/Berlin:20241116T120000
DTSTAMP:20260424T105458
CREATED:20240313T115107Z
LAST-MODIFIED:20240313T115107Z
UID:10001604-1731751200-1731758400@elblandwerker.de
SUMMARY:Von Bäumen mit Köpfen und lebendigen Zäunen
DESCRIPTION:Das BUND-Besucherzentrum Burg Lenzen freut sich über deine Unterstützung bei der Kopfweiden-Pflege. In einer Gemeinschaftsaktion werden nach einer kurzen Einführung die Kopfweiden an der Löcknitz geschnitten. Mit den Ästen wird ein lebendiger Zaun ausgebessert. Nebenbei erfahren die Teilnehmer über den Wert von Kopfweiden und wie selbst das Schnittgut noch sinnvoll verwendet werden kann. Gelegenheit für Austausch und die Möglichkeit sich aufzuwärmen gibt es bei einer gemeinsamen Mittagspause. Die Teilnehmer können am Ende des Aktiveinsatzes Weidenruten mitnehmen\, um eigene Kopfweiden zu ziehen oder gar einen Zaun anzulegen. Übrigens\, Kopfweiden prägen das Bild im Biosphärenreservat Flusslandschaft Elbe-Brandenburg und sind ein wertvoller Bestandteil unserer Kulturlandschaft. Sie sind übrigens keine spezielle Art\, sondern entstehen durch das regelmäßige Schneiden der Baumkrone. Mitzubringen sind witterungsangepasste Arbeitskleidung\, Handschuhe und ggf. Ast- oder Gartenschere. \nAnmeldung im BUND-Besucherzentrum bis zum Vortag erforderlich (info@burg-lenzen.de\, 038792/1221\, www.burg-lenzen.de) \nFoto: Annika Badenhop
URL:https://elblandwerker.de/veranstaltungen/von-baeumen-mit-koepfen-und-lebendigen-zaeunen/
LOCATION:Burg Lenzen\, Burgstraße 3\, Lenzen\, 19309
CATEGORIES:Engagement,Nachhaltigkeit,Natur,Sport
ATTACH;FMTTYPE=image/jpeg:https://elblandwerker.de/wp-content/uploads/2024/03/Aktiveinsatz_Weidenschnitt-16.11-scaled.jpg
ORGANIZER;CN="Tr%C3%A4gerverbund Burg Lenzen e.V.":MAILTO:info@burg-lenzen.de
END:VEVENT
BEGIN:VEVENT
DTSTART;TZID=Europe/Berlin:20241019T100000
DTEND;TZID=Europe/Berlin:20241019T120000
DTSTAMP:20260424T105458
CREATED:20240313T114950Z
LAST-MODIFIED:20240313T114950Z
UID:10001605-1729332000-1729339200@elblandwerker.de
SUMMARY:Auwaldpflanzen schützen
DESCRIPTION:Der Lenzener Burgpark ist ein Auwald in Kleinformat. Zwischen knorrigen Baumriesen und lauschigen Flussläufen zwitschert der Pirol und fühlt sich der Biber zu Hause. Vor dieser Kulisse lädt das BUND-Besucherzentrum Burg Lenzen zu einem Aktiveinsatz ein. Im Burgpark wachsen vermehrt Eschen-Ahorne. Aus naturschutzfachlichen Gründen wird diese Baumart in Auwäldern als problematisch angesehen da sie das Wachstum anderer Pflanzen behindern und die natürliche Verjüngung und das Aufkommen heimischer Arten unterbinden können. Auch im denkmalgeschützten Burgensemble ist diese Art nicht vorgesehen. Gemeinsam werden wir daher den Eschen-Ahorn ausgraben und in unsere lebendige Totholzhecke einflechten. Freue dich auf einen aktiven Vormittag im Grünen. Mitzubringen sind angepasste Kleidung\, ggf. Gartenhandschuh und gute Laune. \nAnmeldung im BUND-Besucherzentrum bis zum Vortag erforderlich (info@burg-lenzen.de\, 038792/1221\, www.burg-lenzen.de) \nFoto: Annika Badenhop
URL:https://elblandwerker.de/veranstaltungen/auwaldpflanzen-schuetzen/
LOCATION:Burg Lenzen\, Burgstraße 3\, Lenzen\, 19309
CATEGORIES:Engagement,Natur,Sport
ATTACH;FMTTYPE=image/jpeg:https://elblandwerker.de/wp-content/uploads/2024/03/Aktiveinsatz-19.10.jpg
ORGANIZER;CN="Tr%C3%A4gerverbund Burg Lenzen e.V.":MAILTO:info@burg-lenzen.de
END:VEVENT
END:VCALENDAR