BEGIN:VCALENDAR
VERSION:2.0
PRODID:-//elblandwerker* - ECPv6.15.20//NONSGML v1.0//EN
CALSCALE:GREGORIAN
METHOD:PUBLISH
X-ORIGINAL-URL:https://elblandwerker.de
X-WR-CALDESC:Veranstaltungen für elblandwerker*
REFRESH-INTERVAL;VALUE=DURATION:PT1H
X-Robots-Tag:noindex
X-PUBLISHED-TTL:PT1H
BEGIN:VTIMEZONE
TZID:Europe/Berlin
BEGIN:DAYLIGHT
TZOFFSETFROM:+0100
TZOFFSETTO:+0200
TZNAME:CEST
DTSTART:20250330T010000
END:DAYLIGHT
BEGIN:STANDARD
TZOFFSETFROM:+0200
TZOFFSETTO:+0100
TZNAME:CET
DTSTART:20251026T010000
END:STANDARD
BEGIN:DAYLIGHT
TZOFFSETFROM:+0100
TZOFFSETTO:+0200
TZNAME:CEST
DTSTART:20260329T010000
END:DAYLIGHT
BEGIN:STANDARD
TZOFFSETFROM:+0200
TZOFFSETTO:+0100
TZNAME:CET
DTSTART:20261025T010000
END:STANDARD
BEGIN:DAYLIGHT
TZOFFSETFROM:+0100
TZOFFSETTO:+0200
TZNAME:CEST
DTSTART:20270328T010000
END:DAYLIGHT
BEGIN:STANDARD
TZOFFSETFROM:+0200
TZOFFSETTO:+0100
TZNAME:CET
DTSTART:20271031T010000
END:STANDARD
END:VTIMEZONE
BEGIN:VEVENT
DTSTART;TZID=Europe/Berlin:20260403T160000
DTEND;TZID=Europe/Berlin:20260403T173000
DTSTAMP:20260424T144732
CREATED:20260305T124754Z
LAST-MODIFIED:20260305T124754Z
UID:10006357-1775232000-1775237400@elblandwerker.de
SUMMARY:Klangmeditation mit Yoga
DESCRIPTION:Klangmeditationen bieten tiefe körperliche Entspannung und reduzieren Stress durch sanfte Vibrationen von Klangschalen und Gongs.\nWir starten unsere Entspannungsreise mit somatischen Bewertungen und Yoga Nidra und können dann die lange Klangmeditation voll genießen.\nDanach gibt es noch YogaTee/Kaffee und Kuchen zum Austausch.
URL:https://elblandwerker.de/veranstaltungen/klangmeditation-mit-yoga/
LOCATION:Bahnstraße 92 Wittenberge\, Bahnstr.92\, Wittenberge\, Brandenburg\, 19322\, Germany
CATEGORIES:Gesundheit,Workshop
ATTACH;FMTTYPE=image/png:https://elblandwerker.de/wp-content/uploads/2026/03/Klangmeditation_20260305_065335_0000.png
END:VEVENT
BEGIN:VEVENT
DTSTART;TZID=Europe/Berlin:20260416T093000
DTEND;TZID=Europe/Berlin:20260416T123000
DTSTAMP:20260424T144732
CREATED:20260327T061740Z
LAST-MODIFIED:20260327T061740Z
UID:10006369-1776331800-1776342600@elblandwerker.de
SUMMARY:gewaltfrei mit mir selbst
DESCRIPTION:Fortbildung zum Thema “Selbstfürsorge” für den Kreisjugendring Prignitz. Offen für alle\, die in der Prignitz mit Kindern oder Jugendlichen arbeiten\, ehrenamtlich wie beruflich.
URL:https://elblandwerker.de/veranstaltungen/gewaltfrei-mit-mir-selbst/
LOCATION:Freizeitzentrum der Stadt Perleberg\, Wittenberger Straße 91/92\, Wittenberger Straße 91/92\, Perleberg
CATEGORIES:Arbeit,Gesundheit,Workshop
ATTACH;FMTTYPE=image/jpeg:https://elblandwerker.de/wp-content/uploads/2026/03/himbeeren-scaled.jpg
END:VEVENT
BEGIN:VEVENT
DTSTART;TZID=Europe/Berlin:20260425T110000
DTEND;TZID=Europe/Berlin:20260425T123000
DTSTAMP:20260424T144732
CREATED:20260415T050153Z
LAST-MODIFIED:20260415T050153Z
UID:10006380-1777114800-1777120200@elblandwerker.de
SUMMARY:Chakra-Yoga-Workshop
DESCRIPTION:Mit sanftem Yoga\, Atemübungen und Meditation harmonisieren und aktivieren wir unsere Chakren (Energiezentren)\, damit unsere Energie wieder ungehindert fließen kann und wir unseren Stress loslassen können.\nAnmeldung: yinyogaprignitz@gmail.com oder 0160-7736364\nKosten: 25.-€
URL:https://elblandwerker.de/veranstaltungen/chakra-yoga-workshop/
LOCATION:Bahnstraße 92 Wittenberge\, Bahnstr.92\, Wittenberge\, Brandenburg\, 19322\, Germany
CATEGORIES:Gesundheit
ATTACH;FMTTYPE=image/jpeg:https://elblandwerker.de/wp-content/uploads/2026/04/Screenshot_20260414_085457_Instagram.jpg
END:VEVENT
END:VCALENDAR