BEGIN:VCALENDAR
VERSION:2.0
PRODID:-//elblandwerker* - ECPv6.15.20//NONSGML v1.0//EN
CALSCALE:GREGORIAN
METHOD:PUBLISH
X-WR-CALNAME:elblandwerker*
X-ORIGINAL-URL:https://elblandwerker.de
X-WR-CALDESC:Veranstaltungen für elblandwerker*
REFRESH-INTERVAL;VALUE=DURATION:PT1H
X-Robots-Tag:noindex
X-PUBLISHED-TTL:PT1H
BEGIN:VTIMEZONE
TZID:Europe/Berlin
BEGIN:DAYLIGHT
TZOFFSETFROM:+0100
TZOFFSETTO:+0200
TZNAME:CEST
DTSTART:20250330T010000
END:DAYLIGHT
BEGIN:STANDARD
TZOFFSETFROM:+0200
TZOFFSETTO:+0100
TZNAME:CET
DTSTART:20251026T010000
END:STANDARD
BEGIN:DAYLIGHT
TZOFFSETFROM:+0100
TZOFFSETTO:+0200
TZNAME:CEST
DTSTART:20260329T010000
END:DAYLIGHT
BEGIN:STANDARD
TZOFFSETFROM:+0200
TZOFFSETTO:+0100
TZNAME:CET
DTSTART:20261025T010000
END:STANDARD
BEGIN:DAYLIGHT
TZOFFSETFROM:+0100
TZOFFSETTO:+0200
TZNAME:CEST
DTSTART:20270328T010000
END:DAYLIGHT
BEGIN:STANDARD
TZOFFSETFROM:+0200
TZOFFSETTO:+0100
TZNAME:CET
DTSTART:20271031T010000
END:STANDARD
END:VTIMEZONE
BEGIN:VEVENT
DTSTART;TZID=Europe/Berlin:20260415T150000
DTEND;TZID=Europe/Berlin:20260415T163000
DTSTAMP:20260421T110049
CREATED:20260410T073004Z
LAST-MODIFIED:20260410T073004Z
UID:10006378-1776265200-1776270600@elblandwerker.de
SUMMARY:LAGA-Infos zwischen Blumen und Buchseiten
DESCRIPTION:Die LAGA kommt in die Bibo!\nAm 15. April zw. 15-16.30 Uhr lädt die Landesgartenschau zu einer kleinen feinen Inforunde in die Stadtbibliothek. Es wird aktuelle Informationen zu den Pläne für 2027 geben sowie zu den Baustellen.\nIm Fokus der Veranstaltung steht das Ehrenamt. Interessierte können sich informieren\, welche Ehrenamts-Bereiche es gibt\, wie und wann sie sich einbringen können und welche Vorteile das Ehrenamt mit sich bringt. \nUm Anmeldung wird gebeten unter: (03877) 403881 oder stadtbibliothek@kfh-wbge.de
URL:https://elblandwerker.de/veranstaltungen/laga-infos-zwischen-blumen-und-buchseiten/
LOCATION:Brandenburg
ATTACH;FMTTYPE=image/jpeg:https://elblandwerker.de/wp-content/uploads/2026/04/LAGA-in-der-Bibo.jpg
ORGANIZER;CN="Landesgartenschau 2027 Wittenberge":MAILTO:mitmachen@laga-wittenberge.de
END:VEVENT
BEGIN:VEVENT
DTSTART;TZID=Europe/Berlin:20260415T194500
DTEND;TZID=Europe/Berlin:20260415T211500
DTSTAMP:20260421T110050
CREATED:20251202T180057Z
LAST-MODIFIED:20260209T145149Z
UID:10005958-1776282300-1776287700@elblandwerker.de
SUMMARY:GesangsSafari
DESCRIPTION:Du singst gerne und möchtest das auch in Gemeinschaft tun? Wir auch! 🎶 \nWir experimentieren gerne mit Kanons und mehrstimmigen Arrangements und möchten gemeinsam unsere Stimmen erklingen lassen. \nWenn du Lust hast\, eigene Musikwünsche einzubringen oder einfach mitzumachen\, bist du herzlich willkommen!
URL:https://elblandwerker.de/veranstaltungen/gesangssafari-2/2026-04-15/
LOCATION:Stadtsalon Safari\, Bismarckpl. 6\, Wittenberge\, 19322\, Deutschland
CATEGORIES:Leben,Musik,Singen
ATTACH;FMTTYPE=image/jpeg:https://elblandwerker.de/wp-content/uploads/2025/12/gesangssafari-wir-singen.jpg
ORGANIZER;CN="Stadtsalon Safari e.V.":MAILTO:hallo@stadtsalon-safari.de
END:VEVENT
END:VCALENDAR