BEGIN:VCALENDAR
VERSION:2.0
PRODID:-//elblandwerker* - ECPv6.15.20//NONSGML v1.0//EN
CALSCALE:GREGORIAN
METHOD:PUBLISH
X-ORIGINAL-URL:https://elblandwerker.de
X-WR-CALDESC:Veranstaltungen für elblandwerker*
REFRESH-INTERVAL;VALUE=DURATION:PT1H
X-Robots-Tag:noindex
X-PUBLISHED-TTL:PT1H
BEGIN:VTIMEZONE
TZID:Europe/Berlin
BEGIN:DAYLIGHT
TZOFFSETFROM:+0100
TZOFFSETTO:+0200
TZNAME:CEST
DTSTART:20240331T010000
END:DAYLIGHT
BEGIN:STANDARD
TZOFFSETFROM:+0200
TZOFFSETTO:+0100
TZNAME:CET
DTSTART:20241027T010000
END:STANDARD
BEGIN:DAYLIGHT
TZOFFSETFROM:+0100
TZOFFSETTO:+0200
TZNAME:CEST
DTSTART:20250330T010000
END:DAYLIGHT
BEGIN:STANDARD
TZOFFSETFROM:+0200
TZOFFSETTO:+0100
TZNAME:CET
DTSTART:20251026T010000
END:STANDARD
BEGIN:DAYLIGHT
TZOFFSETFROM:+0100
TZOFFSETTO:+0200
TZNAME:CEST
DTSTART:20260329T010000
END:DAYLIGHT
BEGIN:STANDARD
TZOFFSETFROM:+0200
TZOFFSETTO:+0100
TZNAME:CET
DTSTART:20261025T010000
END:STANDARD
END:VTIMEZONE
BEGIN:VEVENT
DTSTART;VALUE=DATE:20251122
DTEND;VALUE=DATE:20251207
DTSTAMP:20260422T060438
CREATED:20251113T193119Z
LAST-MODIFIED:20251118T132950Z
UID:10004646-1763769600-1765065599@elblandwerker.de
SUMMARY:Brandenburger Zuzugswochen 2025 - elblandwerker* und Stadtsalon Safari machen mit
DESCRIPTION:Ale eine der mehr als 20 lokalen Initiativen im Netzwerk Ankommen in Brandenburg beteiligen sich die elblandwerker* auch in diesem Jahr wieder an den Brandenburger Zuzugswochen\, um großstadtmüde Menschen auf das gute Leben in der Prignitz aufmerksam zu machen. \nWährend der Aktionswochen zwischen dem 22. November und dem 6. Dezember 2025 können Besucherinnen und Besucher die Community und ihre Angebote u.a. bei diesen Events im Stadtsalon Safari am Bismarckplatz 6 in Wittenberge kennenlernen: \n22. November: Neo-Musical „Das Erbe“ vom Duo Brexit Colada; Beginn 20 Uhr\, Einlass ab 19 Uhr\, Eintritt frei\n25. November: Improtheater zum Mitmachen\, Beginn 18:30 Uhr\, Eintritt frei\, Ameldung an impro@zweifeln.org\n27. November: Safari Jam Session; Beginn 19 Uhr\, Eitritt frei\n28. November: Jazz-Konzert von Die Enttäuschung mit dem renommierten Rudi Mahall\, Beginn 19:30 Uhr\, Einlass ab 19 Uhr\, Eintritt frei\n01. Dezember: Malkurs zu Weihnachten; unter Anleitung des Künstlers Kirk Sora\, Beginn 18 Uhr\, auf Spendenbasis\, Anmeldung an hallo@stadtsalon-safari.de\n02. Dezember: Safari Spieleabend; Beginn 18:30 Uhr\, Eintritt frei \nAußerdem können Interessierte sich während den Brandenburger Zuzugswochen über unser beliebtes Angebot zum Probewohnen informieren und kostenlos mobiles Arbeiten in Gemeinschaft in den Coworking-Räumen im neuen Community Büro in der zentralen Altstadt am Steintor ausprobieren. Hierfür bitte anmelden per E-Mail an christian@elblandwerker.de.\nWer schon soweit ist\, und in die Prignitz ziehen möchte\, aber noch einen Job sucht\, wird vielleicht auf dem Online-Jobboard der elblandwerker* fündig\, wo Angebote von Unternehmen aus der Region zusammengefasst sind. Unter anderem sucht die Landesgartenschau 2027 in Wittenberge eine Kaufmännische Mitarbeiter*in\, ein gutes Sprungbrett in die Prignitz.
URL:https://elblandwerker.de/veranstaltungen/brandenburger-zuzugswochen-2025-elblandwerker-und-stadtsalon-safari-machen-mit/
LOCATION:Brandenburg
CATEGORIES:Community,Coworking,Elblandwerker,Konzert,Kultur,Leben,Wandel
ATTACH;FMTTYPE=image/jpeg:https://elblandwerker.de/wp-content/uploads/2023/01/elblandwerker-Willkommen-Gruppe-Menschen.jpg
ORGANIZER;CN="elblandwerker":MAILTO:mail@elblandwerker.de
END:VEVENT
BEGIN:VEVENT
DTSTART;TZID=Europe/Berlin:20251125T180000
DTEND;TZID=Europe/Berlin:20251125T220000
DTSTAMP:20260422T060438
CREATED:20240323T180024Z
LAST-MODIFIED:20251210T145857Z
UID:10000619-1764093600-1764108000@elblandwerker.de
SUMMARY:Dungeons & Dragons Wittenberge - Prignitz
DESCRIPTION:Bei Dungeons & Dragons (D&D 5. edition) handelt es sich um ein Gesellschaftsspiel\, bei dem ein Spielleiter die Welt beschreibt und die Spieler die Aktivitäten ihrer Spielfiguren festlegen. Es wird in mittelalterlichen Fantasy Welten\, mit Elfen\, Zwergen\, und natürlich Drachen gespielt. (DnD 5e) \nDie Teilnahme ist ab 18 Jahre\, kostenlos und es wird keinerlei Vorwissen oder Material benötigt.\nWir treffen uns alle 2 Wochen am Dienstag von 18-22 Uhr im Stadtsalon Safari in Wittenberge.\nBitte anmelden unter: dnd-prignitz@googlegroups.com \nPhoto by Clint Bustrillos on Unsplash
URL:https://elblandwerker.de/veranstaltungen/dungeons-dragons-wittenberge-prignitz-35-2-2/2025-11-25/
LOCATION:Stadtsalon Safari\, Bismarckpl. 6\, Wittenberge\, 19322\, Deutschland
CATEGORIES:Leben,Unterhaltung
ATTACH;FMTTYPE=image/jpeg:https://elblandwerker.de/wp-content/uploads/2022/09/gian-luca-riner-eubgK-4bzKA-unsplash-scaled.jpg
END:VEVENT
END:VCALENDAR