BEGIN:VCALENDAR
VERSION:2.0
PRODID:-//elblandwerker* - ECPv6.15.20//NONSGML v1.0//EN
CALSCALE:GREGORIAN
METHOD:PUBLISH
X-ORIGINAL-URL:https://elblandwerker.de
X-WR-CALDESC:Veranstaltungen für elblandwerker*
REFRESH-INTERVAL;VALUE=DURATION:PT1H
X-Robots-Tag:noindex
X-PUBLISHED-TTL:PT1H
BEGIN:VTIMEZONE
TZID:Europe/Berlin
BEGIN:DAYLIGHT
TZOFFSETFROM:+0100
TZOFFSETTO:+0200
TZNAME:CEST
DTSTART:20240331T010000
END:DAYLIGHT
BEGIN:STANDARD
TZOFFSETFROM:+0200
TZOFFSETTO:+0100
TZNAME:CET
DTSTART:20241027T010000
END:STANDARD
BEGIN:DAYLIGHT
TZOFFSETFROM:+0100
TZOFFSETTO:+0200
TZNAME:CEST
DTSTART:20250330T010000
END:DAYLIGHT
BEGIN:STANDARD
TZOFFSETFROM:+0200
TZOFFSETTO:+0100
TZNAME:CET
DTSTART:20251026T010000
END:STANDARD
BEGIN:DAYLIGHT
TZOFFSETFROM:+0100
TZOFFSETTO:+0200
TZNAME:CEST
DTSTART:20260329T010000
END:DAYLIGHT
BEGIN:STANDARD
TZOFFSETFROM:+0200
TZOFFSETTO:+0100
TZNAME:CET
DTSTART:20261025T010000
END:STANDARD
END:VTIMEZONE
BEGIN:VEVENT
DTSTART;VALUE=DATE:20250606
DTEND;VALUE=DATE:20250610
DTSTAMP:20260422T121704
CREATED:20250507T161015Z
LAST-MODIFIED:20250531T112133Z
UID:10003652-1749168000-1749513599@elblandwerker.de
SUMMARY:KultourSpur in der Wische in der Altmark
DESCRIPTION:Willkommen in der Wische!\nMit der 7. Auflage der KultourSpur laden wir Sie als Wische e.V. wieder herzlich ein\, unsere schöne Landschaft zu genießen und dabei zahlreiche kulturelle Höhepunkte zu besuchen. Künstler\, Musiker\, Handwerker\, Vereine und Bewohner von Wanzer bis Arneburg\, von Werben bis Goldbeck stehen für Sie an über 30 Veranstaltungsorten bereit\, um Ihnen das Schöne unserer Region näher zu bringen. Wir laden Sie im Namen aller Akteure und Mitwirkenden aufs herzlichste ein\, erneut dabei zu sein. Unser herzlicher Dank gilt allen Aktiven\, Unterstützern und Sponsoren. \nDas Programm gibt es als PDF hier online. \nWir freuen uns auf Ihr Kommen und wünschen Ihnen viele glückliche Momente auf der KultourSpur 2025. \nBildnachweis: Verein Wische e. V. \nKultourSpur 2025 in der Wische
URL:https://elblandwerker.de/veranstaltungen/kultourspur-in-der-wische-in-der-altmark/
LOCATION:Wische in der Altmark
CATEGORIES:Kultur,Kunst,Leben
ATTACH;FMTTYPE=image/jpeg:https://elblandwerker.de/wp-content/uploads/2025/05/image.jpg
END:VEVENT
END:VCALENDAR