BEGIN:VCALENDAR
VERSION:2.0
PRODID:-//elblandwerker* - ECPv6.15.20//NONSGML v1.0//EN
CALSCALE:GREGORIAN
METHOD:PUBLISH
X-WR-CALNAME:elblandwerker*
X-ORIGINAL-URL:https://elblandwerker.de
X-WR-CALDESC:Veranstaltungen für elblandwerker*
REFRESH-INTERVAL;VALUE=DURATION:PT1H
X-Robots-Tag:noindex
X-PUBLISHED-TTL:PT1H
BEGIN:VTIMEZONE
TZID:Europe/Berlin
BEGIN:DAYLIGHT
TZOFFSETFROM:+0100
TZOFFSETTO:+0200
TZNAME:CEST
DTSTART:20260329T010000
END:DAYLIGHT
BEGIN:STANDARD
TZOFFSETFROM:+0200
TZOFFSETTO:+0100
TZNAME:CET
DTSTART:20261025T010000
END:STANDARD
BEGIN:DAYLIGHT
TZOFFSETFROM:+0100
TZOFFSETTO:+0200
TZNAME:CEST
DTSTART:20270328T010000
END:DAYLIGHT
BEGIN:STANDARD
TZOFFSETFROM:+0200
TZOFFSETTO:+0100
TZNAME:CET
DTSTART:20271031T010000
END:STANDARD
BEGIN:DAYLIGHT
TZOFFSETFROM:+0100
TZOFFSETTO:+0200
TZNAME:CEST
DTSTART:20280326T010000
END:DAYLIGHT
BEGIN:STANDARD
TZOFFSETFROM:+0200
TZOFFSETTO:+0100
TZNAME:CET
DTSTART:20281029T010000
END:STANDARD
BEGIN:DAYLIGHT
TZOFFSETFROM:+0100
TZOFFSETTO:+0200
TZNAME:CEST
DTSTART:20290325T010000
END:DAYLIGHT
BEGIN:STANDARD
TZOFFSETFROM:+0200
TZOFFSETTO:+0100
TZNAME:CET
DTSTART:20291028T010000
END:STANDARD
BEGIN:DAYLIGHT
TZOFFSETFROM:+0100
TZOFFSETTO:+0200
TZNAME:CEST
DTSTART:20300331T010000
END:DAYLIGHT
BEGIN:STANDARD
TZOFFSETFROM:+0200
TZOFFSETTO:+0100
TZNAME:CET
DTSTART:20301027T010000
END:STANDARD
END:VTIMEZONE
BEGIN:VEVENT
DTSTART;TZID=Europe/Berlin:20270520T190000
DTEND;TZID=Europe/Berlin:20270520T220000
DTSTAMP:20260421T183029
CREATED:20240215T155909Z
LAST-MODIFIED:20251124T124105Z
UID:10001529-1810839600-1810850400@elblandwerker.de
SUMMARY:Büchersafari
DESCRIPTION:Jeden dritten Donnerstag im Monat treffen sich Bücherbegeisterte im Stadtsalon Safari. In gemütlicher Runde bei Saft und Rotwein werden Lieblingsstellen vorgelesen\, wird über literarische Vorlieben gesprochen oder einfach nur einander zugehört. Jedes Thema und jeder Geschmack sind willkommen.
URL:https://elblandwerker.de/veranstaltungen/buechersafari-4-3/2027-05-20/
LOCATION:Stadtsalon Safari\, Bismarckpl. 6\, Wittenberge\, 19322\, Deutschland
CATEGORIES:Bücherabend,Community
ATTACH;FMTTYPE=image/jpeg:https://elblandwerker.de/wp-content/uploads/2022/05/280951840_552091839779971_8975111743372162818_n-e1682839617697.jpg
END:VEVENT
BEGIN:VEVENT
DTSTART;TZID=Europe/Berlin:20270617T190000
DTEND;TZID=Europe/Berlin:20270617T220000
DTSTAMP:20260421T183029
CREATED:20240215T155909Z
LAST-MODIFIED:20251124T124105Z
UID:10001530-1813258800-1813269600@elblandwerker.de
SUMMARY:Büchersafari
DESCRIPTION:Jeden dritten Donnerstag im Monat treffen sich Bücherbegeisterte im Stadtsalon Safari. In gemütlicher Runde bei Saft und Rotwein werden Lieblingsstellen vorgelesen\, wird über literarische Vorlieben gesprochen oder einfach nur einander zugehört. Jedes Thema und jeder Geschmack sind willkommen.
URL:https://elblandwerker.de/veranstaltungen/buechersafari-4-3/2027-06-17/
LOCATION:Stadtsalon Safari\, Bismarckpl. 6\, Wittenberge\, 19322\, Deutschland
CATEGORIES:Bücherabend,Community
ATTACH;FMTTYPE=image/jpeg:https://elblandwerker.de/wp-content/uploads/2022/05/280951840_552091839779971_8975111743372162818_n-e1682839617697.jpg
END:VEVENT
BEGIN:VEVENT
DTSTART;TZID=Europe/Berlin:20270715T190000
DTEND;TZID=Europe/Berlin:20270715T220000
DTSTAMP:20260421T183029
CREATED:20240215T155909Z
LAST-MODIFIED:20251124T124105Z
UID:10001531-1815678000-1815688800@elblandwerker.de
SUMMARY:Büchersafari
DESCRIPTION:Jeden dritten Donnerstag im Monat treffen sich Bücherbegeisterte im Stadtsalon Safari. In gemütlicher Runde bei Saft und Rotwein werden Lieblingsstellen vorgelesen\, wird über literarische Vorlieben gesprochen oder einfach nur einander zugehört. Jedes Thema und jeder Geschmack sind willkommen.
URL:https://elblandwerker.de/veranstaltungen/buechersafari-4-3/2027-07-15/
LOCATION:Stadtsalon Safari\, Bismarckpl. 6\, Wittenberge\, 19322\, Deutschland
CATEGORIES:Bücherabend,Community
ATTACH;FMTTYPE=image/jpeg:https://elblandwerker.de/wp-content/uploads/2022/05/280951840_552091839779971_8975111743372162818_n-e1682839617697.jpg
END:VEVENT
BEGIN:VEVENT
DTSTART;TZID=Europe/Berlin:20270819T190000
DTEND;TZID=Europe/Berlin:20270819T220000
DTSTAMP:20260421T183029
CREATED:20240215T155909Z
LAST-MODIFIED:20251124T124105Z
UID:10001532-1818702000-1818712800@elblandwerker.de
SUMMARY:Büchersafari
DESCRIPTION:Jeden dritten Donnerstag im Monat treffen sich Bücherbegeisterte im Stadtsalon Safari. In gemütlicher Runde bei Saft und Rotwein werden Lieblingsstellen vorgelesen\, wird über literarische Vorlieben gesprochen oder einfach nur einander zugehört. Jedes Thema und jeder Geschmack sind willkommen.
URL:https://elblandwerker.de/veranstaltungen/buechersafari-4-3/2027-08-19/
LOCATION:Stadtsalon Safari\, Bismarckpl. 6\, Wittenberge\, 19322\, Deutschland
CATEGORIES:Bücherabend,Community
ATTACH;FMTTYPE=image/jpeg:https://elblandwerker.de/wp-content/uploads/2022/05/280951840_552091839779971_8975111743372162818_n-e1682839617697.jpg
END:VEVENT
BEGIN:VEVENT
DTSTART;TZID=Europe/Berlin:20270916T190000
DTEND;TZID=Europe/Berlin:20270916T220000
DTSTAMP:20260421T183029
CREATED:20240215T155909Z
LAST-MODIFIED:20251124T124105Z
UID:10001533-1821121200-1821132000@elblandwerker.de
SUMMARY:Büchersafari
DESCRIPTION:Jeden dritten Donnerstag im Monat treffen sich Bücherbegeisterte im Stadtsalon Safari. In gemütlicher Runde bei Saft und Rotwein werden Lieblingsstellen vorgelesen\, wird über literarische Vorlieben gesprochen oder einfach nur einander zugehört. Jedes Thema und jeder Geschmack sind willkommen.
URL:https://elblandwerker.de/veranstaltungen/buechersafari-4-3/2027-09-16/
LOCATION:Stadtsalon Safari\, Bismarckpl. 6\, Wittenberge\, 19322\, Deutschland
CATEGORIES:Bücherabend,Community
ATTACH;FMTTYPE=image/jpeg:https://elblandwerker.de/wp-content/uploads/2022/05/280951840_552091839779971_8975111743372162818_n-e1682839617697.jpg
END:VEVENT
BEGIN:VEVENT
DTSTART;TZID=Europe/Berlin:20271021T190000
DTEND;TZID=Europe/Berlin:20271021T220000
DTSTAMP:20260421T183029
CREATED:20240215T155909Z
LAST-MODIFIED:20251124T124105Z
UID:10001534-1824145200-1824156000@elblandwerker.de
SUMMARY:Büchersafari
DESCRIPTION:Jeden dritten Donnerstag im Monat treffen sich Bücherbegeisterte im Stadtsalon Safari. In gemütlicher Runde bei Saft und Rotwein werden Lieblingsstellen vorgelesen\, wird über literarische Vorlieben gesprochen oder einfach nur einander zugehört. Jedes Thema und jeder Geschmack sind willkommen.
URL:https://elblandwerker.de/veranstaltungen/buechersafari-4-3/2027-10-21/
LOCATION:Stadtsalon Safari\, Bismarckpl. 6\, Wittenberge\, 19322\, Deutschland
CATEGORIES:Bücherabend,Community
ATTACH;FMTTYPE=image/jpeg:https://elblandwerker.de/wp-content/uploads/2022/05/280951840_552091839779971_8975111743372162818_n-e1682839617697.jpg
END:VEVENT
BEGIN:VEVENT
DTSTART;TZID=Europe/Berlin:20271118T190000
DTEND;TZID=Europe/Berlin:20271118T220000
DTSTAMP:20260421T183029
CREATED:20240215T155909Z
LAST-MODIFIED:20251124T124105Z
UID:10001535-1826564400-1826575200@elblandwerker.de
SUMMARY:Büchersafari
DESCRIPTION:Jeden dritten Donnerstag im Monat treffen sich Bücherbegeisterte im Stadtsalon Safari. In gemütlicher Runde bei Saft und Rotwein werden Lieblingsstellen vorgelesen\, wird über literarische Vorlieben gesprochen oder einfach nur einander zugehört. Jedes Thema und jeder Geschmack sind willkommen.
URL:https://elblandwerker.de/veranstaltungen/buechersafari-4-3/2027-11-18/
LOCATION:Stadtsalon Safari\, Bismarckpl. 6\, Wittenberge\, 19322\, Deutschland
CATEGORIES:Bücherabend,Community
ATTACH;FMTTYPE=image/jpeg:https://elblandwerker.de/wp-content/uploads/2022/05/280951840_552091839779971_8975111743372162818_n-e1682839617697.jpg
END:VEVENT
BEGIN:VEVENT
DTSTART;TZID=Europe/Berlin:20271216T190000
DTEND;TZID=Europe/Berlin:20271216T220000
DTSTAMP:20260421T183029
CREATED:20240215T155909Z
LAST-MODIFIED:20251124T124105Z
UID:10001536-1828983600-1828994400@elblandwerker.de
SUMMARY:Büchersafari
DESCRIPTION:Jeden dritten Donnerstag im Monat treffen sich Bücherbegeisterte im Stadtsalon Safari. In gemütlicher Runde bei Saft und Rotwein werden Lieblingsstellen vorgelesen\, wird über literarische Vorlieben gesprochen oder einfach nur einander zugehört. Jedes Thema und jeder Geschmack sind willkommen.
URL:https://elblandwerker.de/veranstaltungen/buechersafari-4-3/2027-12-16/
LOCATION:Stadtsalon Safari\, Bismarckpl. 6\, Wittenberge\, 19322\, Deutschland
CATEGORIES:Bücherabend,Community
ATTACH;FMTTYPE=image/jpeg:https://elblandwerker.de/wp-content/uploads/2022/05/280951840_552091839779971_8975111743372162818_n-e1682839617697.jpg
END:VEVENT
BEGIN:VEVENT
DTSTART;TZID=Europe/Berlin:20280120T190000
DTEND;TZID=Europe/Berlin:20280120T220000
DTSTAMP:20260421T183029
CREATED:20240215T155909Z
LAST-MODIFIED:20251124T124105Z
UID:10001537-1832007600-1832018400@elblandwerker.de
SUMMARY:Büchersafari
DESCRIPTION:Jeden dritten Donnerstag im Monat treffen sich Bücherbegeisterte im Stadtsalon Safari. In gemütlicher Runde bei Saft und Rotwein werden Lieblingsstellen vorgelesen\, wird über literarische Vorlieben gesprochen oder einfach nur einander zugehört. Jedes Thema und jeder Geschmack sind willkommen.
URL:https://elblandwerker.de/veranstaltungen/buechersafari-4-3/2028-01-20/
LOCATION:Stadtsalon Safari\, Bismarckpl. 6\, Wittenberge\, 19322\, Deutschland
CATEGORIES:Bücherabend,Community
ATTACH;FMTTYPE=image/jpeg:https://elblandwerker.de/wp-content/uploads/2022/05/280951840_552091839779971_8975111743372162818_n-e1682839617697.jpg
END:VEVENT
BEGIN:VEVENT
DTSTART;TZID=Europe/Berlin:20280217T190000
DTEND;TZID=Europe/Berlin:20280217T220000
DTSTAMP:20260421T183029
CREATED:20240215T155909Z
LAST-MODIFIED:20251124T124105Z
UID:10001538-1834426800-1834437600@elblandwerker.de
SUMMARY:Büchersafari
DESCRIPTION:Jeden dritten Donnerstag im Monat treffen sich Bücherbegeisterte im Stadtsalon Safari. In gemütlicher Runde bei Saft und Rotwein werden Lieblingsstellen vorgelesen\, wird über literarische Vorlieben gesprochen oder einfach nur einander zugehört. Jedes Thema und jeder Geschmack sind willkommen.
URL:https://elblandwerker.de/veranstaltungen/buechersafari-4-3/2028-02-17/
LOCATION:Stadtsalon Safari\, Bismarckpl. 6\, Wittenberge\, 19322\, Deutschland
CATEGORIES:Bücherabend,Community
ATTACH;FMTTYPE=image/jpeg:https://elblandwerker.de/wp-content/uploads/2022/05/280951840_552091839779971_8975111743372162818_n-e1682839617697.jpg
END:VEVENT
BEGIN:VEVENT
DTSTART;TZID=Europe/Berlin:20280316T190000
DTEND;TZID=Europe/Berlin:20280316T220000
DTSTAMP:20260421T183029
CREATED:20240215T155909Z
LAST-MODIFIED:20251124T124105Z
UID:10001539-1836846000-1836856800@elblandwerker.de
SUMMARY:Büchersafari
DESCRIPTION:Jeden dritten Donnerstag im Monat treffen sich Bücherbegeisterte im Stadtsalon Safari. In gemütlicher Runde bei Saft und Rotwein werden Lieblingsstellen vorgelesen\, wird über literarische Vorlieben gesprochen oder einfach nur einander zugehört. Jedes Thema und jeder Geschmack sind willkommen.
URL:https://elblandwerker.de/veranstaltungen/buechersafari-4-3/2028-03-16/
LOCATION:Stadtsalon Safari\, Bismarckpl. 6\, Wittenberge\, 19322\, Deutschland
CATEGORIES:Bücherabend,Community
ATTACH;FMTTYPE=image/jpeg:https://elblandwerker.de/wp-content/uploads/2022/05/280951840_552091839779971_8975111743372162818_n-e1682839617697.jpg
END:VEVENT
BEGIN:VEVENT
DTSTART;TZID=Europe/Berlin:20280420T190000
DTEND;TZID=Europe/Berlin:20280420T220000
DTSTAMP:20260421T183029
CREATED:20240215T155909Z
LAST-MODIFIED:20251124T124105Z
UID:10001540-1839870000-1839880800@elblandwerker.de
SUMMARY:Büchersafari
DESCRIPTION:Jeden dritten Donnerstag im Monat treffen sich Bücherbegeisterte im Stadtsalon Safari. In gemütlicher Runde bei Saft und Rotwein werden Lieblingsstellen vorgelesen\, wird über literarische Vorlieben gesprochen oder einfach nur einander zugehört. Jedes Thema und jeder Geschmack sind willkommen.
URL:https://elblandwerker.de/veranstaltungen/buechersafari-4-3/2028-04-20/
LOCATION:Stadtsalon Safari\, Bismarckpl. 6\, Wittenberge\, 19322\, Deutschland
CATEGORIES:Bücherabend,Community
ATTACH;FMTTYPE=image/jpeg:https://elblandwerker.de/wp-content/uploads/2022/05/280951840_552091839779971_8975111743372162818_n-e1682839617697.jpg
END:VEVENT
BEGIN:VEVENT
DTSTART;TZID=Europe/Berlin:20280518T190000
DTEND;TZID=Europe/Berlin:20280518T220000
DTSTAMP:20260421T183029
CREATED:20240215T155909Z
LAST-MODIFIED:20251124T124105Z
UID:10001541-1842289200-1842300000@elblandwerker.de
SUMMARY:Büchersafari
DESCRIPTION:Jeden dritten Donnerstag im Monat treffen sich Bücherbegeisterte im Stadtsalon Safari. In gemütlicher Runde bei Saft und Rotwein werden Lieblingsstellen vorgelesen\, wird über literarische Vorlieben gesprochen oder einfach nur einander zugehört. Jedes Thema und jeder Geschmack sind willkommen.
URL:https://elblandwerker.de/veranstaltungen/buechersafari-4-3/2028-05-18/
LOCATION:Stadtsalon Safari\, Bismarckpl. 6\, Wittenberge\, 19322\, Deutschland
CATEGORIES:Bücherabend,Community
ATTACH;FMTTYPE=image/jpeg:https://elblandwerker.de/wp-content/uploads/2022/05/280951840_552091839779971_8975111743372162818_n-e1682839617697.jpg
END:VEVENT
BEGIN:VEVENT
DTSTART;TZID=Europe/Berlin:20280615T190000
DTEND;TZID=Europe/Berlin:20280615T220000
DTSTAMP:20260421T183029
CREATED:20240215T155909Z
LAST-MODIFIED:20251124T124105Z
UID:10001542-1844708400-1844719200@elblandwerker.de
SUMMARY:Büchersafari
DESCRIPTION:Jeden dritten Donnerstag im Monat treffen sich Bücherbegeisterte im Stadtsalon Safari. In gemütlicher Runde bei Saft und Rotwein werden Lieblingsstellen vorgelesen\, wird über literarische Vorlieben gesprochen oder einfach nur einander zugehört. Jedes Thema und jeder Geschmack sind willkommen.
URL:https://elblandwerker.de/veranstaltungen/buechersafari-4-3/2028-06-15/
LOCATION:Stadtsalon Safari\, Bismarckpl. 6\, Wittenberge\, 19322\, Deutschland
CATEGORIES:Bücherabend,Community
ATTACH;FMTTYPE=image/jpeg:https://elblandwerker.de/wp-content/uploads/2022/05/280951840_552091839779971_8975111743372162818_n-e1682839617697.jpg
END:VEVENT
BEGIN:VEVENT
DTSTART;TZID=Europe/Berlin:20280720T190000
DTEND;TZID=Europe/Berlin:20280720T220000
DTSTAMP:20260421T183029
CREATED:20240215T155909Z
LAST-MODIFIED:20251124T124105Z
UID:10001543-1847732400-1847743200@elblandwerker.de
SUMMARY:Büchersafari
DESCRIPTION:Jeden dritten Donnerstag im Monat treffen sich Bücherbegeisterte im Stadtsalon Safari. In gemütlicher Runde bei Saft und Rotwein werden Lieblingsstellen vorgelesen\, wird über literarische Vorlieben gesprochen oder einfach nur einander zugehört. Jedes Thema und jeder Geschmack sind willkommen.
URL:https://elblandwerker.de/veranstaltungen/buechersafari-4-3/2028-07-20/
LOCATION:Stadtsalon Safari\, Bismarckpl. 6\, Wittenberge\, 19322\, Deutschland
CATEGORIES:Bücherabend,Community
ATTACH;FMTTYPE=image/jpeg:https://elblandwerker.de/wp-content/uploads/2022/05/280951840_552091839779971_8975111743372162818_n-e1682839617697.jpg
END:VEVENT
BEGIN:VEVENT
DTSTART;TZID=Europe/Berlin:20280817T190000
DTEND;TZID=Europe/Berlin:20280817T220000
DTSTAMP:20260421T183029
CREATED:20240215T155909Z
LAST-MODIFIED:20251124T124105Z
UID:10001544-1850151600-1850162400@elblandwerker.de
SUMMARY:Büchersafari
DESCRIPTION:Jeden dritten Donnerstag im Monat treffen sich Bücherbegeisterte im Stadtsalon Safari. In gemütlicher Runde bei Saft und Rotwein werden Lieblingsstellen vorgelesen\, wird über literarische Vorlieben gesprochen oder einfach nur einander zugehört. Jedes Thema und jeder Geschmack sind willkommen.
URL:https://elblandwerker.de/veranstaltungen/buechersafari-4-3/2028-08-17/
LOCATION:Stadtsalon Safari\, Bismarckpl. 6\, Wittenberge\, 19322\, Deutschland
CATEGORIES:Bücherabend,Community
ATTACH;FMTTYPE=image/jpeg:https://elblandwerker.de/wp-content/uploads/2022/05/280951840_552091839779971_8975111743372162818_n-e1682839617697.jpg
END:VEVENT
BEGIN:VEVENT
DTSTART;TZID=Europe/Berlin:20280921T190000
DTEND;TZID=Europe/Berlin:20280921T220000
DTSTAMP:20260421T183029
CREATED:20240215T155909Z
LAST-MODIFIED:20251124T124105Z
UID:10001545-1853175600-1853186400@elblandwerker.de
SUMMARY:Büchersafari
DESCRIPTION:Jeden dritten Donnerstag im Monat treffen sich Bücherbegeisterte im Stadtsalon Safari. In gemütlicher Runde bei Saft und Rotwein werden Lieblingsstellen vorgelesen\, wird über literarische Vorlieben gesprochen oder einfach nur einander zugehört. Jedes Thema und jeder Geschmack sind willkommen.
URL:https://elblandwerker.de/veranstaltungen/buechersafari-4-3/2028-09-21/
LOCATION:Stadtsalon Safari\, Bismarckpl. 6\, Wittenberge\, 19322\, Deutschland
CATEGORIES:Bücherabend,Community
ATTACH;FMTTYPE=image/jpeg:https://elblandwerker.de/wp-content/uploads/2022/05/280951840_552091839779971_8975111743372162818_n-e1682839617697.jpg
END:VEVENT
BEGIN:VEVENT
DTSTART;TZID=Europe/Berlin:20281019T190000
DTEND;TZID=Europe/Berlin:20281019T220000
DTSTAMP:20260421T183029
CREATED:20240215T155909Z
LAST-MODIFIED:20251124T124105Z
UID:10001546-1855594800-1855605600@elblandwerker.de
SUMMARY:Büchersafari
DESCRIPTION:Jeden dritten Donnerstag im Monat treffen sich Bücherbegeisterte im Stadtsalon Safari. In gemütlicher Runde bei Saft und Rotwein werden Lieblingsstellen vorgelesen\, wird über literarische Vorlieben gesprochen oder einfach nur einander zugehört. Jedes Thema und jeder Geschmack sind willkommen.
URL:https://elblandwerker.de/veranstaltungen/buechersafari-4-3/2028-10-19/
LOCATION:Stadtsalon Safari\, Bismarckpl. 6\, Wittenberge\, 19322\, Deutschland
CATEGORIES:Bücherabend,Community
ATTACH;FMTTYPE=image/jpeg:https://elblandwerker.de/wp-content/uploads/2022/05/280951840_552091839779971_8975111743372162818_n-e1682839617697.jpg
END:VEVENT
BEGIN:VEVENT
DTSTART;TZID=Europe/Berlin:20281116T190000
DTEND;TZID=Europe/Berlin:20281116T220000
DTSTAMP:20260421T183029
CREATED:20240215T155909Z
LAST-MODIFIED:20251124T124105Z
UID:10001547-1858014000-1858024800@elblandwerker.de
SUMMARY:Büchersafari
DESCRIPTION:Jeden dritten Donnerstag im Monat treffen sich Bücherbegeisterte im Stadtsalon Safari. In gemütlicher Runde bei Saft und Rotwein werden Lieblingsstellen vorgelesen\, wird über literarische Vorlieben gesprochen oder einfach nur einander zugehört. Jedes Thema und jeder Geschmack sind willkommen.
URL:https://elblandwerker.de/veranstaltungen/buechersafari-4-3/2028-11-16/
LOCATION:Stadtsalon Safari\, Bismarckpl. 6\, Wittenberge\, 19322\, Deutschland
CATEGORIES:Bücherabend,Community
ATTACH;FMTTYPE=image/jpeg:https://elblandwerker.de/wp-content/uploads/2022/05/280951840_552091839779971_8975111743372162818_n-e1682839617697.jpg
END:VEVENT
BEGIN:VEVENT
DTSTART;TZID=Europe/Berlin:20281221T190000
DTEND;TZID=Europe/Berlin:20281221T220000
DTSTAMP:20260421T183029
CREATED:20240215T155909Z
LAST-MODIFIED:20251124T124105Z
UID:10001548-1861038000-1861048800@elblandwerker.de
SUMMARY:Büchersafari
DESCRIPTION:Jeden dritten Donnerstag im Monat treffen sich Bücherbegeisterte im Stadtsalon Safari. In gemütlicher Runde bei Saft und Rotwein werden Lieblingsstellen vorgelesen\, wird über literarische Vorlieben gesprochen oder einfach nur einander zugehört. Jedes Thema und jeder Geschmack sind willkommen.
URL:https://elblandwerker.de/veranstaltungen/buechersafari-4-3/2028-12-21/
LOCATION:Stadtsalon Safari\, Bismarckpl. 6\, Wittenberge\, 19322\, Deutschland
CATEGORIES:Bücherabend,Community
ATTACH;FMTTYPE=image/jpeg:https://elblandwerker.de/wp-content/uploads/2022/05/280951840_552091839779971_8975111743372162818_n-e1682839617697.jpg
END:VEVENT
BEGIN:VEVENT
DTSTART;TZID=Europe/Berlin:20290118T190000
DTEND;TZID=Europe/Berlin:20290118T220000
DTSTAMP:20260421T183029
CREATED:20240215T155909Z
LAST-MODIFIED:20251124T124105Z
UID:10001549-1863457200-1863468000@elblandwerker.de
SUMMARY:Büchersafari
DESCRIPTION:Jeden dritten Donnerstag im Monat treffen sich Bücherbegeisterte im Stadtsalon Safari. In gemütlicher Runde bei Saft und Rotwein werden Lieblingsstellen vorgelesen\, wird über literarische Vorlieben gesprochen oder einfach nur einander zugehört. Jedes Thema und jeder Geschmack sind willkommen.
URL:https://elblandwerker.de/veranstaltungen/buechersafari-4-3/2029-01-18/
LOCATION:Stadtsalon Safari\, Bismarckpl. 6\, Wittenberge\, 19322\, Deutschland
CATEGORIES:Bücherabend,Community
ATTACH;FMTTYPE=image/jpeg:https://elblandwerker.de/wp-content/uploads/2022/05/280951840_552091839779971_8975111743372162818_n-e1682839617697.jpg
END:VEVENT
BEGIN:VEVENT
DTSTART;TZID=Europe/Berlin:20290215T190000
DTEND;TZID=Europe/Berlin:20290215T220000
DTSTAMP:20260421T183029
CREATED:20240215T155909Z
LAST-MODIFIED:20251124T124105Z
UID:10001550-1865876400-1865887200@elblandwerker.de
SUMMARY:Büchersafari
DESCRIPTION:Jeden dritten Donnerstag im Monat treffen sich Bücherbegeisterte im Stadtsalon Safari. In gemütlicher Runde bei Saft und Rotwein werden Lieblingsstellen vorgelesen\, wird über literarische Vorlieben gesprochen oder einfach nur einander zugehört. Jedes Thema und jeder Geschmack sind willkommen.
URL:https://elblandwerker.de/veranstaltungen/buechersafari-4-3/2029-02-15/
LOCATION:Stadtsalon Safari\, Bismarckpl. 6\, Wittenberge\, 19322\, Deutschland
CATEGORIES:Bücherabend,Community
ATTACH;FMTTYPE=image/jpeg:https://elblandwerker.de/wp-content/uploads/2022/05/280951840_552091839779971_8975111743372162818_n-e1682839617697.jpg
END:VEVENT
BEGIN:VEVENT
DTSTART;TZID=Europe/Berlin:20290315T190000
DTEND;TZID=Europe/Berlin:20290315T220000
DTSTAMP:20260421T183029
CREATED:20240215T155909Z
LAST-MODIFIED:20251124T124105Z
UID:10004650-1868295600-1868306400@elblandwerker.de
SUMMARY:Büchersafari
DESCRIPTION:Jeden dritten Donnerstag im Monat treffen sich Bücherbegeisterte im Stadtsalon Safari. In gemütlicher Runde bei Saft und Rotwein werden Lieblingsstellen vorgelesen\, wird über literarische Vorlieben gesprochen oder einfach nur einander zugehört. Jedes Thema und jeder Geschmack sind willkommen.
URL:https://elblandwerker.de/veranstaltungen/buechersafari-4-3/2029-03-15/
LOCATION:Stadtsalon Safari\, Bismarckpl. 6\, Wittenberge\, 19322\, Deutschland
CATEGORIES:Bücherabend,Community
ATTACH;FMTTYPE=image/jpeg:https://elblandwerker.de/wp-content/uploads/2022/05/280951840_552091839779971_8975111743372162818_n-e1682839617697.jpg
END:VEVENT
BEGIN:VEVENT
DTSTART;TZID=Europe/Berlin:20290419T190000
DTEND;TZID=Europe/Berlin:20290419T220000
DTSTAMP:20260421T183029
CREATED:20240215T155909Z
LAST-MODIFIED:20251124T124105Z
UID:10004651-1871319600-1871330400@elblandwerker.de
SUMMARY:Büchersafari
DESCRIPTION:Jeden dritten Donnerstag im Monat treffen sich Bücherbegeisterte im Stadtsalon Safari. In gemütlicher Runde bei Saft und Rotwein werden Lieblingsstellen vorgelesen\, wird über literarische Vorlieben gesprochen oder einfach nur einander zugehört. Jedes Thema und jeder Geschmack sind willkommen.
URL:https://elblandwerker.de/veranstaltungen/buechersafari-4-3/2029-04-19/
LOCATION:Stadtsalon Safari\, Bismarckpl. 6\, Wittenberge\, 19322\, Deutschland
CATEGORIES:Bücherabend,Community
ATTACH;FMTTYPE=image/jpeg:https://elblandwerker.de/wp-content/uploads/2022/05/280951840_552091839779971_8975111743372162818_n-e1682839617697.jpg
END:VEVENT
BEGIN:VEVENT
DTSTART;TZID=Europe/Berlin:20290517T190000
DTEND;TZID=Europe/Berlin:20290517T220000
DTSTAMP:20260421T183029
CREATED:20240215T155909Z
LAST-MODIFIED:20251124T124105Z
UID:10004652-1873738800-1873749600@elblandwerker.de
SUMMARY:Büchersafari
DESCRIPTION:Jeden dritten Donnerstag im Monat treffen sich Bücherbegeisterte im Stadtsalon Safari. In gemütlicher Runde bei Saft und Rotwein werden Lieblingsstellen vorgelesen\, wird über literarische Vorlieben gesprochen oder einfach nur einander zugehört. Jedes Thema und jeder Geschmack sind willkommen.
URL:https://elblandwerker.de/veranstaltungen/buechersafari-4-3/2029-05-17/
LOCATION:Stadtsalon Safari\, Bismarckpl. 6\, Wittenberge\, 19322\, Deutschland
CATEGORIES:Bücherabend,Community
ATTACH;FMTTYPE=image/jpeg:https://elblandwerker.de/wp-content/uploads/2022/05/280951840_552091839779971_8975111743372162818_n-e1682839617697.jpg
END:VEVENT
BEGIN:VEVENT
DTSTART;TZID=Europe/Berlin:20290621T190000
DTEND;TZID=Europe/Berlin:20290621T220000
DTSTAMP:20260421T183029
CREATED:20240215T155909Z
LAST-MODIFIED:20251124T124105Z
UID:10004653-1876762800-1876773600@elblandwerker.de
SUMMARY:Büchersafari
DESCRIPTION:Jeden dritten Donnerstag im Monat treffen sich Bücherbegeisterte im Stadtsalon Safari. In gemütlicher Runde bei Saft und Rotwein werden Lieblingsstellen vorgelesen\, wird über literarische Vorlieben gesprochen oder einfach nur einander zugehört. Jedes Thema und jeder Geschmack sind willkommen.
URL:https://elblandwerker.de/veranstaltungen/buechersafari-4-3/2029-06-21/
LOCATION:Stadtsalon Safari\, Bismarckpl. 6\, Wittenberge\, 19322\, Deutschland
CATEGORIES:Bücherabend,Community
ATTACH;FMTTYPE=image/jpeg:https://elblandwerker.de/wp-content/uploads/2022/05/280951840_552091839779971_8975111743372162818_n-e1682839617697.jpg
END:VEVENT
BEGIN:VEVENT
DTSTART;TZID=Europe/Berlin:20290719T190000
DTEND;TZID=Europe/Berlin:20290719T220000
DTSTAMP:20260421T183029
CREATED:20240215T155909Z
LAST-MODIFIED:20251124T124105Z
UID:10004654-1879182000-1879192800@elblandwerker.de
SUMMARY:Büchersafari
DESCRIPTION:Jeden dritten Donnerstag im Monat treffen sich Bücherbegeisterte im Stadtsalon Safari. In gemütlicher Runde bei Saft und Rotwein werden Lieblingsstellen vorgelesen\, wird über literarische Vorlieben gesprochen oder einfach nur einander zugehört. Jedes Thema und jeder Geschmack sind willkommen.
URL:https://elblandwerker.de/veranstaltungen/buechersafari-4-3/2029-07-19/
LOCATION:Stadtsalon Safari\, Bismarckpl. 6\, Wittenberge\, 19322\, Deutschland
CATEGORIES:Bücherabend,Community
ATTACH;FMTTYPE=image/jpeg:https://elblandwerker.de/wp-content/uploads/2022/05/280951840_552091839779971_8975111743372162818_n-e1682839617697.jpg
END:VEVENT
BEGIN:VEVENT
DTSTART;TZID=Europe/Berlin:20290816T190000
DTEND;TZID=Europe/Berlin:20290816T220000
DTSTAMP:20260421T183029
CREATED:20240215T155909Z
LAST-MODIFIED:20251124T124105Z
UID:10004655-1881601200-1881612000@elblandwerker.de
SUMMARY:Büchersafari
DESCRIPTION:Jeden dritten Donnerstag im Monat treffen sich Bücherbegeisterte im Stadtsalon Safari. In gemütlicher Runde bei Saft und Rotwein werden Lieblingsstellen vorgelesen\, wird über literarische Vorlieben gesprochen oder einfach nur einander zugehört. Jedes Thema und jeder Geschmack sind willkommen.
URL:https://elblandwerker.de/veranstaltungen/buechersafari-4-3/2029-08-16/
LOCATION:Stadtsalon Safari\, Bismarckpl. 6\, Wittenberge\, 19322\, Deutschland
CATEGORIES:Bücherabend,Community
ATTACH;FMTTYPE=image/jpeg:https://elblandwerker.de/wp-content/uploads/2022/05/280951840_552091839779971_8975111743372162818_n-e1682839617697.jpg
END:VEVENT
BEGIN:VEVENT
DTSTART;TZID=Europe/Berlin:20290920T190000
DTEND;TZID=Europe/Berlin:20290920T220000
DTSTAMP:20260421T183029
CREATED:20240215T155909Z
LAST-MODIFIED:20251124T124105Z
UID:10004656-1884625200-1884636000@elblandwerker.de
SUMMARY:Büchersafari
DESCRIPTION:Jeden dritten Donnerstag im Monat treffen sich Bücherbegeisterte im Stadtsalon Safari. In gemütlicher Runde bei Saft und Rotwein werden Lieblingsstellen vorgelesen\, wird über literarische Vorlieben gesprochen oder einfach nur einander zugehört. Jedes Thema und jeder Geschmack sind willkommen.
URL:https://elblandwerker.de/veranstaltungen/buechersafari-4-3/2029-09-20/
LOCATION:Stadtsalon Safari\, Bismarckpl. 6\, Wittenberge\, 19322\, Deutschland
CATEGORIES:Bücherabend,Community
ATTACH;FMTTYPE=image/jpeg:https://elblandwerker.de/wp-content/uploads/2022/05/280951840_552091839779971_8975111743372162818_n-e1682839617697.jpg
END:VEVENT
BEGIN:VEVENT
DTSTART;TZID=Europe/Berlin:20291018T190000
DTEND;TZID=Europe/Berlin:20291018T220000
DTSTAMP:20260421T183029
CREATED:20240215T155909Z
LAST-MODIFIED:20251124T124105Z
UID:10004657-1887044400-1887055200@elblandwerker.de
SUMMARY:Büchersafari
DESCRIPTION:Jeden dritten Donnerstag im Monat treffen sich Bücherbegeisterte im Stadtsalon Safari. In gemütlicher Runde bei Saft und Rotwein werden Lieblingsstellen vorgelesen\, wird über literarische Vorlieben gesprochen oder einfach nur einander zugehört. Jedes Thema und jeder Geschmack sind willkommen.
URL:https://elblandwerker.de/veranstaltungen/buechersafari-4-3/2029-10-18/
LOCATION:Stadtsalon Safari\, Bismarckpl. 6\, Wittenberge\, 19322\, Deutschland
CATEGORIES:Bücherabend,Community
ATTACH;FMTTYPE=image/jpeg:https://elblandwerker.de/wp-content/uploads/2022/05/280951840_552091839779971_8975111743372162818_n-e1682839617697.jpg
END:VEVENT
END:VCALENDAR