BEGIN:VCALENDAR
VERSION:2.0
PRODID:-//elblandwerker* - ECPv6.15.20//NONSGML v1.0//EN
CALSCALE:GREGORIAN
METHOD:PUBLISH
X-WR-CALNAME:elblandwerker*
X-ORIGINAL-URL:https://elblandwerker.de
X-WR-CALDESC:Veranstaltungen für elblandwerker*
REFRESH-INTERVAL;VALUE=DURATION:PT1H
X-Robots-Tag:noindex
X-PUBLISHED-TTL:PT1H
BEGIN:VTIMEZONE
TZID:Europe/Berlin
BEGIN:DAYLIGHT
TZOFFSETFROM:+0100
TZOFFSETTO:+0200
TZNAME:CEST
DTSTART:20240331T010000
END:DAYLIGHT
BEGIN:STANDARD
TZOFFSETFROM:+0200
TZOFFSETTO:+0100
TZNAME:CET
DTSTART:20241027T010000
END:STANDARD
BEGIN:DAYLIGHT
TZOFFSETFROM:+0100
TZOFFSETTO:+0200
TZNAME:CEST
DTSTART:20250330T010000
END:DAYLIGHT
BEGIN:STANDARD
TZOFFSETFROM:+0200
TZOFFSETTO:+0100
TZNAME:CET
DTSTART:20251026T010000
END:STANDARD
BEGIN:DAYLIGHT
TZOFFSETFROM:+0100
TZOFFSETTO:+0200
TZNAME:CEST
DTSTART:20260329T010000
END:DAYLIGHT
BEGIN:STANDARD
TZOFFSETFROM:+0200
TZOFFSETTO:+0100
TZNAME:CET
DTSTART:20261025T010000
END:STANDARD
END:VTIMEZONE
BEGIN:VEVENT
DTSTART;TZID=Europe/Berlin:20250530T190000
DTEND;TZID=Europe/Berlin:20250531T003000
DTSTAMP:20260419T145106
CREATED:20250511T123230Z
LAST-MODIFIED:20250511T123230Z
UID:10003653-1748631600-1748651400@elblandwerker.de
SUMMARY:Krankenschwester Rock(t)
DESCRIPTION:Das Festival in der selbsternannten Kulturhauptstadt Haaren findet zum 19. Mal statt. Headliner ist dieses Jahr MUTABOR. Die Band ist schon seit den 90er Jahren im Geschäft und bekannt für ihren einzigartigen Mix aus Punkrock\, Folk und Ska. Wichtig ist dem Verein Krankenschwester Rockt als Veranstalter\, dass auch lokale Bands und der Nachwuchs gefördert werden. Den Auftakt am Festivalabend macht daher die Band Teenage Dream von der Musikschule Perleberg\, die kreativ Rocksongs covern. Auftritte haben außerdem Circus Rhapsody\, Sinnfrei und Lottalärm. Außerdem gibt’s Bratwurst\, Burger und Bier. Auch die Jüngeren kommen mit Hüpfburg und einem jonglierenden Walking Act auf ihre Kosten.
URL:https://elblandwerker.de/veranstaltungen/krankenschwester-rockt-3/
LOCATION:Haaren\, Haaren 10\, Bad Wilsnack\, 19336
CATEGORIES:Musik
ATTACH;FMTTYPE=image/jpeg:https://elblandwerker.de/wp-content/uploads/2025/05/DSC4781-1.jpg
END:VEVENT
END:VCALENDAR