BEGIN:VCALENDAR
VERSION:2.0
PRODID:-//elblandwerker* - ECPv6.15.20//NONSGML v1.0//EN
CALSCALE:GREGORIAN
METHOD:PUBLISH
X-ORIGINAL-URL:https://elblandwerker.de
X-WR-CALDESC:Veranstaltungen für elblandwerker*
REFRESH-INTERVAL;VALUE=DURATION:PT1H
X-Robots-Tag:noindex
X-PUBLISHED-TTL:PT1H
BEGIN:VTIMEZONE
TZID:Europe/Berlin
BEGIN:DAYLIGHT
TZOFFSETFROM:+0100
TZOFFSETTO:+0200
TZNAME:CEST
DTSTART:20240331T010000
END:DAYLIGHT
BEGIN:STANDARD
TZOFFSETFROM:+0200
TZOFFSETTO:+0100
TZNAME:CET
DTSTART:20241027T010000
END:STANDARD
BEGIN:DAYLIGHT
TZOFFSETFROM:+0100
TZOFFSETTO:+0200
TZNAME:CEST
DTSTART:20250330T010000
END:DAYLIGHT
BEGIN:STANDARD
TZOFFSETFROM:+0200
TZOFFSETTO:+0100
TZNAME:CET
DTSTART:20251026T010000
END:STANDARD
BEGIN:DAYLIGHT
TZOFFSETFROM:+0100
TZOFFSETTO:+0200
TZNAME:CEST
DTSTART:20260329T010000
END:DAYLIGHT
BEGIN:STANDARD
TZOFFSETFROM:+0200
TZOFFSETTO:+0100
TZNAME:CET
DTSTART:20261025T010000
END:STANDARD
END:VTIMEZONE
BEGIN:VEVENT
DTSTART;TZID=Europe/Berlin:20251023T100000
DTEND;TZID=Europe/Berlin:20251023T160000
DTSTAMP:20260421T191241
CREATED:20251008T172730Z
LAST-MODIFIED:20251008T172730Z
UID:10004623-1761213600-1761235200@elblandwerker.de
SUMMARY:Feldtag auf dem Biopark-Betrieb Anna Winter (Brandenburg)
DESCRIPTION:Wie gelingt zukunftsfähige Landwirtschaft? Beim diesjährigen Feldtag auf dem Biopark-Betrieb Anna Winter stehen gesunde Böden\, Humusaufbau und Heckenpflanzungen im Mittelpunkt. \nAm Vormittag widmen wir uns der ökologischen Bedeutung von Hecken. Sie schützen Böden\, spenden Schatten\, fördern Artenvielfalt und helfen\, mit klimatischen Veränderungen besser umzugehen. Hermann Wiesing\, Agrar- und Umweltplaner\, gibt Einblicke in Planung\, Anlage und Pflege. Anschließend besichtigen wir gemeinsam eine neu gepflanzte Hecke auf dem Betrieb von Anna Winter. \nDer Nachmittag führt uns in die Welt unter unseren Füßen: Was passiert eigentlich in einem Teelöffel Erde? Im Mikroskopie-Workshop mit Jule Schwartz (Stiftung Lebensraum) geht es um Bodenleben\, stabile Humusformen und die Rolle der biologischen Vielfalt im Boden. Teilnehmer*innen können eigene Bodenproben mitbringen und unter dem Mikroskop untersuchen. \nVerpflegungspauschale: 15 € (bitte passend und in bar mitbringen) \nAnmeldung bis 19. Oktober 2025 erforderlich: https://humus-klima-netz.de/event/2025-feldtag-anna-winter/ \nProgramm\n10:00 Uhr – Begrüßung // Simone Witzel (BÖLW\, HumusKlimaNetz)\, Anna Winter (Landwirtin) \n10:15 Uhr – Vorstellung des Projekts HumusKlimaNetz // Simone Witzel \n10:30 Uhr – Klimaresiliente Heckenneuanpflanzungen in Brandenburg // Hermann Wiesing \n11:00 Uhr – Flächenbegehung und Heckenbesichtigung // Hermann Wiesing & Anna Winter \n12:00 Uhr – Mittagsimbiss \n12:30 Uhr – Blick in den Boden: Mikroskopie-Kurs // Jule Schwartz \n16:00 Uhr – Ende der Veranstaltung \nDu möchtest mehr über den Biopark-Betrieb Anna Winter erfahren? Hier geht’s zum Betriebsporträt.
URL:https://elblandwerker.de/veranstaltungen/feldtag-auf-dem-biopark-betrieb-anna-winter-brandenburg/
LOCATION:Gemeindehaus Tangendorf\, Tangendorfer Hauptstraße 21\, Groß Pankow\, 16928
CATEGORIES:Nachhaltigkeit,Natur,Wandel
ATTACH;FMTTYPE=image/jpeg:https://elblandwerker.de/wp-content/uploads/2025/10/202405_Hecke_cHumusKlimaNetz-1_01.jpg
END:VEVENT
END:VCALENDAR