BEGIN:VCALENDAR
VERSION:2.0
PRODID:-//elblandwerker* - ECPv6.15.20//NONSGML v1.0//EN
CALSCALE:GREGORIAN
METHOD:PUBLISH
X-WR-CALNAME:elblandwerker*
X-ORIGINAL-URL:https://elblandwerker.de
X-WR-CALDESC:Veranstaltungen für elblandwerker*
REFRESH-INTERVAL;VALUE=DURATION:PT1H
X-Robots-Tag:noindex
X-PUBLISHED-TTL:PT1H
BEGIN:VTIMEZONE
TZID:Europe/Berlin
BEGIN:DAYLIGHT
TZOFFSETFROM:+0100
TZOFFSETTO:+0200
TZNAME:CEST
DTSTART:20220327T010000
END:DAYLIGHT
BEGIN:STANDARD
TZOFFSETFROM:+0200
TZOFFSETTO:+0100
TZNAME:CET
DTSTART:20221030T010000
END:STANDARD
BEGIN:DAYLIGHT
TZOFFSETFROM:+0100
TZOFFSETTO:+0200
TZNAME:CEST
DTSTART:20230326T010000
END:DAYLIGHT
BEGIN:STANDARD
TZOFFSETFROM:+0200
TZOFFSETTO:+0100
TZNAME:CET
DTSTART:20231029T010000
END:STANDARD
BEGIN:DAYLIGHT
TZOFFSETFROM:+0100
TZOFFSETTO:+0200
TZNAME:CEST
DTSTART:20240331T010000
END:DAYLIGHT
BEGIN:STANDARD
TZOFFSETFROM:+0200
TZOFFSETTO:+0100
TZNAME:CET
DTSTART:20241027T010000
END:STANDARD
BEGIN:DAYLIGHT
TZOFFSETFROM:+0100
TZOFFSETTO:+0200
TZNAME:CEST
DTSTART:20250330T010000
END:DAYLIGHT
BEGIN:STANDARD
TZOFFSETFROM:+0200
TZOFFSETTO:+0100
TZNAME:CET
DTSTART:20251026T010000
END:STANDARD
BEGIN:DAYLIGHT
TZOFFSETFROM:+0100
TZOFFSETTO:+0200
TZNAME:CEST
DTSTART:20260329T010000
END:DAYLIGHT
BEGIN:STANDARD
TZOFFSETFROM:+0200
TZOFFSETTO:+0100
TZNAME:CET
DTSTART:20261025T010000
END:STANDARD
BEGIN:DAYLIGHT
TZOFFSETFROM:+0100
TZOFFSETTO:+0200
TZNAME:CEST
DTSTART:20270328T010000
END:DAYLIGHT
BEGIN:STANDARD
TZOFFSETFROM:+0200
TZOFFSETTO:+0100
TZNAME:CET
DTSTART:20271031T010000
END:STANDARD
END:VTIMEZONE
BEGIN:VEVENT
DTSTART;TZID=Europe/Berlin:20260416T190000
DTEND;TZID=Europe/Berlin:20260416T220000
DTSTAMP:20260422T043634
CREATED:20240215T155909Z
LAST-MODIFIED:20251124T124105Z
UID:10001516-1776366000-1776376800@elblandwerker.de
SUMMARY:Büchersafari
DESCRIPTION:Jeden dritten Donnerstag im Monat treffen sich Bücherbegeisterte im Stadtsalon Safari. In gemütlicher Runde bei Saft und Rotwein werden Lieblingsstellen vorgelesen\, wird über literarische Vorlieben gesprochen oder einfach nur einander zugehört. Jedes Thema und jeder Geschmack sind willkommen.
URL:https://elblandwerker.de/veranstaltungen/buechersafari-4-3/2026-04-16/
LOCATION:Stadtsalon Safari\, Bismarckpl. 6\, Wittenberge\, 19322\, Deutschland
CATEGORIES:Bücherabend,Community
ATTACH;FMTTYPE=image/jpeg:https://elblandwerker.de/wp-content/uploads/2022/05/280951840_552091839779971_8975111743372162818_n-e1682839617697.jpg
END:VEVENT
BEGIN:VEVENT
DTSTART;TZID=Europe/Berlin:20260319T190000
DTEND;TZID=Europe/Berlin:20260319T220000
DTSTAMP:20260422T043634
CREATED:20240215T155909Z
LAST-MODIFIED:20251124T124105Z
UID:10001515-1773946800-1773957600@elblandwerker.de
SUMMARY:Büchersafari
DESCRIPTION:Jeden dritten Donnerstag im Monat treffen sich Bücherbegeisterte im Stadtsalon Safari. In gemütlicher Runde bei Saft und Rotwein werden Lieblingsstellen vorgelesen\, wird über literarische Vorlieben gesprochen oder einfach nur einander zugehört. Jedes Thema und jeder Geschmack sind willkommen.
URL:https://elblandwerker.de/veranstaltungen/buechersafari-4-3/2026-03-19/
LOCATION:Stadtsalon Safari\, Bismarckpl. 6\, Wittenberge\, 19322\, Deutschland
CATEGORIES:Bücherabend,Community
ATTACH;FMTTYPE=image/jpeg:https://elblandwerker.de/wp-content/uploads/2022/05/280951840_552091839779971_8975111743372162818_n-e1682839617697.jpg
END:VEVENT
BEGIN:VEVENT
DTSTART;TZID=Europe/Berlin:20260219T190000
DTEND;TZID=Europe/Berlin:20260219T220000
DTSTAMP:20260422T043634
CREATED:20240215T155909Z
LAST-MODIFIED:20251124T124105Z
UID:10001514-1771527600-1771538400@elblandwerker.de
SUMMARY:Büchersafari
DESCRIPTION:Jeden dritten Donnerstag im Monat treffen sich Bücherbegeisterte im Stadtsalon Safari. In gemütlicher Runde bei Saft und Rotwein werden Lieblingsstellen vorgelesen\, wird über literarische Vorlieben gesprochen oder einfach nur einander zugehört. Jedes Thema und jeder Geschmack sind willkommen.
URL:https://elblandwerker.de/veranstaltungen/buechersafari-4-3/2026-02-19/
LOCATION:Stadtsalon Safari\, Bismarckpl. 6\, Wittenberge\, 19322\, Deutschland
CATEGORIES:Bücherabend,Community
ATTACH;FMTTYPE=image/jpeg:https://elblandwerker.de/wp-content/uploads/2022/05/280951840_552091839779971_8975111743372162818_n-e1682839617697.jpg
END:VEVENT
BEGIN:VEVENT
DTSTART;TZID=Europe/Berlin:20260115T190000
DTEND;TZID=Europe/Berlin:20260115T220000
DTSTAMP:20260422T043634
CREATED:20240215T155909Z
LAST-MODIFIED:20251124T124105Z
UID:10001513-1768503600-1768514400@elblandwerker.de
SUMMARY:Büchersafari
DESCRIPTION:Jeden dritten Donnerstag im Monat treffen sich Bücherbegeisterte im Stadtsalon Safari. In gemütlicher Runde bei Saft und Rotwein werden Lieblingsstellen vorgelesen\, wird über literarische Vorlieben gesprochen oder einfach nur einander zugehört. Jedes Thema und jeder Geschmack sind willkommen.
URL:https://elblandwerker.de/veranstaltungen/buechersafari-4-3/2026-01-15/
LOCATION:Stadtsalon Safari\, Bismarckpl. 6\, Wittenberge\, 19322\, Deutschland
CATEGORIES:Bücherabend,Community
ATTACH;FMTTYPE=image/jpeg:https://elblandwerker.de/wp-content/uploads/2022/05/280951840_552091839779971_8975111743372162818_n-e1682839617697.jpg
END:VEVENT
BEGIN:VEVENT
DTSTART;TZID=Europe/Berlin:20251120T190000
DTEND;TZID=Europe/Berlin:20251120T220000
DTSTAMP:20260422T043634
CREATED:20240215T155909Z
LAST-MODIFIED:20251124T124105Z
UID:10001511-1763665200-1763676000@elblandwerker.de
SUMMARY:Büchersafari
DESCRIPTION:Jeden dritten Donnerstag im Monat treffen sich Bücherbegeisterte im Stadtsalon Safari. In gemütlicher Runde bei Saft und Rotwein werden Lieblingsstellen vorgelesen\, wird über literarische Vorlieben gesprochen oder einfach nur einander zugehört. Jedes Thema und jeder Geschmack sind willkommen.
URL:https://elblandwerker.de/veranstaltungen/buechersafari-4-3/2025-11-20/
LOCATION:Stadtsalon Safari\, Bismarckpl. 6\, Wittenberge\, 19322\, Deutschland
CATEGORIES:Bücherabend,Community
ATTACH;FMTTYPE=image/jpeg:https://elblandwerker.de/wp-content/uploads/2022/05/280951840_552091839779971_8975111743372162818_n-e1682839617697.jpg
END:VEVENT
BEGIN:VEVENT
DTSTART;TZID=Europe/Berlin:20251016T190000
DTEND;TZID=Europe/Berlin:20251016T220000
DTSTAMP:20260422T043634
CREATED:20240215T155909Z
LAST-MODIFIED:20251124T124105Z
UID:10001510-1760641200-1760652000@elblandwerker.de
SUMMARY:Büchersafari
DESCRIPTION:Jeden dritten Donnerstag im Monat treffen sich Bücherbegeisterte im Stadtsalon Safari. In gemütlicher Runde bei Saft und Rotwein werden Lieblingsstellen vorgelesen\, wird über literarische Vorlieben gesprochen oder einfach nur einander zugehört. Jedes Thema und jeder Geschmack sind willkommen.
URL:https://elblandwerker.de/veranstaltungen/buechersafari-4-3/2025-10-16/
LOCATION:Stadtsalon Safari\, Bismarckpl. 6\, Wittenberge\, 19322\, Deutschland
CATEGORIES:Bücherabend,Community
ATTACH;FMTTYPE=image/jpeg:https://elblandwerker.de/wp-content/uploads/2022/05/280951840_552091839779971_8975111743372162818_n-e1682839617697.jpg
END:VEVENT
BEGIN:VEVENT
DTSTART;TZID=Europe/Berlin:20250918T190000
DTEND;TZID=Europe/Berlin:20250918T220000
DTSTAMP:20260422T043634
CREATED:20240215T155909Z
LAST-MODIFIED:20251124T124105Z
UID:10001509-1758222000-1758232800@elblandwerker.de
SUMMARY:Büchersafari
DESCRIPTION:Jeden dritten Donnerstag im Monat treffen sich Bücherbegeisterte im Stadtsalon Safari. In gemütlicher Runde bei Saft und Rotwein werden Lieblingsstellen vorgelesen\, wird über literarische Vorlieben gesprochen oder einfach nur einander zugehört. Jedes Thema und jeder Geschmack sind willkommen.
URL:https://elblandwerker.de/veranstaltungen/buechersafari-4-3/2025-09-18/
LOCATION:Stadtsalon Safari\, Bismarckpl. 6\, Wittenberge\, 19322\, Deutschland
CATEGORIES:Bücherabend,Community
ATTACH;FMTTYPE=image/jpeg:https://elblandwerker.de/wp-content/uploads/2022/05/280951840_552091839779971_8975111743372162818_n-e1682839617697.jpg
END:VEVENT
BEGIN:VEVENT
DTSTART;TZID=Europe/Berlin:20250821T190000
DTEND;TZID=Europe/Berlin:20250821T220000
DTSTAMP:20260422T043634
CREATED:20240215T155909Z
LAST-MODIFIED:20251124T124105Z
UID:10001508-1755802800-1755813600@elblandwerker.de
SUMMARY:Büchersafari
DESCRIPTION:Jeden dritten Donnerstag im Monat treffen sich Bücherbegeisterte im Stadtsalon Safari. In gemütlicher Runde bei Saft und Rotwein werden Lieblingsstellen vorgelesen\, wird über literarische Vorlieben gesprochen oder einfach nur einander zugehört. Jedes Thema und jeder Geschmack sind willkommen.
URL:https://elblandwerker.de/veranstaltungen/buechersafari-4-3/2025-08-21/
LOCATION:Stadtsalon Safari\, Bismarckpl. 6\, Wittenberge\, 19322\, Deutschland
CATEGORIES:Bücherabend,Community
ATTACH;FMTTYPE=image/jpeg:https://elblandwerker.de/wp-content/uploads/2022/05/280951840_552091839779971_8975111743372162818_n-e1682839617697.jpg
END:VEVENT
BEGIN:VEVENT
DTSTART;TZID=Europe/Berlin:20250717T190000
DTEND;TZID=Europe/Berlin:20250717T220000
DTSTAMP:20260422T043634
CREATED:20240215T155909Z
LAST-MODIFIED:20251124T124105Z
UID:10001507-1752778800-1752789600@elblandwerker.de
SUMMARY:Büchersafari
DESCRIPTION:Jeden dritten Donnerstag im Monat treffen sich Bücherbegeisterte im Stadtsalon Safari. In gemütlicher Runde bei Saft und Rotwein werden Lieblingsstellen vorgelesen\, wird über literarische Vorlieben gesprochen oder einfach nur einander zugehört. Jedes Thema und jeder Geschmack sind willkommen.
URL:https://elblandwerker.de/veranstaltungen/buechersafari-4-3/2025-07-17/
LOCATION:Stadtsalon Safari\, Bismarckpl. 6\, Wittenberge\, 19322\, Deutschland
CATEGORIES:Bücherabend,Community
ATTACH;FMTTYPE=image/jpeg:https://elblandwerker.de/wp-content/uploads/2022/05/280951840_552091839779971_8975111743372162818_n-e1682839617697.jpg
END:VEVENT
BEGIN:VEVENT
DTSTART;TZID=Europe/Berlin:20250619T190000
DTEND;TZID=Europe/Berlin:20250619T220000
DTSTAMP:20260422T043634
CREATED:20240215T155909Z
LAST-MODIFIED:20251124T124105Z
UID:10001506-1750359600-1750370400@elblandwerker.de
SUMMARY:Büchersafari
DESCRIPTION:Jeden dritten Donnerstag im Monat treffen sich Bücherbegeisterte im Stadtsalon Safari. In gemütlicher Runde bei Saft und Rotwein werden Lieblingsstellen vorgelesen\, wird über literarische Vorlieben gesprochen oder einfach nur einander zugehört. Jedes Thema und jeder Geschmack sind willkommen.
URL:https://elblandwerker.de/veranstaltungen/buechersafari-4-3/2025-06-19/
LOCATION:Stadtsalon Safari\, Bismarckpl. 6\, Wittenberge\, 19322\, Deutschland
CATEGORIES:Bücherabend,Community
ATTACH;FMTTYPE=image/jpeg:https://elblandwerker.de/wp-content/uploads/2022/05/280951840_552091839779971_8975111743372162818_n-e1682839617697.jpg
END:VEVENT
BEGIN:VEVENT
DTSTART;TZID=Europe/Berlin:20250515T190000
DTEND;TZID=Europe/Berlin:20250515T220000
DTSTAMP:20260422T043634
CREATED:20240215T155909Z
LAST-MODIFIED:20251124T124105Z
UID:10001505-1747335600-1747346400@elblandwerker.de
SUMMARY:Büchersafari
DESCRIPTION:Jeden dritten Donnerstag im Monat treffen sich Bücherbegeisterte im Stadtsalon Safari. In gemütlicher Runde bei Saft und Rotwein werden Lieblingsstellen vorgelesen\, wird über literarische Vorlieben gesprochen oder einfach nur einander zugehört. Jedes Thema und jeder Geschmack sind willkommen.
URL:https://elblandwerker.de/veranstaltungen/buechersafari-4-3/2025-05-15/
LOCATION:Stadtsalon Safari\, Bismarckpl. 6\, Wittenberge\, 19322\, Deutschland
CATEGORIES:Bücherabend,Community
ATTACH;FMTTYPE=image/jpeg:https://elblandwerker.de/wp-content/uploads/2022/05/280951840_552091839779971_8975111743372162818_n-e1682839617697.jpg
END:VEVENT
BEGIN:VEVENT
DTSTART;TZID=Europe/Berlin:20250417T190000
DTEND;TZID=Europe/Berlin:20250417T220000
DTSTAMP:20260422T043634
CREATED:20240215T155909Z
LAST-MODIFIED:20251124T124105Z
UID:10001504-1744916400-1744927200@elblandwerker.de
SUMMARY:Büchersafari
DESCRIPTION:Jeden dritten Donnerstag im Monat treffen sich Bücherbegeisterte im Stadtsalon Safari. In gemütlicher Runde bei Saft und Rotwein werden Lieblingsstellen vorgelesen\, wird über literarische Vorlieben gesprochen oder einfach nur einander zugehört. Jedes Thema und jeder Geschmack sind willkommen.
URL:https://elblandwerker.de/veranstaltungen/buechersafari-4-3/2025-04-17/
LOCATION:Stadtsalon Safari\, Bismarckpl. 6\, Wittenberge\, 19322\, Deutschland
CATEGORIES:Bücherabend,Community
ATTACH;FMTTYPE=image/jpeg:https://elblandwerker.de/wp-content/uploads/2022/05/280951840_552091839779971_8975111743372162818_n-e1682839617697.jpg
END:VEVENT
BEGIN:VEVENT
DTSTART;TZID=Europe/Berlin:20250320T190000
DTEND;TZID=Europe/Berlin:20250320T220000
DTSTAMP:20260422T043634
CREATED:20240215T155909Z
LAST-MODIFIED:20251124T124105Z
UID:10001503-1742497200-1742508000@elblandwerker.de
SUMMARY:Büchersafari
DESCRIPTION:Jeden dritten Donnerstag im Monat treffen sich Bücherbegeisterte im Stadtsalon Safari. In gemütlicher Runde bei Saft und Rotwein werden Lieblingsstellen vorgelesen\, wird über literarische Vorlieben gesprochen oder einfach nur einander zugehört. Jedes Thema und jeder Geschmack sind willkommen.
URL:https://elblandwerker.de/veranstaltungen/buechersafari-4-3/2025-03-20/
LOCATION:Stadtsalon Safari\, Bismarckpl. 6\, Wittenberge\, 19322\, Deutschland
CATEGORIES:Bücherabend,Community
ATTACH;FMTTYPE=image/jpeg:https://elblandwerker.de/wp-content/uploads/2022/05/280951840_552091839779971_8975111743372162818_n-e1682839617697.jpg
END:VEVENT
BEGIN:VEVENT
DTSTART;TZID=Europe/Berlin:20250220T190000
DTEND;TZID=Europe/Berlin:20250220T220000
DTSTAMP:20260422T043634
CREATED:20240215T155909Z
LAST-MODIFIED:20251124T124105Z
UID:10001502-1740078000-1740088800@elblandwerker.de
SUMMARY:Büchersafari
DESCRIPTION:Jeden dritten Donnerstag im Monat treffen sich Bücherbegeisterte im Stadtsalon Safari. In gemütlicher Runde bei Saft und Rotwein werden Lieblingsstellen vorgelesen\, wird über literarische Vorlieben gesprochen oder einfach nur einander zugehört. Jedes Thema und jeder Geschmack sind willkommen.
URL:https://elblandwerker.de/veranstaltungen/buechersafari-4-3/2025-02-20/
LOCATION:Stadtsalon Safari\, Bismarckpl. 6\, Wittenberge\, 19322\, Deutschland
CATEGORIES:Bücherabend,Community
ATTACH;FMTTYPE=image/jpeg:https://elblandwerker.de/wp-content/uploads/2022/05/280951840_552091839779971_8975111743372162818_n-e1682839617697.jpg
END:VEVENT
BEGIN:VEVENT
DTSTART;TZID=Europe/Berlin:20250116T190000
DTEND;TZID=Europe/Berlin:20250116T220000
DTSTAMP:20260422T043634
CREATED:20240215T155909Z
LAST-MODIFIED:20251124T124105Z
UID:10001501-1737054000-1737064800@elblandwerker.de
SUMMARY:Büchersafari
DESCRIPTION:Jeden dritten Donnerstag im Monat treffen sich Bücherbegeisterte im Stadtsalon Safari. In gemütlicher Runde bei Saft und Rotwein werden Lieblingsstellen vorgelesen\, wird über literarische Vorlieben gesprochen oder einfach nur einander zugehört. Jedes Thema und jeder Geschmack sind willkommen.
URL:https://elblandwerker.de/veranstaltungen/buechersafari-4-3/2025-01-16/
LOCATION:Stadtsalon Safari\, Bismarckpl. 6\, Wittenberge\, 19322\, Deutschland
CATEGORIES:Bücherabend,Community
ATTACH;FMTTYPE=image/jpeg:https://elblandwerker.de/wp-content/uploads/2022/05/280951840_552091839779971_8975111743372162818_n-e1682839617697.jpg
END:VEVENT
BEGIN:VEVENT
DTSTART;TZID=Europe/Berlin:20241219T190000
DTEND;TZID=Europe/Berlin:20241219T220000
DTSTAMP:20260422T043634
CREATED:20240215T155909Z
LAST-MODIFIED:20251124T124105Z
UID:10001500-1734634800-1734645600@elblandwerker.de
SUMMARY:Büchersafari
DESCRIPTION:Jeden dritten Donnerstag im Monat treffen sich Bücherbegeisterte im Stadtsalon Safari. In gemütlicher Runde bei Saft und Rotwein werden Lieblingsstellen vorgelesen\, wird über literarische Vorlieben gesprochen oder einfach nur einander zugehört. Jedes Thema und jeder Geschmack sind willkommen.
URL:https://elblandwerker.de/veranstaltungen/buechersafari-4-3/2024-12-19/
LOCATION:Stadtsalon Safari\, Bismarckpl. 6\, Wittenberge\, 19322\, Deutschland
CATEGORIES:Bücherabend,Community
ATTACH;FMTTYPE=image/jpeg:https://elblandwerker.de/wp-content/uploads/2022/05/280951840_552091839779971_8975111743372162818_n-e1682839617697.jpg
END:VEVENT
BEGIN:VEVENT
DTSTART;TZID=Europe/Berlin:20241121T190000
DTEND;TZID=Europe/Berlin:20241121T220000
DTSTAMP:20260422T043634
CREATED:20240215T155909Z
LAST-MODIFIED:20251124T124105Z
UID:10001499-1732215600-1732226400@elblandwerker.de
SUMMARY:Büchersafari
DESCRIPTION:Jeden dritten Donnerstag im Monat treffen sich Bücherbegeisterte im Stadtsalon Safari. In gemütlicher Runde bei Saft und Rotwein werden Lieblingsstellen vorgelesen\, wird über literarische Vorlieben gesprochen oder einfach nur einander zugehört. Jedes Thema und jeder Geschmack sind willkommen.
URL:https://elblandwerker.de/veranstaltungen/buechersafari-4-3/2024-11-21/
LOCATION:Stadtsalon Safari\, Bismarckpl. 6\, Wittenberge\, 19322\, Deutschland
CATEGORIES:Bücherabend,Community
ATTACH;FMTTYPE=image/jpeg:https://elblandwerker.de/wp-content/uploads/2022/05/280951840_552091839779971_8975111743372162818_n-e1682839617697.jpg
END:VEVENT
BEGIN:VEVENT
DTSTART;TZID=Europe/Berlin:20241017T190000
DTEND;TZID=Europe/Berlin:20241017T220000
DTSTAMP:20260422T043634
CREATED:20240215T155909Z
LAST-MODIFIED:20251124T124105Z
UID:10001498-1729191600-1729202400@elblandwerker.de
SUMMARY:Büchersafari
DESCRIPTION:Jeden dritten Donnerstag im Monat treffen sich Bücherbegeisterte im Stadtsalon Safari. In gemütlicher Runde bei Saft und Rotwein werden Lieblingsstellen vorgelesen\, wird über literarische Vorlieben gesprochen oder einfach nur einander zugehört. Jedes Thema und jeder Geschmack sind willkommen.
URL:https://elblandwerker.de/veranstaltungen/buechersafari-4-3/2024-10-17/
LOCATION:Stadtsalon Safari\, Bismarckpl. 6\, Wittenberge\, 19322\, Deutschland
CATEGORIES:Bücherabend,Community
ATTACH;FMTTYPE=image/jpeg:https://elblandwerker.de/wp-content/uploads/2022/05/280951840_552091839779971_8975111743372162818_n-e1682839617697.jpg
END:VEVENT
BEGIN:VEVENT
DTSTART;TZID=Europe/Berlin:20240919T190000
DTEND;TZID=Europe/Berlin:20240919T220000
DTSTAMP:20260422T043634
CREATED:20240215T155909Z
LAST-MODIFIED:20251124T124105Z
UID:10001497-1726772400-1726783200@elblandwerker.de
SUMMARY:Büchersafari
DESCRIPTION:Jeden dritten Donnerstag im Monat treffen sich Bücherbegeisterte im Stadtsalon Safari. In gemütlicher Runde bei Saft und Rotwein werden Lieblingsstellen vorgelesen\, wird über literarische Vorlieben gesprochen oder einfach nur einander zugehört. Jedes Thema und jeder Geschmack sind willkommen.
URL:https://elblandwerker.de/veranstaltungen/buechersafari-4-3/2024-09-19/
LOCATION:Stadtsalon Safari\, Bismarckpl. 6\, Wittenberge\, 19322\, Deutschland
CATEGORIES:Bücherabend,Community
ATTACH;FMTTYPE=image/jpeg:https://elblandwerker.de/wp-content/uploads/2022/05/280951840_552091839779971_8975111743372162818_n-e1682839617697.jpg
END:VEVENT
BEGIN:VEVENT
DTSTART;TZID=Europe/Berlin:20240815T190000
DTEND;TZID=Europe/Berlin:20240815T220000
DTSTAMP:20260422T043634
CREATED:20240215T155909Z
LAST-MODIFIED:20251124T124105Z
UID:10001496-1723748400-1723759200@elblandwerker.de
SUMMARY:Büchersafari
DESCRIPTION:Jeden dritten Donnerstag im Monat treffen sich Bücherbegeisterte im Stadtsalon Safari. In gemütlicher Runde bei Saft und Rotwein werden Lieblingsstellen vorgelesen\, wird über literarische Vorlieben gesprochen oder einfach nur einander zugehört. Jedes Thema und jeder Geschmack sind willkommen.
URL:https://elblandwerker.de/veranstaltungen/buechersafari-4-3/2024-08-15/
LOCATION:Stadtsalon Safari\, Bismarckpl. 6\, Wittenberge\, 19322\, Deutschland
CATEGORIES:Bücherabend,Community
ATTACH;FMTTYPE=image/jpeg:https://elblandwerker.de/wp-content/uploads/2022/05/280951840_552091839779971_8975111743372162818_n-e1682839617697.jpg
END:VEVENT
BEGIN:VEVENT
DTSTART;TZID=Europe/Berlin:20240718T190000
DTEND;TZID=Europe/Berlin:20240718T220000
DTSTAMP:20260422T043634
CREATED:20240215T155909Z
LAST-MODIFIED:20251124T124105Z
UID:10001495-1721329200-1721340000@elblandwerker.de
SUMMARY:Büchersafari
DESCRIPTION:Jeden dritten Donnerstag im Monat treffen sich Bücherbegeisterte im Stadtsalon Safari. In gemütlicher Runde bei Saft und Rotwein werden Lieblingsstellen vorgelesen\, wird über literarische Vorlieben gesprochen oder einfach nur einander zugehört. Jedes Thema und jeder Geschmack sind willkommen.
URL:https://elblandwerker.de/veranstaltungen/buechersafari-4-3/2024-07-18/
LOCATION:Stadtsalon Safari\, Bismarckpl. 6\, Wittenberge\, 19322\, Deutschland
CATEGORIES:Bücherabend,Community
ATTACH;FMTTYPE=image/jpeg:https://elblandwerker.de/wp-content/uploads/2022/05/280951840_552091839779971_8975111743372162818_n-e1682839617697.jpg
END:VEVENT
BEGIN:VEVENT
DTSTART;TZID=Europe/Berlin:20240620T190000
DTEND;TZID=Europe/Berlin:20240620T220000
DTSTAMP:20260422T043634
CREATED:20240215T155909Z
LAST-MODIFIED:20251124T124105Z
UID:10001494-1718910000-1718920800@elblandwerker.de
SUMMARY:Büchersafari
DESCRIPTION:Jeden dritten Donnerstag im Monat treffen sich Bücherbegeisterte im Stadtsalon Safari. In gemütlicher Runde bei Saft und Rotwein werden Lieblingsstellen vorgelesen\, wird über literarische Vorlieben gesprochen oder einfach nur einander zugehört. Jedes Thema und jeder Geschmack sind willkommen.
URL:https://elblandwerker.de/veranstaltungen/buechersafari-4-3/2024-06-20/
LOCATION:Stadtsalon Safari\, Bismarckpl. 6\, Wittenberge\, 19322\, Deutschland
CATEGORIES:Bücherabend,Community
ATTACH;FMTTYPE=image/jpeg:https://elblandwerker.de/wp-content/uploads/2022/05/280951840_552091839779971_8975111743372162818_n-e1682839617697.jpg
END:VEVENT
BEGIN:VEVENT
DTSTART;TZID=Europe/Berlin:20240516T190000
DTEND;TZID=Europe/Berlin:20240516T220000
DTSTAMP:20260422T043634
CREATED:20240215T155909Z
LAST-MODIFIED:20251124T124105Z
UID:10001493-1715886000-1715896800@elblandwerker.de
SUMMARY:Büchersafari
DESCRIPTION:Jeden dritten Donnerstag im Monat treffen sich Bücherbegeisterte im Stadtsalon Safari. In gemütlicher Runde bei Saft und Rotwein werden Lieblingsstellen vorgelesen\, wird über literarische Vorlieben gesprochen oder einfach nur einander zugehört. Jedes Thema und jeder Geschmack sind willkommen.
URL:https://elblandwerker.de/veranstaltungen/buechersafari-4-3/2024-05-16/
LOCATION:Stadtsalon Safari\, Bismarckpl. 6\, Wittenberge\, 19322\, Deutschland
CATEGORIES:Bücherabend,Community
ATTACH;FMTTYPE=image/jpeg:https://elblandwerker.de/wp-content/uploads/2022/05/280951840_552091839779971_8975111743372162818_n-e1682839617697.jpg
END:VEVENT
BEGIN:VEVENT
DTSTART;TZID=Europe/Berlin:20240418T190000
DTEND;TZID=Europe/Berlin:20240418T220000
DTSTAMP:20260422T043634
CREATED:20240215T155909Z
LAST-MODIFIED:20251124T124105Z
UID:10001492-1713466800-1713477600@elblandwerker.de
SUMMARY:Büchersafari
DESCRIPTION:Jeden dritten Donnerstag im Monat treffen sich Bücherbegeisterte im Stadtsalon Safari. In gemütlicher Runde bei Saft und Rotwein werden Lieblingsstellen vorgelesen\, wird über literarische Vorlieben gesprochen oder einfach nur einander zugehört. Jedes Thema und jeder Geschmack sind willkommen.
URL:https://elblandwerker.de/veranstaltungen/buechersafari-4-3/2024-04-18/
LOCATION:Stadtsalon Safari\, Bismarckpl. 6\, Wittenberge\, 19322\, Deutschland
CATEGORIES:Bücherabend,Community
ATTACH;FMTTYPE=image/jpeg:https://elblandwerker.de/wp-content/uploads/2022/05/280951840_552091839779971_8975111743372162818_n-e1682839617697.jpg
END:VEVENT
BEGIN:VEVENT
DTSTART;TZID=Europe/Berlin:20240321T190000
DTEND;TZID=Europe/Berlin:20240321T220000
DTSTAMP:20260422T043634
CREATED:20240215T155909Z
LAST-MODIFIED:20251124T124105Z
UID:10000697-1711047600-1711058400@elblandwerker.de
SUMMARY:Büchersafari
DESCRIPTION:Jeden dritten Donnerstag im Monat treffen sich Bücherbegeisterte im Stadtsalon Safari. In gemütlicher Runde bei Saft und Rotwein werden Lieblingsstellen vorgelesen\, wird über literarische Vorlieben gesprochen oder einfach nur einander zugehört. Jedes Thema und jeder Geschmack sind willkommen.
URL:https://elblandwerker.de/veranstaltungen/buechersafari-4-3/2024-03-21/
LOCATION:Stadtsalon Safari\, Bismarckpl. 6\, Wittenberge\, 19322\, Deutschland
CATEGORIES:Bücherabend,Community
ATTACH;FMTTYPE=image/jpeg:https://elblandwerker.de/wp-content/uploads/2022/05/280951840_552091839779971_8975111743372162818_n-e1682839617697.jpg
END:VEVENT
BEGIN:VEVENT
DTSTART;TZID=Europe/Berlin:20240208T190000
DTEND;TZID=Europe/Berlin:20240208T220000
DTSTAMP:20260422T043634
CREATED:20240118T162307Z
LAST-MODIFIED:20240118T162316Z
UID:10000696-1707418800-1707429600@elblandwerker.de
SUMMARY:Büchersafari
DESCRIPTION:Ab Mai 2023 treffen sich jeden zweiten Donnerstag im Monat Bücherbegeisterte im Stadtsalon Safari. In gemütlicher Runde bei Saft und Rotwein werden Lieblingsstellen vorgelesen\, wird über literarische Vorlieben gesprochen oder einfach nur einander zugehört. Jedes Thema und jeder Geschmack sind willkommen.
URL:https://elblandwerker.de/veranstaltungen/buechersafari-4-2/
LOCATION:Safari Tivoli\, Tivolistraße 22\, Wittenberge\, 19322
CATEGORIES:Bücherabend
ATTACH;FMTTYPE=image/jpeg:https://elblandwerker.de/wp-content/uploads/2022/05/280951840_552091839779971_8975111743372162818_n-e1682839617697.jpg
END:VEVENT
BEGIN:VEVENT
DTSTART;TZID=Europe/Berlin:20240111T190000
DTEND;TZID=Europe/Berlin:20240111T220000
DTSTAMP:20260422T043634
CREATED:20230430T072432Z
LAST-MODIFIED:20230824T064124Z
UID:10000695-1704999600-1705010400@elblandwerker.de
SUMMARY:Büchersafari
DESCRIPTION:Ab Mai 2023 treffen sich jeden zweiten Donnerstag im Monat Bücherbegeisterte im Stadtsalon Safari. In gemütlicher Runde bei Saft und Rotwein werden Lieblingsstellen vorgelesen\, wird über literarische Vorlieben gesprochen oder einfach nur einander zugehört. Jedes Thema und jeder Geschmack sind willkommen.
URL:https://elblandwerker.de/veranstaltungen/buechersafari-4/2024-01-11/
LOCATION:Stadtsalon Safari\, Bismarckpl. 6\, Wittenberge\, 19322\, Deutschland
CATEGORIES:Bücherabend
ATTACH;FMTTYPE=image/jpeg:https://elblandwerker.de/wp-content/uploads/2022/05/280951840_552091839779971_8975111743372162818_n-e1682839617697.jpg
END:VEVENT
BEGIN:VEVENT
DTSTART;TZID=Europe/Berlin:20231214T190000
DTEND;TZID=Europe/Berlin:20231214T220000
DTSTAMP:20260422T043634
CREATED:20230430T072432Z
LAST-MODIFIED:20230824T064124Z
UID:10000694-1702580400-1702591200@elblandwerker.de
SUMMARY:Büchersafari
DESCRIPTION:Ab Mai 2023 treffen sich jeden zweiten Donnerstag im Monat Bücherbegeisterte im Stadtsalon Safari. In gemütlicher Runde bei Saft und Rotwein werden Lieblingsstellen vorgelesen\, wird über literarische Vorlieben gesprochen oder einfach nur einander zugehört. Jedes Thema und jeder Geschmack sind willkommen.
URL:https://elblandwerker.de/veranstaltungen/buechersafari-4/2023-12-14/
LOCATION:Stadtsalon Safari\, Bismarckpl. 6\, Wittenberge\, 19322\, Deutschland
CATEGORIES:Bücherabend
ATTACH;FMTTYPE=image/jpeg:https://elblandwerker.de/wp-content/uploads/2022/05/280951840_552091839779971_8975111743372162818_n-e1682839617697.jpg
END:VEVENT
BEGIN:VEVENT
DTSTART;TZID=Europe/Berlin:20231109T190000
DTEND;TZID=Europe/Berlin:20231109T220000
DTSTAMP:20260422T043634
CREATED:20230430T072432Z
LAST-MODIFIED:20230824T064124Z
UID:10000693-1699556400-1699567200@elblandwerker.de
SUMMARY:Büchersafari
DESCRIPTION:Ab Mai 2023 treffen sich jeden zweiten Donnerstag im Monat Bücherbegeisterte im Stadtsalon Safari. In gemütlicher Runde bei Saft und Rotwein werden Lieblingsstellen vorgelesen\, wird über literarische Vorlieben gesprochen oder einfach nur einander zugehört. Jedes Thema und jeder Geschmack sind willkommen.
URL:https://elblandwerker.de/veranstaltungen/buechersafari-4/2023-11-09/
LOCATION:Stadtsalon Safari\, Bismarckpl. 6\, Wittenberge\, 19322\, Deutschland
CATEGORIES:Bücherabend
ATTACH;FMTTYPE=image/jpeg:https://elblandwerker.de/wp-content/uploads/2022/05/280951840_552091839779971_8975111743372162818_n-e1682839617697.jpg
END:VEVENT
BEGIN:VEVENT
DTSTART;TZID=Europe/Berlin:20231012T190000
DTEND;TZID=Europe/Berlin:20231012T220000
DTSTAMP:20260422T043634
CREATED:20230430T072432Z
LAST-MODIFIED:20230824T064124Z
UID:10000692-1697137200-1697148000@elblandwerker.de
SUMMARY:Büchersafari
DESCRIPTION:Ab Mai 2023 treffen sich jeden zweiten Donnerstag im Monat Bücherbegeisterte im Stadtsalon Safari. In gemütlicher Runde bei Saft und Rotwein werden Lieblingsstellen vorgelesen\, wird über literarische Vorlieben gesprochen oder einfach nur einander zugehört. Jedes Thema und jeder Geschmack sind willkommen.
URL:https://elblandwerker.de/veranstaltungen/buechersafari-4/2023-10-12/
LOCATION:Stadtsalon Safari\, Bismarckpl. 6\, Wittenberge\, 19322\, Deutschland
CATEGORIES:Bücherabend
ATTACH;FMTTYPE=image/jpeg:https://elblandwerker.de/wp-content/uploads/2022/05/280951840_552091839779971_8975111743372162818_n-e1682839617697.jpg
END:VEVENT
END:VCALENDAR