BEGIN:VCALENDAR
VERSION:2.0
PRODID:-//elblandwerker* - ECPv6.15.20//NONSGML v1.0//EN
CALSCALE:GREGORIAN
METHOD:PUBLISH
X-ORIGINAL-URL:https://elblandwerker.de
X-WR-CALDESC:Veranstaltungen für elblandwerker*
REFRESH-INTERVAL;VALUE=DURATION:PT1H
X-Robots-Tag:noindex
X-PUBLISHED-TTL:PT1H
BEGIN:VTIMEZONE
TZID:Europe/Berlin
BEGIN:DAYLIGHT
TZOFFSETFROM:+0100
TZOFFSETTO:+0200
TZNAME:CEST
DTSTART:20240331T010000
END:DAYLIGHT
BEGIN:STANDARD
TZOFFSETFROM:+0200
TZOFFSETTO:+0100
TZNAME:CET
DTSTART:20241027T010000
END:STANDARD
BEGIN:DAYLIGHT
TZOFFSETFROM:+0100
TZOFFSETTO:+0200
TZNAME:CEST
DTSTART:20250330T010000
END:DAYLIGHT
BEGIN:STANDARD
TZOFFSETFROM:+0200
TZOFFSETTO:+0100
TZNAME:CET
DTSTART:20251026T010000
END:STANDARD
BEGIN:DAYLIGHT
TZOFFSETFROM:+0100
TZOFFSETTO:+0200
TZNAME:CEST
DTSTART:20260329T010000
END:DAYLIGHT
BEGIN:STANDARD
TZOFFSETFROM:+0200
TZOFFSETTO:+0100
TZNAME:CET
DTSTART:20261025T010000
END:STANDARD
BEGIN:DAYLIGHT
TZOFFSETFROM:+0100
TZOFFSETTO:+0200
TZNAME:CEST
DTSTART:20270328T010000
END:DAYLIGHT
BEGIN:STANDARD
TZOFFSETFROM:+0200
TZOFFSETTO:+0100
TZNAME:CET
DTSTART:20271031T010000
END:STANDARD
END:VTIMEZONE
BEGIN:VEVENT
DTSTART;TZID=Europe/Berlin:20260401T180000
DTEND;TZID=Europe/Berlin:20260401T200000
DTSTAMP:20260422T123617
CREATED:20250530T105207Z
LAST-MODIFIED:20251218T111551Z
UID:10005077-1775066400-1775073600@elblandwerker.de
SUMMARY:Kommunikations-Workshop: ProPalaver
DESCRIPTION:In einer Zeit zunehmender gesellschaftlicher Spaltung und Polarisierung vermittelt der Kommunikations-Workshop „ProPalaver“ wertvolle Werkzeuge für respektvolle Gespräche. \nKai Helm und Ali Wichmann – erfahrene Theatermacher – zeigen praxisnah\, wie man Eskalationen vermeidet\, eigene Positionen klarer erkennt und andere Perspektiven besser versteht. Dabei kommen bewährte Theatermethoden zum Einsatz\, die die Teilnehmenden in die Lage versetzen\, Diskriminierungen\, rechte Parolen\, rassistische Aussagen oder Verschwörungstheorien im Alltag souverän zu begegnen. Gemeinsam werden Alltagssituationen entwickelt\, in denen solche Themen eine Rolle spielen. \nZiel des Workshops ist es\, gemeinsam zu lernen\, wie man Haltung zeigt\, Gespräche lenkt und sich in verbalen Auseinandersetzungen entspannter und strategischer verhält. Vorkenntnisse sind nicht erforderlich\, der Workshop ist für maximal 14 Teilnehmende geeignet. \nJeden ersten Mittwoch im Monat von 18:00 – 20:00 Uhr im Mehrgenerationenhaus Wittenberge. \nDie Teilnahme ist kostenfrei. Um Anmeldung wird gebeten unter: PropalaverAnmeldung@gmx.de \nOrganisiert vom Gemeinschafts- & BildungsRaum Elbgarten Wittenberge e.V. und gefördert im Rahmen des Bundesprogramms „Demokratie Leben!“.
URL:https://elblandwerker.de/veranstaltungen/kommunikations-workshop-propalaver-2/2026-04-01/
LOCATION:Mehrgenerationenhaus Wittenberge\, Bürgermeister-Jahn-Str. 21\, Wittenberge\, 19322\, Germany
CATEGORIES:Demokratie,Engagement,Leben,Workshop
ATTACH;FMTTYPE=image/png:https://elblandwerker.de/wp-content/uploads/2025/05/elblandwerker-workshop-kommunikation-ProPalaver-1-1.png
END:VEVENT
BEGIN:VEVENT
DTSTART;TZID=Europe/Berlin:20260304T180000
DTEND;TZID=Europe/Berlin:20260304T200000
DTSTAMP:20260422T123617
CREATED:20250530T105207Z
LAST-MODIFIED:20251218T111551Z
UID:10005076-1772647200-1772654400@elblandwerker.de
SUMMARY:Kommunikations-Workshop: ProPalaver
DESCRIPTION:In einer Zeit zunehmender gesellschaftlicher Spaltung und Polarisierung vermittelt der Kommunikations-Workshop „ProPalaver“ wertvolle Werkzeuge für respektvolle Gespräche. \nKai Helm und Ali Wichmann – erfahrene Theatermacher – zeigen praxisnah\, wie man Eskalationen vermeidet\, eigene Positionen klarer erkennt und andere Perspektiven besser versteht. Dabei kommen bewährte Theatermethoden zum Einsatz\, die die Teilnehmenden in die Lage versetzen\, Diskriminierungen\, rechte Parolen\, rassistische Aussagen oder Verschwörungstheorien im Alltag souverän zu begegnen. Gemeinsam werden Alltagssituationen entwickelt\, in denen solche Themen eine Rolle spielen. \nZiel des Workshops ist es\, gemeinsam zu lernen\, wie man Haltung zeigt\, Gespräche lenkt und sich in verbalen Auseinandersetzungen entspannter und strategischer verhält. Vorkenntnisse sind nicht erforderlich\, der Workshop ist für maximal 14 Teilnehmende geeignet. \nJeden ersten Mittwoch im Monat von 18:00 – 20:00 Uhr im Mehrgenerationenhaus Wittenberge. \nDie Teilnahme ist kostenfrei. Um Anmeldung wird gebeten unter: PropalaverAnmeldung@gmx.de \nOrganisiert vom Gemeinschafts- & BildungsRaum Elbgarten Wittenberge e.V. und gefördert im Rahmen des Bundesprogramms „Demokratie Leben!“.
URL:https://elblandwerker.de/veranstaltungen/kommunikations-workshop-propalaver-2/2026-03-04/
LOCATION:Mehrgenerationenhaus Wittenberge\, Bürgermeister-Jahn-Str. 21\, Wittenberge\, 19322\, Germany
CATEGORIES:Demokratie,Engagement,Leben,Workshop
ATTACH;FMTTYPE=image/png:https://elblandwerker.de/wp-content/uploads/2025/05/elblandwerker-workshop-kommunikation-ProPalaver-1-1.png
END:VEVENT
BEGIN:VEVENT
DTSTART;TZID=Europe/Berlin:20260213T140000
DTEND;TZID=Europe/Berlin:20260213T160000
DTSTAMP:20260422T123617
CREATED:20260201T152258Z
LAST-MODIFIED:20260201T152357Z
UID:10005919-1770991200-1770998400@elblandwerker.de
SUMMARY:Vortrag: Seltene Obstsorten
DESCRIPTION:Vortrag: Hasenkopf und Butterbirne • Schätze unserer Gärten\, Wege & Obstwiesen • Verwendung\, Herkunft\, Erhaltung. \nReferentin: Urte Delft \nEintritt frei | Spenden erbeten \n»Viele kleine Leute an vielen kleinen Orten\, die viele kleine Dinge tun\, können das Gesicht der Welt verändern.« Afrikanisches Sprichwort
URL:https://elblandwerker.de/veranstaltungen/vortrag-seltene-obstsorten/
LOCATION:Marthas Tisch\, Bahnstrasse 34\, Wittenberge\, 19322\, Germany
CATEGORIES:Bildung,Leben,Natur
ATTACH;FMTTYPE=image/jpeg:https://elblandwerker.de/wp-content/uploads/2026/02/elblandwerker-vortrag-elbgarten.jpg
END:VEVENT
BEGIN:VEVENT
DTSTART;TZID=Europe/Berlin:20260204T180000
DTEND;TZID=Europe/Berlin:20260204T200000
DTSTAMP:20260422T123617
CREATED:20250530T105207Z
LAST-MODIFIED:20251218T111551Z
UID:10005075-1770228000-1770235200@elblandwerker.de
SUMMARY:Kommunikations-Workshop: ProPalaver
DESCRIPTION:In einer Zeit zunehmender gesellschaftlicher Spaltung und Polarisierung vermittelt der Kommunikations-Workshop „ProPalaver“ wertvolle Werkzeuge für respektvolle Gespräche. \nKai Helm und Ali Wichmann – erfahrene Theatermacher – zeigen praxisnah\, wie man Eskalationen vermeidet\, eigene Positionen klarer erkennt und andere Perspektiven besser versteht. Dabei kommen bewährte Theatermethoden zum Einsatz\, die die Teilnehmenden in die Lage versetzen\, Diskriminierungen\, rechte Parolen\, rassistische Aussagen oder Verschwörungstheorien im Alltag souverän zu begegnen. Gemeinsam werden Alltagssituationen entwickelt\, in denen solche Themen eine Rolle spielen. \nZiel des Workshops ist es\, gemeinsam zu lernen\, wie man Haltung zeigt\, Gespräche lenkt und sich in verbalen Auseinandersetzungen entspannter und strategischer verhält. Vorkenntnisse sind nicht erforderlich\, der Workshop ist für maximal 14 Teilnehmende geeignet. \nJeden ersten Mittwoch im Monat von 18:00 – 20:00 Uhr im Mehrgenerationenhaus Wittenberge. \nDie Teilnahme ist kostenfrei. Um Anmeldung wird gebeten unter: PropalaverAnmeldung@gmx.de \nOrganisiert vom Gemeinschafts- & BildungsRaum Elbgarten Wittenberge e.V. und gefördert im Rahmen des Bundesprogramms „Demokratie Leben!“.
URL:https://elblandwerker.de/veranstaltungen/kommunikations-workshop-propalaver-2/2026-02-04/
LOCATION:Mehrgenerationenhaus Wittenberge\, Bürgermeister-Jahn-Str. 21\, Wittenberge\, 19322\, Germany
CATEGORIES:Demokratie,Engagement,Leben,Workshop
ATTACH;FMTTYPE=image/png:https://elblandwerker.de/wp-content/uploads/2025/05/elblandwerker-workshop-kommunikation-ProPalaver-1-1.png
END:VEVENT
BEGIN:VEVENT
DTSTART;TZID=Europe/Berlin:20260107T180000
DTEND;TZID=Europe/Berlin:20260107T200000
DTSTAMP:20260422T123617
CREATED:20250530T105207Z
LAST-MODIFIED:20251218T111551Z
UID:10005045-1767808800-1767816000@elblandwerker.de
SUMMARY:Kommunikations-Workshop: ProPalaver
DESCRIPTION:In einer Zeit zunehmender gesellschaftlicher Spaltung und Polarisierung vermittelt der Kommunikations-Workshop „ProPalaver“ wertvolle Werkzeuge für respektvolle Gespräche. \nKai Helm und Ali Wichmann – erfahrene Theatermacher – zeigen praxisnah\, wie man Eskalationen vermeidet\, eigene Positionen klarer erkennt und andere Perspektiven besser versteht. Dabei kommen bewährte Theatermethoden zum Einsatz\, die die Teilnehmenden in die Lage versetzen\, Diskriminierungen\, rechte Parolen\, rassistische Aussagen oder Verschwörungstheorien im Alltag souverän zu begegnen. Gemeinsam werden Alltagssituationen entwickelt\, in denen solche Themen eine Rolle spielen. \nZiel des Workshops ist es\, gemeinsam zu lernen\, wie man Haltung zeigt\, Gespräche lenkt und sich in verbalen Auseinandersetzungen entspannter und strategischer verhält. Vorkenntnisse sind nicht erforderlich\, der Workshop ist für maximal 14 Teilnehmende geeignet. \nJeden ersten Mittwoch im Monat von 18:00 – 20:00 Uhr im Mehrgenerationenhaus Wittenberge. \nDie Teilnahme ist kostenfrei. Um Anmeldung wird gebeten unter: PropalaverAnmeldung@gmx.de \nOrganisiert vom Gemeinschafts- & BildungsRaum Elbgarten Wittenberge e.V. und gefördert im Rahmen des Bundesprogramms „Demokratie Leben!“.
URL:https://elblandwerker.de/veranstaltungen/kommunikations-workshop-propalaver-2/2026-01-07/
LOCATION:Mehrgenerationenhaus Wittenberge\, Bürgermeister-Jahn-Str. 21\, Wittenberge\, 19322\, Germany
CATEGORIES:Demokratie,Engagement,Leben,Workshop
ATTACH;FMTTYPE=image/png:https://elblandwerker.de/wp-content/uploads/2025/05/elblandwerker-workshop-kommunikation-ProPalaver-1-1.png
END:VEVENT
BEGIN:VEVENT
DTSTART;TZID=Europe/Berlin:20250613T150000
DTEND;TZID=Europe/Berlin:20250613T200000
DTSTAMP:20260422T123617
CREATED:20250530T105207Z
LAST-MODIFIED:20250602T183420Z
UID:10003664-1749826800-1749844800@elblandwerker.de
SUMMARY:Kommunikations-Workshop: ProPalaver
DESCRIPTION:In einer Zeit zunehmender gesellschaftlicher Spaltung und Polarisierung vermittelt der Kommunikations-Workshop „ProPalaver“ wertvolle Werkzeuge für respektvolle Gespräche. Organisiert vom Gemeinschafts- & BildungsRaum Elbgarten Wittenberge e.V. in Kooperation mit „Demokratie Leben!“ und unterstützt vom Initiativenfonds Aktionsbündnis Brandenburg\, richtet sich der Workshop an alle\, die sich als aktive Menschen in einer lebendigen Zivilgesellschaft verstehen. \nKai Helm und Ali Wichmann – erfahrene Theatermacher – zeigen praxisnah\, wie man Eskalationen vermeidet\, eigene Positionen klarer erkennt und andere Perspektiven besser versteht. Dabei kommen bewährte Theatermethoden zum Einsatz\, die die Teilnehmenden in die Lage versetzen\, Diskriminierungen\, rechte Parolen\, rassistische Aussagen oder Verschwörungstheorien im Alltag souverän zu begegnen. Gemeinsam werden Alltagssituationen entwickelt\, in denen solche Themen eine Rolle spielen. \nZiel des Workshops ist es\, gemeinsam zu lernen\, wie man Haltung zeigt\, Gespräche lenkt und sich in verbalen Auseinandersetzungen entspannter und strategischer verhält. Vorkenntnisse sind nicht erforderlich\, der Workshop ist für maximal 14 Teilnehmende geeignet. \nDie Teilnahme ist kostenfrei. Um Anmeldung wird gebeten unter: gesageiger@gmx.de \nGefördert durch miteinanderreden.net.
URL:https://elblandwerker.de/veranstaltungen/kommunikations-workshop-propalaver/
LOCATION:Marthas Tisch\, Bahnstrasse 34\, Wittenberge\, 19322\, Germany
CATEGORIES:Bildung,Demokratie,Workshop
ATTACH;FMTTYPE=image/png:https://elblandwerker.de/wp-content/uploads/2025/05/elblandwerker-workshop-kommunikation-ProPalaver-1.png
END:VEVENT
END:VCALENDAR